Workbook

Sheet START
B3: Gmina Strzelce Opolskie
B4: Plac Myśliwca 1
B5: 47-100 Strzelce Opolskie
B7: Budżet 2024 :: rejestr zmian
B9: Uchwała Nr LXXV/617/2023 Rady Miejskiej w Strzelcach Opolskich z dnia 20 grudnia 2023 r.
B10: w sprawie uchwały budżetowej gminy Strzelce Opolskie na 2024 rok z późn. zm.
B13: Opracowanie: | D13: Adam Kiwka
D14: a.kiwka@strzelceopolskie.eu
D15: Skarbnik Gminy
D17: Tel. +48 77 404 93 30 | Fax +48 77 461 44 22
D20: Joanna Smyła
D21: j.smyla@strzelceopolskie.eu
D22: Zastępca Skarbnika Gminy
D24: Tel. +48 77 404 93 35 | Fax +48 77 461 44 22
D29: #b24 #budzetso2024 #gminastrzelceopolskie

Sheet Budżet 2024 - Dochody
A1: ZMIANY W DOCHODACH BUDŻETU GMINY STRZELCE OPOLSKIE W 2024 ROKU
A2: Dokument | B2: Data | C2: Kwota ogółem | D2: w tym:
D3: ZADANIA WŁASNE | E3: ZADANIA ZLECONE | F3: ZADANIA POWIERZONE
A4: 1 | B4: 2 | C4: 3 | D4: 4 | E4: 5 | F4: 6
A5: OGÓŁEM PO ZMIANACH | B5: x | C5: =SUM(C6:C198) -> 2.2872523e+08 | D5: =SUM(D6:D198) -> 2.1096391e+08 | E5: =SUM(E6:E198) -> 17563808 | F5: =SUM(F6:F198) -> 197517.24
A6: Uchwała RM LXXV/617/2023 | B6: 45280 | C6: =SUM(D6:F6) -> 184865000 | D6: 173481813 | E6: 11300975 | F6: 82212
A7: Zarządzenie Nr 19/2024 | B7: 45309 | C7: =SUM(D7:F7) -> 89550.07 | D7: 89550.07 | E7: 0 | F7: 0
A8: Zarządzenie Nr 28/2024 | B8: 45321 | C8: =SUM(D8:F8) -> 192346 | D8: 192346 | E8: 0 | F8: 0
A9: Zarządzenie Nr 29/2024 | B9: 45321 | C9: =SUM(D9:F9) -> 4123.71 | D9: 0 | E9: 4123.71 | F9: 0
A10: Zarządzenie Nr 30/2024 | B10: 45322 | C10: =SUM(D10:F10) -> 185100 | D10: 185100 | E10: 0 | F10: 0
A11: Zarządzenie Nr 39/2024 | B11: 45328 | C11: =SUM(D11:F11) -> 7405.32 | D11: 7405.32 | E11: 0 | F11: 0
A12: Zarządzenie Nr 41/2024 | B12: 45334 | C12: =SUM(D12:F12) -> 146707 | D12: 0 | E12: 146707 | F12: 0
A13: Zarządzenie Nr 44/2024 | B13: 45335 | C13: =SUM(D13:F13) -> 53023 | D13: 53023 | E13: 0 | F13: 0
A14: Zarządzenie Nr 49/2024 | B14: 45344 | C14: =SUM(D14:F14) -> 36960 | D14: 36960 | E14: 0 | F14: 0
A15: Zarządzenie Nr 55/2024 | B15: 45351 | C15: =SUM(D15:F15) -> 10757443 | D15: 10757443 | E15: 0 | F15: 0
A16: Zarządzenie Nr 56/2024 | B16: 45351 | C16: =SUM(D16:F16) -> 147661.92 | D16: 147661.92 | E16: 0 | F16: 0
A17: Zarządzenie Nr 57/2024 | B17: 45351 | C17: =SUM(D17:F17) -> 106247.7 | D17: 0 | E17: 106247.7 | F17: 0
... A72: Zarządzenie Nr 233/2024 | B72: 45657 | C72: =SUM(D72:F72) -> 336240.2 | D72: 336240.2 | E72: 0 | F72: 0

Sheet Budżet 2024 - Wydatki
A1: ZMIANY W WYDATKACH BUDŻETU GMINY STRZELCE OPOLSKIE W 2024 ROKU
A2: Dokument | B2: Data | C2: Kwota ogółem | D2: w tym:
D3: ZADANIA WŁASNE | E3: ZADANIA ZLECONE | F3: ZADANIA POWIERZONE
A4: 1 | B4: 2 | C4: 3 | D4: 4 | E4: 5 | F4: 6
A5: OGÓŁEM PO ZMIANACH | B5: x | C5: =SUM(C6:C200) -> 2.4642341e+08 | D5: =SUM(D6:D200) -> 2.285843e+08 | E5: =SUM(E6:E200) -> 17563808 | F5: =SUM(F6:F200) -> 275305.24
A6: Uchwała RM LXXV/617/2023 | B6: 45280 | C6: =SUM(D6:F6) -> 202620000 | D6: 191159025 | E6: 11300975 | F6: 160000
A7: Zarządzenie Nr 8/2024 | B7: 45296 | C7: =SUM(D7:F7) -> 0 | D7: 0 | E7: 0 | F7: 0
A8: Zarządzenie Nr 19/2024 | B8: 45309 | C8: =SUM(D8:F8) -> 89550.07 | D8: 89550.07 | E8: 0 | F8: 0
A9: Zarządzenie Nr 26/2024 | B9: 45317 | C9: =SUM(D9:F9) -> 0 | D9: 0 | E9: 0 | F9: 0
A10: Zarządzenie Nr 28/2024 | B10: 45321 | C10: =SUM(D10:F10) -> 192346 | D10: 192346 | E10: 0 | F10: 0
A11: Zarządzenie Nr 29/2024 | B11: 45321 | C11: =SUM(D11:F11) -> 4123.71 | D11: 0 | E11: 4123.71 | F11: 0
A12: Zarządzenie Nr 30/2024 | B12: 45322 | C12: =SUM(D12:F12) -> 9321164 | D12: 9321164 | E12: 0 | F12: 0
A13: Zarządzenie Nr 36/2024 | B13: 45327 | C13: =SUM(D13:F13) -> 0 | D13: 0 | E13: 0 | F13: 0
A14: Zarządzenie Nr 39/2024 | B14: 45328 | C14: =SUM(D14:F14) -> 7405.32 | D14: 7405.32 | E14: 0 | F14: 0
A15: Zarządzenie Nr 41/2024 | B15: 45334 | C15: =SUM(D15:F15) -> 146707 | D15: 0 | E15: 146707 | F15: 0
A16: Zarządzenie Nr 44/2024 | B16: 45335 | C16: =SUM(D16:F16) -> 53023 | D16: 53023 | E16: 0 | F16: 0
A17: Zarządzenie Nr 47/2024 | B17: 45342 | C17: =SUM(D17:F17) -> 0 | D17: 0 | E17: 0 | F17: 0
... A102: Zarządzenie Nr 234/2024 | B102: 45657 | C102: =SUM(D102:F102) -> 0 | D102: 0 | E102: 0 | F102: 0

Sheet Budżet 2024 - po zmianach
CU1: w złotych
A2: Wyszczególnienie | B2: Budżet na 2024 rok wg URMSO Nr LXXV/617/2023 z dnia 20.12.2023 r. | C2: Zarządzenie Nr 8/2024 BSO z dnia 5.01.2024 r. [ZmNr01] [W] WYS:20240111 UPO:20240111 | D2: Zarządzenie Nr 19/2024 BSO z dnia 18.01.2024 r. [ZmNr02] [B] WYS:20240124 UPO:20240124 | E2: Zarządzenie Nr 26/2024 BSO z dnia 26.01.2024 r. [ZmNr03] [W] WYS:20240201 UPO:20240201 | F2: Zarządzenie Nr 28/2024 BSO z dnia 30.01.2024 r. [ZmNr04] [B] WYS:20240205 UPO:20240205 | G2: Zarządzenie Nr 29/2024 BSO z dnia 30.01.2024 r. [ZmNr05] [D] WYS:20240206 UPO:20240206 | H2: URMSO Nr LXXVII/633/2024 z dnia 31.01.2024 r. [ZmNr06] | I2: Zarządzenie Nr 36/2024 BSO z dnia 5.02.2024 r. [ZmNr07] [W] WYS:20240212 UPO:20240212 | J2: Zarządzenie Nr 39/2024 BSO z dnia 6.02.2024 r. [ZmNr08] [B] WYS:20240213 UPO:20240213 | K2: Zarządzenie Nr 41/2024 BSO z dnia 12.02.2024 r. [ZmNr09] [D] WYS:20240216 UPO:20240216 | L2: Zarządzenie Nr 44/2024 BSO z dnia 13.02.2024 r. [ZmNr10] [B] WYS:20240220 UPO:20240220 | M2: Zarządzenie Nr 47/2024 BSO z dnia 20.02.2024 r. [ZmNr11] [W] WYS:20240225 UPO:20240225 | N2: Zarządzenie Nr 49/2024 BSO z dnia 22.02.2024 r. [ZmNr12] [B] WYS:20240225 UPO:20240225 | O2: URMSO Nr LXXVIII/640/2024 z dnia 28.02.2024 r. [ZmNr13] | P2: Zarządzenie Nr 56/2024 BSO z dnia 29.02.2024 r. [ZmNr14] [B] WYS:20240306 UPO:20240306 | Q2: Zarządzenie Nr 57/2024 BSO z dnia 29.02.2024 r. [ZmNr15] [D] WYS:20240306 UPO:20240306 | R2: Zarządzenie Nr 58/2024 BSO z dnia 29.02.2024 r. [ZmNr16] [W] WYS:20240307 UPO:20240307 | S2: Zarządzenie Nr 60/2024 BSO z dnia 7.03.2024 r. [ZmNr17] [W] WYS:20240313 UPO:20240313 | T2: Zarządzenie Nr 61/2024 BSO z dnia 7.03.2024 r. [ZmNr18] [B] WYS:20240314 UPO:20240314 | U2: Zarządzenie Nr 67/2024 BSO z dnia 18.03.2024 r. [ZmNr19] [W] WYS:20240321 UPO:20240321 | V2: Zarządzenie Nr 71/2024 BSO z dnia 26.03.2024 r. [ZmNr20] [D] WYS:20240402 UPO:20240402 | W2: URMSO Nr LXXIX/648/2024 z dnia 27.03.2024 r. [ZmNr21] | X2: Zarządzenie Nr 74/2024 BSO z dnia 28.03.2024 r. [ZmNr22] [B] WYS:20240416 UPO:20240416 | Y2: Zarządzenie Nr 88/2024 BSO z dnia 4.04.2024 r. [ZmNr23] [W] WYS:20240418 UPO:20240418 | Z2: Zarządzenie Nr 89/2024 BSO z dnia 5.04.2024 r. [ZmNr24] [D] WYS:20240419 UPO:20240419 | AA2: Zarządzenie Nr 90/2024 BSO z dnia 9.04.2024 r. [ZmNr25] [B] WYS:20240422 UPO:20240422 | AB2: Zarządzenie Nr 98/2024 BSO z dnia 15.04.2024 r. [ZmNr26] [D] WYS:20240428 UPO:20240428 | AC2: Zarządzenie Nr 109/2024 BSO z dnia 23.04.2024 r. [ZmNr27] [B] WYS:20240430 UPO:20240430 | AD2: Zarządzenie Nr 111/2024 BSO z dnia 25.04.2024 r. [ZmNr28] [D] WYS:20240506 UPO:20240506 | AE2: URMSO Nr LXXXI/660/2024 z dnia 29.04.2024 r. [ZmNr29] | AF2: Zarządzenie Nr 113/2024 BSO z dnia 30.04.2024 r. [ZmNr30] [B] WYS:20240506 UPO:20240506 | AG2: Zarządzenie Nr 114/2024 BSO z dnia 30.04.2024 r. [ZmNr31] [D] WYS:20240506 UPO:20240506 | AH2: Zarządzenie Nr 115/2024 BSO z dnia 30.04.2024 r. [ZmNr32] [W] WYS:20240507 UPO:20240507 | AI2: Zarządzenie Nr 1/2024 BSO z dnia 15.05.2024 r. [ZmNr33] [B] WYS:20240520 UPO:20240520 | AJ2: Zarządzenie Nr 2/2024 BSO z dnia 15.05.2024 r. [ZmNr34] [W] WYS:20240522 UPO:20240522 | AK2: Zarządzenie Nr 18/2024 BSO z dnia 21.05.2024 r. [ZmNr35] [B] WYS:20240528 UPO:20240528 | AL2: URMSO Nr III/13/2024 z dnia 29.05.2024 r. [ZmNr36] | AM2: Zarządzenie Nr 23/2024 BSO z dnia 31.05.2024 r. [ZmNr37] [B] WYS:20240605 UPO:20240605 | AN2: Zarządzenie Nr 24/2024 BSO z dnia 31.05.2024 r. [ZmNr38] [W] WYS:20240606 UPO:20240606 | AO2: Zarządzenie Nr 25/2024 BSO z dnia 31.05.2024 r. [ZmNr39] [D] WYS:20240606 UPO:20240606 | AP2: Zarządzenie Nr 39/2024 BSO z dnia 06.06.2024 r. [ZmNr40] [B] WYS:20240612 UPO:20240612 | AQ2: Zarządzenie Nr 40/2024 BSO z dnia 06.06.2024 r. [ZmNr41] [D] WYS:20240612 UPO:20240612 | AR2: Zarządzenie Nr 44/2024 BSO z dnia 18.06.2024 r. [ZmNr42] [B] WYS:20240624 UPO:20240624 | AS2: Zarządzenie Nr 45/2024 BSO z dnia18.06.2024 r. [ZmNr43] [D] WYS:20240624 UPO:20240624 | AT2: Zarządzenie Nr 51/2024 BSO z dnia 21.06.2024 r. [ZmNr44] [W] WYS:20240627 UPO:20240627 | AU2: URMSO Nr V/26/2024 z dnia 27.06.2024 r. [ZmNr45] | AV2: Zarządzenie Nr 62/2024 BSO z dnia 28.06.2024 r. [ZmNr46] [B] WYS:20240702 UPO:20240702 | AW2: Zarządzenie Nr 64/2024 BSO z dnia 28.06.2024 r. [ZmNr47] [W] WYS:20240702 UPO:20240702 | AX2: Zarządzenie Nr 65/2024 BSO z dnia28.06.2024 r. [ZmNr48] [D] WYS:20240702 UPO:20240702 | AY2: Zarządzenie Nr 88/2024 BSO z dnia 09.07.2024 r. [ZmNr49] [D] WYS:20240715 UPO:20240715 | AZ2: Zarządzenie Nr 91/2024 BSO z dnia 16.07.2024 r. [ZmNr50] [B] WYS:20240719 UPO:20240719 | BA2: URMSO Nr VI/37/2024 z dnia 25.07.2024 r. [ZmNr51] | BB2: Zarządzenie Nr 102/2024 BSO z dnia 26.07.2024 r. [ZmNr52] [D] WYS:20240726 UPO:20240726 | BC2: Zarządzenie Nr 103/2024 BSO z dnia 26.07.2024 r. [ZmNr53] [W] WYS:20240726 UPO:20240726 | BD2: Zarządzenie Nr 104/2024 BSO z dnia 26.07.2024 r. [ZmNr54] [B] WYS:20240726 UPO:20240726 | BE2: Zarządzenie Nr 111/2024 BSO z dnia 13.08.2024 r. [ZmNr55] [B] WYS:20240819 UPO:20240819 | BF2: Zarządzenie Nr 112/2024 BSO z dnia 13.08.2024 r. [ZmNr56] [D] WYS:20240819 UPO:20240819 | BG2: Zarządzenie Nr 115/2024 BSO z dnia 19.08.2024 r. [ZmNr57] [W] WYS:20240821 UPO:20240821 | BH2: Zarządzenie Nr 116/2024 BSO z dnia 19.08.2024 r. [ZmNr58] [R] WYS:20240821 UPO:20240821 | BI2: Zarządzenie Nr 119/2024 BSO z dnia 27.08.2024 r. [ZmNr59] [B] WYS:20240902 UPO:20240902 | BJ2: Zarządzenie Nr 120/2024 BSO z dnia 27.08.2024 r. [ZmNr60] [D] WYS:20240902 UPO:20240902 | BK2: Zarządzenie Nr 127/2024 BSO z dnia 30.08.2024 r. [ZmNr61] [W] WYS:20240905 UPO:20240905 | BL2: Zarządzenie Nr 128/2024 BSO z dnia 30.08.2024 r. [ZmNr62] [R] WYS:20240905 UPO:20240905 | BM2: Zarządzenie Nr 132/2024 BSO z dnia 06.09.2024 r. [ZmNr63] [W] WYS:20240912 UPO:20240912 | BN2: Zarządzenie Nr 134/2024 BSO z dnia 13.09.2024 r. [ZmNr64] [W] WYS:20240918 UPO:20240918 | BO2: Zarządzenie Nr 135/2024 BSO z dnia 16.09.2024 r. [ZmNr65] [B] WYS:20240918 UPO:20240918 | BP2: Zarządzenie Nr 136/2024 BSO z dnia 16.09.2024 r. [ZmNr66] [D] WYS:20240918 UPO:20240918 | BQ2: URMSO Nr VII/42/2024 z dnia 26.09.2024 r. [ZmNr67] | BR2: Zarządzenie Nr 154/2024 BSO z dnia 27.09.2024 r. [ZmNr68] [B] WYS:20240930 UPO:20240930 | BS2: Zarządzenie Nr 155/2024 BSO z dnia 27.09.2024 r. [ZmNr69] [D] WYS:20240930 UPO:20240930 | BT2: Zarządzenie Nr 156/2024 BSO z dnia 27.09.2024 r. [ZmNr70] [W] WYS:20240930 UPO:20240930 | BU2: Zarządzenie Nr 158/2024 BSO z dnia 30.09.2024 r. [ZmNr71] [D] WYS:20241007 UPO:20241007 | BV2: Zarządzenie Nr 159/2024 BSO z dnia 30.09.2024 r. [ZmNr72] [R] WYS:20241007 UPO:20241007 | BW2: Zarządzenie Nr 168/2024 BSO z dnia 17.10.2024 r. [ZmNr73] [B] WYS:20241023 UPO:20241023 | BX2: Zarządzenie Nr 169/2024 BSO z dnia 17.10.2024 r. [ZmNr74] [D] WYS:20241023 UPO:20241023 | BY2: Zarządzenie Nr 170/2024 BSO z dnia 17.10.2024 r. [ZmNr75] [W] WYS:20241023 UPO:20241023 | BZ2: URMSO Nr VIII/51/2024 z dnia 30.10.2024 r. [ZmNr76] | CA2: Zarządzenie Nr 178/2024 BSO z dnia 31.10.2024 r. [ZmNr77] [B] WYS:20241105 UPO:20241105 | CB2: Zarządzenie Nr 179/2024 BSO z dnia 31.10.2024 r. [ZmNr78] [D] WYS:20241105 UPO:20241105 | CC2: Zarządzenie Nr 180/2024 BSO z dnia 31.10.2024 r. [ZmNr79] [W] WYS:20241105 UPO:20241105 | CD2: Zarządzenie Nr 185/2024 BSO z dnia 12.11.2024 r. [ZmNr80] [B] WYS:20241119 UPO:20241119 | CE2: Zarządzenie Nr 186/2024 BSO z dnia 12.11.2024 r. [ZmNr81] [D] WYS:20241119 UPO:20241119 | CF2: Zarządzenie Nr 187/2024 BSO z dnia 12.11.2024 r. [ZmNr82] [W] WYS:20241119 UPO:20241119 | CG2: Zarządzenie Nr 188/2024 BSO z dnia 12.11.2024 r. [ZmNr83] [R] WYS:20241119 UPO:20241119 | CH2: URMSO Nr IX/71/2024 z dnia 29.11.2024 r. [ZmNr84] | CI2: Zarządzenie Nr 203/2024 BSO z dnia 29.11.2024 r. [ZmNr85] [B] WYS:20241205 UPO:20241205 | CJ2: Zarządzenie Nr 204/2024 BSO z dnia 29.11.2024 r. [ZmNr86] [D] WYS:20241205 UPO:20241205 | CK2: Zarządzenie Nr 205/2024 BSO z dnia 29.11.2024 r. [ZmNr87] [W] WYS:20241205 UPO:20241205 | CL2: URMSO Nr X/79/2024 z dnia 12.12.2024 r. [ZmNr88] | CM2: Zarządzenie Nr 210/2024 BSO z dnia 13.12.2024 r. [ZmNr89] [B] WYS:20241219 UPO:20241219 | CN2: Zarządzenie Nr 211/2024 BSO z dnia 13.12.2024 r. [ZmNr90] [D] WYS:20241219 UPO:20241219 | CO2: Zarządzenie Nr 212/2024 BSO z dnia 13.12.2024 r. [ZmNr91] [W] WYS:20241219 UPO:20241219 | CP2: Zarządzenie Nr 228/2024 BSO z dnia 23.12.2024 r. [ZmNr92] [B] WYS:20241227 UPO:20241227 | CQ2: Zarządzenie Nr 229/2024 BSO z dnia 23.12.2024 r. [ZmNr93] [D] WYS:20241227 UPO:20241227 | CR2: Zarządzenie Nr 230/2024 BSO z dnia 23.12.2024 r. [ZmNr94] [W] WYS:20241227 UPO:20241227 | CS2: URMSO Nr XI/84/2024 z dnia 30.12.2024 r. [ZmNr95] | CT2: Zarządzenie Nr 234/2024 BSO z dnia 31.12.2024 r. [ZmNr96] [W] WYS:20250107 UPO:20250107 | CU2: Budżet na 2024 r. stan na dzień 31.12.2024 r.
A3: DOCHODY | B3: =SUM(B5:B6) -> 184865000 | C3: =SUM(C5:C6) -> 0 | D3: =SUM(D5:D6) -> 89550.07 | E3: =SUM(E5:E6) -> 0 | F3: =SUM(F5:F6) -> 192346 | G3: =SUM(G5:G6) -> 4123.71 | H3: =SUM(H5:H6) -> 185100 | I3: =SUM(I5:I6) -> 0 | ... CK3: =SUM(CK5:CK6) -> 0 | CL3: 2860319.7 | CM3: =SUM(CM5:CM6) -> 16384.67 | CN3: =SUM(CN5:CN6) -> 11670.24 | CO3: =SUM(CO5:CO6) -> 0 | CP3: =SUM(CP5:CP6) -> 149362 | CQ3: =SUM(CQ5:CQ6) -> 15818.4 | CR3: =SUM(CR5:CR6) -> 0 | CS3: 336240.2 | CT3: =SUM(CT5:CT6) -> 0 | CU3: =SUM(CU5:CU6) -> 2.2872523e+08
A4: z tego:
A5: - dochody bieżące | B5: 153397610 | C5: 0 | D5: 89550.07 | E5: 0 | F5: 192346 | G5: 4123.71 | H5: 5100 | I5: 0 | J5: 7405.32 | K5: 146707 | L5: 53023 | M5: 0 | N5: 36960 | O5: 7439491 | P5: 147661.92 | Q5: 106247.7 | R5: 0 | S5: 0 | T5: 31200 | U5: 0 | V5: 310370.76 | W5: 1867252.7 | X5: 141108 | Y5: 0 | Z5: 227000 | AA5: 48524.98 | AB5: 264658 | AC5: 4000 | AD5: 948532.03 | AE5: 14356.6 | AF5: 204250.38 | AG5: 126745.2 | AH5: 0 | AI5: 23696 | AJ5: 0 | AK5: 27984 | AL5: 317272.66 | AM5: 145879 | AN5: 0 | AO5: 525854.59 | AP5: 22208.1 | AQ5: 158036 | AR5: 26282 | AS5: 22231.12 | AT5: 0 | AU5: 88250 | AV5: 144789 | AW5: 0 | AX5: 7800 | AY5: 6448.79 | AZ5: 19928 | BA5: 907206.81 | BB5: -40147.2 | BC5: 0 | BD5: 160329.53 | BE5: 18448.21 | BF5: 882215.48 | BG5: 0 | BH5: 0 | BI5: 154908 | BJ5: 68877.01 | BK5: 0 | BL5: 0 | BM5: 0 | BN5: 0 | BO5: 17815.95 | BP5: 55719.12 | BQ5: 1845704.4 | BR5: 138587 | BS5: -59030.72 | BT5: 0 | BU5: 34685 | BV5: 0 | BW5: 16682.83 | BX5: 3379072.8 | BY5: 0 | BZ5: -41298.48 | CA5: 152783.26 | CB5: 101934.92 | CC5: 0 | CD5: 17000 | CE5: 158257.12 | CF5: 0 | CG5: 0 | CH5: 133500 | CI5: 158542.34 | CJ5: -102605.27 | CK5: 0 | CL5: 2860319.7 | CM5: 16384.67 | CN5: 11670.24 | CO5: 0 | CP5: 149362 | CQ5: 15818.4 | CR5: 0 | CS5: 336240.2 | CT5: 0 | CU5: =SUM(B5:CT5) -> 1.7889987e+08
A6: - dochody majątkowe | B6: 31467390 | C6: 0 | D6: 0 | E6: 0 | F6: 0 | G6: 0 | H6: 180000 | I6: 0 | J6: 0 | K6: 0 | L6: 0 | M6: 0 | N6: 0 | O6: 3317952 | P6: 0 | Q6: 0 | R6: 0 | S6: 0 | T6: 0 | U6: 0 | V6: 0 | W6: 9335000 | X6: 0 | Y6: 0 | Z6: 0 | AA6: 0 | AB6: 0 | AC6: 0 | AD6: 0 | AE6: 10257643 | AF6: 0 | AG6: 1154343 | AH6: 0 | AI6: 0 | AJ6: 0 | AK6: 0 | AL6: 86727.34 | AM6: 0 | AN6: 0 | AO6: 0 | AP6: 0 | AQ6: 0 | AR6: 0 | AS6: 0 | AT6: 0 | AU6: 2333982.1 | AV6: 0 | AW6: 0 | AX6: 0 | AY6: 0 | AZ6: 0 | BA6: 464162.77 | BB6: -1154343 | BC6: 0 | BD6: 0 | BE6: 0 | BF6: 0 | BG6: 0 | BH6: 0 | BI6: 0 | BJ6: 0 | BK6: 0 | BL6: 0 | BM6: 0 | BN6: 0 | BO6: 0 | BP6: 0 | BQ6: -6819125.6 | BR6: 0 | BS6: 0 | BT6: 0 | BU6: 0 | BV6: 0 | BW6: 0 | BX6: 0 | BY6: 0 | BZ6: -1852440.1 | CA6: 0 | CB6: 0 | CC6: 0 | CD6: 0 | CE6: 0 | CF6: 0 | CG6: 0 | CH6: 1052073.9 | CI6: 0 | CJ6: 2000 | CK6: 0 | CL6: 0 | CM6: 0 | CN6: 0 | CO6: 0 | CP6: 0 | CQ6: 0 | CR6: 0 | CS6: 0 | CT6: 0 | CU6: =SUM(B6:CT6) -> 49825366
A7: PRZYCHODY | B7: 20775000 | C7: 0 | D7: 0 | E7: 0 | F7: 0 | G7: 0 | H7: 9136064 | I7: 0 | J7: 0 | K7: 0 | L7: 0 | M7: 0 | N7: 0 | O7: 0 | P7: 0 | Q7: 0 | R7: 0 | S7: 0 | T7: 0 | U7: 0 | V7: 0 | W7: -9335000 | X7: 0 | Y7: 0 | Z7: 0 | AA7: 0 | AB7: 0 | AC7: 0 | AD7: 0 | AE7: 720000 | AF7: 0 | AG7: 0 | AH7: 0 | AI7: 0 | AJ7: 0 | AK7: 0 | AL7: 1703000 | AM7: 0 | AN7: 0 | AO7: 0 | AP7: 0 | AQ7: 0 | AR7: 0 | AS7: 0 | AT7: 0 | AU7: -3401217.4 | AV7: 0 | AW7: 0 | AX7: 0 | AY7: 0 | AZ7: 0 | BA7: 0 | BB7: 0 | BC7: 0 | BD7: 0 | BE7: 0 | BF7: 0 | BG7: 0 | BH7: 0 | BI7: 0 | BJ7: 0 | BK7: 0 | BL7: 0 | BM7: 0 | BN7: 0 | BO7: 0 | BP7: 0 | BQ7: 1359141.9 | BR7: 0 | BS7: 0 | BT7: 0 | BU7: 0 | BV7: 0 | BW7: 0 | BX7: 0 | BY7: 0 | BZ7: 964955.01 | CA7: 0 | CB7: 0 | CC7: 0 | CD7: 0 | CE7: 0 | CF7: 0 | CG7: 0 | CH7: 583926.15 | CI7: 0 | CJ7: 0 | CK7: 0 | CL7: -1611742 | CM7: 0 | CN7: 0 | CO7: 0 | CP7: 0 | CQ7: 0 | CR7: 0 | CS7: -275950 | CT7: 0 | CU7: =SUM(B7:CT7) -> 20618178
A8: RAZEM | B8: =SUM(B3,B7) -> 205640000 | C8: =SUM(C3,C7) -> 0 | D8: =SUM(D3,D7) -> 89550.07 | E8: =SUM(E3,E7) -> 0 | F8: =SUM(F3,F7) -> 192346 | G8: =SUM(G3,G7) -> 4123.71 | H8: =SUM(H3,H7) -> 9321164 | I8: =SUM(I3,I7) -> 0 | ... CU8: =SUM(CU3,CU7) -> 2.4934341e+08
A9: WYDATKI | B9: =SUM(B11:B12) -> 202620000 | C9: =SUM(C11:C12) -> 0 | D9: =SUM(D11:D12) -> 89550.07 | E9: =SUM(E11:E12) -> 0 | F9: =SUM(F11:F12) -> 192346 | G9: =SUM(G11:G12) -> 4123.71 | H9: =SUM(H11:H12) -> 9321164 | I9: =SUM(I11:I12) -> 0 | ... CK9: =SUM(CK11:CK12) -> 0 | CL9: 1248577.7 | CM9: =SUM(CM11:CM12) -> 16384.67 | CN9: =SUM(CN11:CN12) -> 11670.24 | CO9: =SUM(CO11:CO12) -> 0 | CP9: =SUM(CP11:CP12) -> 149362 | CQ9: =SUM(CQ11:CQ12) -> 15818.4 | CR9: =SUM(CR11:CR12) -> 0 | CS9: 60290.2 | CT9: =SUM(CT11:CT12) -> 0 | CU9: =SUM(CU11:CU12) -> 2.4642341e+08
A10: z tego:
A11: - wydatki bieżące | B11: 154865000 | C11: 0 | D11: 89550.07 | E11: -10100 | F11: 192346 | G11: 4123.71 | H11: -22899.7 | I11: 0 | J11: 7405.32 | K11: 146707 | L11: 53023 | M11: -50000 | N11: 36960 | O11: 6795003 | P11: 147661.92 | Q11: 106247.7 | R11: 0 | S11: 0 | T11: 31200 | U11: 0 | V11: 310370.76 | W11: 1867252.7 | X11: 141108 | Y11: 0 | Z11: 227000 | AA11: 48524.98 | AB11: 264658 | AC11: 4000 | AD11: 948532.03 | AE11: 502844.6 | AF11: 204250.38 | AG11: 126745.2 | AH11: 0 | AI11: 23696 | AJ11: 0 | AK11: 27984 | AL11: 1937200 | AM11: 145879 | AN11: -48515.3 | AO11: 525854.59 | AP11: 22208.1 | AQ11: 158036 | AR11: 26282 | AS11: 22231.12 | AT11: -7000 | AU11: 363430 | AV11: 144789 | AW11: 0 | AX11: 7800 | AY11: 6448.79 | AZ11: 19928 | BA11: 1082870.6 | BB11: -40147.2 | BC11: 0 | BD11: 160329.53 | BE11: 18448.21 | BF11: 882215.48 | BG11: -8654.33 | BH11: 0 | BI11: 154908 | BJ11: 68877.01 | BK11: 0 | BL11: 0 | BM11: 0 | BN11: 0 | BO11: 17815.95 | BP11: 55719.12 | BQ11: 3272464.2 | BR11: 138587 | BS11: -59030.72 | BT11: 12000 | BU11: 34685 | BV11: 0 | BW11: 16682.83 | BX11: 3379072.8 | BY11: -42000 | BZ11: 985355.41 | CA11: 152783.26 | CB11: 101934.92 | CC11: -10000 | CD11: 17000 | CE11: 158257.12 | CF11: 7000 | CG11: 0 | CH11: 1769500 | CI11: 158542.34 | CJ11: -102605.27 | CK11: -151000 | CL11: 1248577.7 | CM11: 16384.67 | CN11: 11670.24 | CO11: -1281631.5 | CP11: 149362 | CQ11: 15818.4 | CR11: -1500 | CS11: 60290.2 | CT11: -1100 | CU11: =SUM(B11:CT11) -> 1.8286325e+08
A12: - wydatki majątkowe | B12: 47755000 | C12: 0 | D12: 0 | E12: 10100 | F12: 0 | G12: 0 | H12: 9344063.7 | I12: 0 | J12: 0 | K12: 0 | L12: 0 | M12: 50000 | N12: 0 | O12: 3962440 | P12: 0 | Q12: 0 | R12: 0 | S12: 0 | T12: 0 | U12: 0 | V12: 0 | W12: 0 | X12: 0 | Y12: 0 | Z12: 0 | AA12: 0 | AB12: 0 | AC12: 0 | AD12: 0 | AE12: 10589155 | AF12: 0 | AG12: 1154343 | AH12: 0 | AI12: 0 | AJ12: 0 | AK12: 0 | AL12: 169800 | AM12: 0 | AN12: 48515.3 | AO12: 0 | AP12: 0 | AQ12: 0 | AR12: 0 | AS12: 0 | AT12: 7000 | AU12: -1342415.2 | AV12: 0 | AW12: 0 | AX12: 0 | AY12: 0 | AZ12: 0 | BA12: 288499 | BB12: -1154343 | BC12: 0 | BD12: 0 | BE12: 0 | BF12: 0 | BG12: 8654.33 | BH12: 0 | BI12: 0 | BJ12: 0 | BK12: 0 | BL12: 0 | BM12: 0 | BN12: 0 | BO12: 0 | BP12: 0 | BQ12: -6886743.4 | BR12: 0 | BS12: 0 | BT12: -12000 | BU12: 0 | BV12: 0 | BW12: 0 | BX12: 0 | BY12: 42000 | BZ12: -1914139 | CA12: 0 | CB12: 0 | CC12: 10000 | CD12: 0 | CE12: 0 | CF12: -7000 | CG12: 0 | CH12: 0 | CI12: 0 | CJ12: 2000 | CK12: 151000 | CL12: 0 | CM12: 0 | CN12: 0 | CO12: 1281631.5 | CP12: 0 | CQ12: 0 | CR12: 1500 | CS12: 0 | CT12: 1100 | CU12: =SUM(B12:CT12) -> 63560162
A13: ROZCHODY | B13: 3020000 | C13: 0 | D13: 0 | E13: 0 | F13: 0 | G13: 0 | H13: 0 | I13: 0 | J13: 0 | K13: 0 | L13: 0 | M13: 0 | N13: 0 | O13: 0 | P13: 0 | Q13: 0 | R13: 0 | S13: 0 | T13: 0 | U13: 0 | V13: 0 | W13: 0 | X13: 0 | Y13: 0 | Z13: 0 | AA13: 0 | AB13: 0 | AC13: 0 | AD13: 0 | AE13: -100000 | AF13: 0 | AG13: 0 | AH13: 0 | AI13: 0 | AJ13: 0 | AK13: 0 | AL13: 0 | AM13: 0 | AN13: 0 | AO13: 0 | AP13: 0 | AQ13: 0 | AR13: 0 | AS13: 0 | AT13: 0 | AU13: 0 | AV13: 0 | AW13: 0 | AX13: 0 | AY13: 0 | AZ13: 0 | BA13: 0 | BB13: 0 | BC13: 0 | BD13: 0 | BE13: 0 | BF13: 0 | BG13: 0 | BH13: 0 | BI13: 0 | BJ13: 0 | BK13: 0 | BL13: 0 | BM13: 0 | BN13: 0 | BO13: 0 | BP13: 0 | BQ13: 0 | BR13: 0 | BS13: 0 | BT13: 0 | BU13: 0 | BV13: 0 | BW13: 0 | BX13: 0 | BY13: 0 | BZ13: 0 | CA13: 0 | CB13: 0 | CC13: 0 | CD13: 0 | CE13: 0 | CF13: 0 | CG13: 0 | CH13: 0 | CI13: 0 | CJ13: 0 | CK13: 0 | CL13: 0 | CM13: 0 | CN13: 0 | CO13: 0 | CP13: 0 | CQ13: 0 | CR13: 0 | CS13: 0 | CT13: 0 | CU13: =SUM(B13:CT13) -> 2920000
A14: RAZEM | B14: =SUM(B9,B13) -> 205640000 | C14: =SUM(C9,C13) -> 0 | D14: =SUM(D9,D13) -> 89550.07 | E14: =SUM(E9,E13) -> 0 | F14: =SUM(F9,F13) -> 192346 | G14: =SUM(G9,G13) -> 4123.71 | H14: =SUM(H9,H13) -> 9321164 | I14: =SUM(I9,I13) -> 0 | ... CU14: =SUM(CU9,CU13) -> 2.4934341e+08
A15: DEFICYT | B15: =+B3-B9 -> -17755000 | C15: =+C3-C9 -> 0 | D15: =+D3-D9 -> 0 | E15: =+E3-E9 -> 0 | F15: =+F3-F9 -> 0 | G15: =+G3-G9 -> 0 | H15: =+H3-H9 -> -9136064 | I15: =+I3-I9 -> 0 | ... CU15: =+CU3-CU9 -> -17698178
A16: REZERWY
A17: rezerwa ogólna | B17: =SUM(B19:B20) -> 1200000 | C17: =SUM(C19:C20) -> 0 | D17: =SUM(D19:D20) -> 0 | E17: =SUM(E19:E20) -> 0 | F17: =SUM(F19:F20) -> 0 | G17: =SUM(G19:G20) -> 0 | H17: =SUM(H19:H20) -> 0 | I17: =SUM(I19:I20) -> 0 | ... CU17: =SUM(CU19:CU20) -> 918000
A18: z tego:
A19: - na wydatki bieżące [ROB - 758.75818.4810] | B19: 770000 | C19: 0 | D19: 0 | E19: 0 | F19: 0 | G19: 0 | H19: 0 | I19: 0 | J19: 0 | K19: 0 | L19: 0 | M19: 0 | N19: 0 | O19: 0 | P19: 0 | Q19: 0 | R19: 0 | S19: 0 | T19: 0 | U19: 0 | V19: 0 | W19: 0 | X19: 0 | Y19: 0 | Z19: 0 | AA19: 0 | AB19: 0 | AC19: 0 | AD19: 0 | AE19: 0 | AF19: 0 | AG19: 0 | AH19: 0 | AI19: 0 | AJ19: 0 | AK19: 0 | AL19: 0 | AM19: 0 | AN19: 0 | AO19: 0 | AP19: 0 | AQ19: 0 | AR19: 0 | AS19: 0 | AT19: 0 | AU19: 0 | AV19: 0 | AW19: 0 | AX19: 0 | AY19: 0 | AZ19: 0 | BA19: 0 | BB19: 0 | BC19: 0 | BD19: 0 | BE19: 0 | BF19: 0 | BG19: 0 | BH19: 0 | BI19: 0 | BJ19: 0 | BK19: 0 | BL19: -100000 | BM19: 0 | BN19: 0 | BO19: 0 | BP19: 0 | BQ19: 0 | BR19: 0 | BS19: 0 | BT19: 0 | BU19: 0 | BV19: -50000 | BW19: 0 | BX19: 0 | BY19: 0 | BZ19: 0 | CA19: 0 | CB19: 0 | CC19: 0 | CD19: 0 | CE19: 0 | CF19: 0 | CG19: -57000 | CH19: 0 | CI19: 0 | CJ19: 0 | CK19: 0 | CL19: 0 | CM19: 0 | CN19: 0 | CO19: 0 | CP19: 0 | CQ19: 0 | CR19: 0 | CS19: 0 | CT19: 0 | CU19: =SUM(B19:CT19) -> 563000
A20: - na wydatki i zakupy inwestycyjne [ROM - 758.75818.6800] | B20: 430000 | C20: 0 | D20: 0 | E20: 0 | F20: 0 | G20: 0 | H20: 0 | I20: 0 | J20: 0 | K20: 0 | L20: 0 | M20: 0 | N20: 0 | O20: 0 | P20: 0 | Q20: 0 | R20: 0 | S20: 0 | T20: 0 | U20: 0 | V20: 0 | W20: 0 | X20: 0 | Y20: 0 | Z20: 0 | AA20: 0 | AB20: 0 | AC20: 0 | AD20: 0 | AE20: 0 | AF20: 0 | AG20: 0 | AH20: 0 | AI20: 0 | AJ20: 0 | AK20: 0 | AL20: 0 | AM20: 0 | AN20: 0 | AO20: 0 | AP20: 0 | AQ20: 0 | AR20: 0 | AS20: 0 | AT20: 0 | AU20: 0 | AV20: 0 | AW20: 0 | AX20: 0 | AY20: 0 | AZ20: 0 | BA20: 0 | BB20: 0 | BC20: 0 | BD20: 0 | BE20: 0 | BF20: 0 | BG20: 0 | BH20: -75000 | BI20: 0 | BJ20: 0 | BK20: 0 | BL20: 0 | BM20: 0 | BN20: 0 | BO20: 0 | BP20: 0 | BQ20: 0 | BR20: 0 | BS20: 0 | BT20: 0 | BU20: 0 | BV20: 0 | BW20: 0 | BX20: 0 | BY20: 0 | BZ20: 0 | CA20: 0 | CB20: 0 | CC20: 0 | CD20: 0 | CE20: 0 | CF20: 0 | CG20: 0 | CH20: 0 | CI20: 0 | CJ20: 0 | CK20: 0 | CL20: 0 | CM20: 0 | CN20: 0 | CO20: 0 | CP20: 0 | CQ20: 0 | CR20: 0 | CS20: 0 | CT20: 0 | CU20: =SUM(B20:CT20) -> 355000
A21: rezerwy celowe | B21: =SUM(B23:B23) -> 400000 | C21: =SUM(C23:C23) -> 0 | D21: =SUM(D23:D23) -> 0 | E21: =SUM(E23:E23) -> 0 | F21: =SUM(F23:F23) -> 0 | G21: =SUM(G23:G23) -> 0 | H21: =SUM(H23:H23) -> 0 | I21: =SUM(I23:I23) -> 0 | ... CU21: =SUM(CU23:CU23) -> 400000
A22: z tego:
A23: - na realizację zadań z zakresu zarządzania kryzysowego [RCB - 758.75818.4810] | B23: 400000 | C23: 0 | D23: 0 | E23: 0 | F23: 0 | G23: 0 | H23: 0 | I23: 0 | J23: 0 | K23: 0 | L23: 0 | M23: 0 | N23: 0 | O23: 0 | P23: 0 | Q23: 0 | R23: 0 | S23: 0 | T23: 0 | U23: 0 | V23: 0 | W23: 0 | X23: 0 | Y23: 0 | Z23: 0 | AA23: 0 | AB23: 0 | AC23: 0 | AD23: 0 | AE23: 0 | AF23: 0 | AG23: 0 | AH23: 0 | AI23: 0 | AJ23: 0 | AK23: 0 | AL23: 0 | AM23: 0 | AN23: 0 | AO23: 0 | AP23: 0 | AQ23: 0 | AR23: 0 | AS23: 0 | AT23: 0 | AU23: 0 | AV23: 0 | AW23: 0 | AX23: 0 | AY23: 0 | AZ23: 0 | BA23: 0 | BB23: 0 | BC23: 0 | BD23: 0 | BE23: 0 | BF23: 0 | BG23: 0 | BH23: 0 | BI23: 0 | BJ23: 0 | BK23: 0 | BL23: 0 | BM23: 0 | BN23: 0 | BO23: 0 | BP23: 0 | BQ23: 0 | BR23: 0 | BS23: 0 | BT23: 0 | BU23: 0 | BV23: 0 | BW23: 0 | BX23: 0 | BY23: 0 | BZ23: 0 | CA23: 0 | CB23: 0 | CC23: 0 | CD23: 0 | CE23: 0 | CF23: 0 | CG23: 0 | CH23: 0 | CI23: 0 | CJ23: 0 | CK23: 0 | CL23: 0 | CM23: 0 | CN23: 0 | CO23: 0 | CP23: 0 | CQ23: 0 | CR23: 0 | CS23: 0 | CT23: 0 | CU23: =SUM(B23:CT23) -> 400000
A26: BSO - Burmistrz Strzelec Opolskich
A27: ROB - rezerwa ogólna bieżąca
A28: ROM - rezerwa ogólna majątkowa
A29: RCB - rezerwa celowa bieżąca
A30: RCM - rezerwa celowa majątkowa

Sheet CHECKLIST
A3: Kwota ogółem (D) - Tab. Nr 1 | B3: =ROUND('Budżet 2024 - Dochody'!$C$5,2) -> 2.2872523e+08
A4: Kwota ogółem (D) - Tab. Nr 3 | B4: =ROUND('Budżet 2024 - po zmianach'!$CU$3,2) -> 2.2872523e+08
A5: Warunek spełniony? | B5: =IF((B3-B4)=0,"OK","Błąd!") -> OK
A7: Kwota ogółem (W) - Tab. Nr 2 | B7: =ROUND('Budżet 2024 - Wydatki'!$C$5,2) -> 2.4642341e+08
A8: Kwota ogółem (W) - Tab. Nr 3 | B8: =ROUND('Budżet 2024 - po zmianach'!$CU$9,2) -> 2.4642341e+08
A9: Warunek spełniony? | B9: =IF((B7-B8)=0,"OK","Błąd!") -> OK
A11: Kwota ogółem (D) [ZZ] - Tab. Nr 1 | B11: ='Budżet 2024 - Dochody'!$E$5 -> 17563808
A12: Kwota ogółem (W) [ZZ] - Tab. Nr 2 | B12: ='Budżet 2024 - Wydatki'!$E$5 -> 17563808
A13: Warunek spełniony? | B13: =IF((B11-B12)=0,"OK","Błąd!") -> OK
