Workbook
Name xxx: #REF!

Sheet INSTRUKCJA
A1: Instrukcja wypełniania informacji o zobowiązaniach
A4: We wszystkich zakładkach należy wypełnić TYLKO pola oznaczone niebieskim tłem
A7: W celu prawidłowej weryfikacji wprowadzonych danych, niniejszą informację o zobowiązaniach należy wypełnić przy pomocy programu MS Excel.
A8: 1. W zakładce DANE ZBIORCZO należy:
A9: a) | B9: Wybrać nazwę j.s.t. z listy rozwijanej
A10: b) | B10: Uzupełnić datę sporządzenia, imię i nazwisko osoby sporządzającej i nr telefonu
A11: c) | B11: Uzupełnić dane przewodniczącego zarządu
A13: 2. W kolejnych zakładkach należy podać informacje dotyczące zobowiązań, w tym m.in.:
A14: a) | B14: nazwę instytucji, wobec której zaciągnięto zobowiązanie
A15: b) | B15: kwotę zobowiązania wynikającą z umowy
A16: c) | B16: datę zawarcia umowy i aneksów,
A17: d) | B17: kwoty zobowiązań przypadające do spłaty w poszczególnych latach
A19: 3. W zakładce INNE należy podać wszystkie inne zobowiązania wpływające na dług (art. 72 ust. 1a ufp), np.
A20: a) | B20: Umowy zakupu na raty np. telefonów, sprzętu komputerowego, nieruchomości
A21: b) | B21: Faktoring
A22: c) | B22: Leasing finansowy
A23: d) | B23: Zrestrukturyzowane zobowiązania wymagalne powyżej roku
A24: e) | B24: Umowy nienazwane o terminie zapłaty dłużym niż rok, związane z finansowaniem usług, dostaw, robót budowlanych, które wywołują skutki ekonomiczne podobne do umowy pożyczki lub kredytu
A25: f) | B25: Umowy o partnerstwie publiczno-prywatnym oraz umowy o poprawę efektywności energetycznej, w przypadku gdy umowy te mają wpływ na poziom długu publicznego
A27: 4. W przypadku braku odpowiedniej liczby KOLUMN przy okresie spłaty zobowiązania, należy skopiować ostatnią kolumnę i wkleić nową jako przedostatnią
A29: 5. W przypadku braku odpowiedniej liczby WIERSZY, należy rozszerzyć ilość pozycji poprzez wciśnięcie numeru 2 w górnej części lewej strony arkusza lub kliknięcie na krzyżyk przy wierszu 101.
A31: 6. Zweryfikować wpowadzone do pliku informacje.
A33: 7. Do RIO wysłać wyłącznie wypełniony plik programu Excel wraz z plikiem podpisu elektronicznego na adres sprawozdania@rio.opole.pl

Sheet DANE ZBIORCZO
Z1: 59
A2: Wybierz nazwę j.s.t. z listy
A3: Uzupełnij dane w niebieskich polach pod tabelą. Dane w tabeli zostaną uzupełnione automatycznie po wypełnieniu kolejnych zakładek (arkuszy).
A5: Zestawienie zbiorcze: | D5: VER. 2024-01-22
A6: Stan na dzień: | B6: 31.12.2023 r.
A7: Nazwa JST | B7: =VLOOKUP($Z$1,jednostki!$A$2:$C$92,2,FALSE) -> Gmina Strzelce Opolskie
A8: Kod TERYT | B8: =VLOOKUP($Z$1,jednostki!$A$2:$C$92,3,FALSE) -> 1611053 | F8: Sprawdzenie poprawności danych. Jeżeli wartości są różne od zera, porównaj dane z arkuszy z "Informacją dla KRRIO"
A10: Nazwa zobowiązania | B10: Rata kapitałowa | C10: Odsetki | D10: Razem
A11: Kredyty | B11: =KREDYTY!E9 -> 21600020 | C11: =KREDYTY!F10 -> 4393694.9 | D11: =KREDYTY!D8 -> 25993715 | F11: =SUM('Informacje dla KRRIO'!D11,'Informacje dla KRRIO'!D12,'Informacje dla KRRIO'!D13,'Informacje dla KRRIO'!D14,'Informacje dla KRRIO'!D15)-B11-B12 -> 0
A12: Pożyczki | B12: =POŻYCZKI!E9 -> 90000 | C12: =POŻYCZKI!F10 -> 4674.68 | D12: =POŻYCZKI!D8 -> 94674.68
A13: Papiery wartościowe, których zbywalność nie jest ograniczona (tzn. istnieje dla nich płynny rynek wtórny) | B13: ='PAP.WART. - płynny rynek wtórny'!E9 -> 0 | C13: ='PAP.WART. - płynny rynek wtórny'!F10 -> 0 | D13: ='PAP.WART. - płynny rynek wtórny'!D8 -> 0 | F13: ---
A14: Papiery wartościowe, których zbywalność jest ograniczona (tzn. nie istnieje dla nich płynny rynek wtórny) | B14: ='PAP.WART-brak płynnego rynku wt'!E9 -> 0 | C14: ='PAP.WART-brak płynnego rynku wt'!F10 -> 0 | D14: ='PAP.WART-brak płynnego rynku wt'!D8 -> 0 | F14: ='Informacje dla KRRIO'!D17-'DANE ZBIORCZO'!B14 -> 0
A15: Inne umowy | B15: =INNE!E9 -> 0 | C15: =INNE!F10 -> 0 | D15: =INNE!D8 -> 0 | F15: ---
A16: RAZEM: | B16: =SUM(B11:B15) -> 21690020 | C16: =SUM(C11:C15) -> 4398369.6 | D16: =SUM(D11:D15) -> 26088390
A18: Łączna kwota poręczeń | B18: =PORĘCZENIA!E9 -> 0 | C18: =PORĘCZENIA!F10 -> 0 | D18: =PORĘCZENIA!D8 -> 0
A20: Łączna kwota zobowiązań z tytułu zawartych umów wsparcia | D20: ='Pozostałe operacje finansowe'!$C$22 -> 0
A25: Data sporządzenia: | B25: 05.02.2024r.
A26: Imię i nazwisko osoby sporządzającej: | B26: Katarzyna Szufla
A27: Tel. do osoby sporządzającej: | B27: 77 40 49 328
C34: Tadeusz Goc
C35: …………………………………………………………………….
C36: Podpis Przewodniczącego Zarządu

Sheet KREDYTY
B1: Zobowiązania finansowe jednostki samorządu terytorialnego z tytułu zaciągniętych kredytów | S1: x
G2: stan aktualny na dzień: | I2: ='DANE ZBIORCZO'!B6 -> 31.12.2023 r.
A3: TERYT i Nazwa JST | D3: ='DANE ZBIORCZO'!B8 -> 1611053 | E3: ='DANE ZBIORCZO'!B7 -> Gmina Strzelce Opolskie
A4: Zaciągnięte KREDYTY: - Należy podać nazwę instytucji, wobec której j.s.t. ma zobowiązanie - Kwota zobowiązania wynikająca z umowy | C4: Uwagi o zobowiązaniu: - Data zawarcia umowy, - Data ewentualnych aneksów, | D4: ="niespłacone zobowiązania na dzień "&TEXT('DANE ZBIORCZO'!B6,"dd.mm.rrrr")&" (4+5+6+…+15)" -> niespłacone zobowiązania na dzień 31.12.2023 r. (4+5+6+…+15)
G5: 2024 r. | H5: 2025 r. | I5: 2026 r. | J5: 2027 r. | K5: 2028 r. | L5: 2029 r. | M5: 2030 r. | N5: 2031 r. | O5: 2032 r. | P5: 2033 r. | Q5: 2034 r. | R5: 2035 r.
A6: 1 | C6: 2 | D6: 3 | G6: 4 | H6: 5 | I6: 6 | J6: 7 | K6: 8 | L6: 9 | M6: 10 | N6: 11 | O6: 12 | P6: 13 | Q6: 14 | R6: 15
A7: KREDYTY
A8: R A Z E M (1+2+...+10 itd), z tego: | D8: =SUM(D11:D65536) -> 25993715 | E8: x | F8: x | G8: =SUM(G11,G14,G17,G20,G23,G26,G29,G32,G35,G38,G41,G44,G47,G50,G53,G56,G59,G62,G65,G68,G71,G74,G77,G80,G83,G86,G89,G92,G95,G98) -> 4354030.7 | H8: =SUM(H11,H14,H17,H20,H23,H26,H29,H32,H35,H38,H41,H44,H47,H50,H53,H56,H59,H62,H65,H68,H71,H74,H77,H80,H83,H86,H89,H92,H95,H98) -> 3622054.8 | I8: =SUM(I11,I14,I17,I20,I23,I26,I29,I32,I35,I38,I41,I44,I47,I50,I53,I56,I59,I62,I65,I68,I71,I74,I77,I80,I83,I86,I89,I92,I95,I98) -> 3515280.9 | J8: =SUM(J11,J14,J17,J20,J23,J26,J29,J32,J35,J38,J41,J44,J47,J50,J53,J56,J59,J62,J65,J68,J71,J74,J77,J80,J83,J86,J89,J92,J95,J98) -> 3408505.3 | K8: =SUM(K11,K14,K17,K20,K23,K26,K29,K32,K35,K38,K41,K44,K47,K50,K53,K56,K59,K62,K65,K68,K71,K74,K77,K80,K83,K86,K89,K92,K95,K98) -> 3302094.9 | L8: =SUM(L11,L14,L17,L20,L23,L26,L29,L32,L35,L38,L41,L44,L47,L50,L53,L56,L59,L62,L65,L68,L71,L74,L77,L80,L83,L86,L89,L92,L95,L98) -> 2947504.6 | M8: =SUM(M11,M14,M17,M20,M23,M26,M29,M32,M35,M38,M41,M44,M47,M50,M53,M56,M59,M62,M65,M68,M71,M74,M77,M80,M83,M86,M89,M92,M95,M98) -> 1955492.5 | N8: =SUM(N11,N14,N17,N20,N23,N26,N29,N32,N35,N38,N41,N44,N47,N50,N53,N56,N59,N62,N65,N68,N71,N74,N77,N80,N83,N86,N89,N92,N95,N98) -> 1625160.5 | ... R8: =SUM(R11,R14,R17,R20,R23,R26,R29,R32,R35,R38,R41,R44,R47,R50,R53,R56,R59,R62,R65,R68,R71,R74,R77,R80,R83,R86,R89,R92,R95,R98) -> 0
A9: - rata kapitałowa | D9: x | E9: =SUM(E11:E65536) -> 21600020 | F9: x | G9: =SUM(G12,G15,G18,G21,G24,G27,G30,G33,G36,G39,G42,G45,G48,G51,G54,G57,G60,G63,G66,G69,G72,G75,G78,G81,G84,G87,G90,G93,G96,G99) -> 2899996 | H9: =SUM(H12,H15,H18,H21,H24,H27,H30,H33,H36,H39,H42,H45,H48,H51,H54,H57,H60,H63,H66,H69,H72,H75,H78,H81,H84,H87,H90,H93,H96,H99) -> 2899996 | I9: =SUM(I12,I15,I18,I21,I24,I27,I30,I33,I36,I39,I42,I45,I48,I51,I54,I57,I60,I63,I66,I69,I72,I75,I78,I81,I84,I87,I90,I93,I96,I99) -> 2899996 | J9: =SUM(J12,J15,J18,J21,J24,J27,J30,J33,J36,J39,J42,J45,J48,J51,J54,J57,J60,J63,J66,J69,J72,J75,J78,J81,J84,J87,J90,J93,J96,J99) -> 2899996 | K9: =SUM(K12,K15,K18,K21,K24,K27,K30,K33,K36,K39,K42,K45,K48,K51,K54,K57,K60,K63,K66,K69,K72,K75,K78,K81,K84,K87,K90,K93,K96,K99) -> 2900036 | L9: =SUM(L12,L15,L18,L21,L24,L27,L30,L33,L36,L39,L42,L45,L48,L51,L54,L57,L60,L63,L66,L69,L72,L75,L78,L81,L84,L87,L90,L93,L96,L99) -> 2650000 | M9: =SUM(M12,M15,M18,M21,M24,M27,M30,M33,M36,M39,M42,M45,M48,M51,M54,M57,M60,M63,M66,M69,M72,M75,M78,M81,M84,M87,M90,M93,M96,M99) -> 1750000.4 | N9: =SUM(N12,N15,N18,N21,N24,N27,N30,N33,N36,N39,N42,N45,N48,N51,N54,N57,N60,N63,N66,N69,N72,N75,N78,N81,N84,N87,N90,N93,N96,N99) -> 1500000 | ... R9: =SUM(R12,R15,R18,R21,R24,R27,R30,R33,R36,R39,R42,R45,R48,R51,R54,R57,R60,R63,R66,R69,R72,R75,R78,R81,R84,R87,R90,R93,R96,R99) -> 0
A10: - odsetki | D10: x | E10: x | F10: =SUM(F11:F65536) -> 4393694.9 | G10: =SUM(G13,G16,G19,G22,G25,G28,G31,G34,G37,G40,G43,G46,G49,G52,G55,G58,G61,G64,G67,G70,G73,G76,G79,G82,G85,G88,G91,G94,G97,G100) -> 1454034.7 | H10: =SUM(H13,H16,H19,H22,H25,H28,H31,H34,H37,H40,H43,H46,H49,H52,H55,H58,H61,H64,H67,H70,H73,H76,H79,H82,H85,H88,H91,H94,H97,H100) -> 722058.87 | I10: =SUM(I13,I16,I19,I22,I25,I28,I31,I34,I37,I40,I43,I46,I49,I52,I55,I58,I61,I64,I67,I70,I73,I76,I79,I82,I85,I88,I91,I94,I97,I100) -> 615284.91 | J10: =SUM(J13,J16,J19,J22,J25,J28,J31,J34,J37,J40,J43,J46,J49,J52,J55,J58,J61,J64,J67,J70,J73,J76,J79,J82,J85,J88,J91,J94,J97,J100) -> 508509.38 | K10: =SUM(K13,K16,K19,K22,K25,K28,K31,K34,K37,K40,K43,K46,K49,K52,K55,K58,K61,K64,K67,K70,K73,K76,K79,K82,K85,K88,K91,K94,K97,K100) -> 402058.97 | L10: =SUM(L13,L16,L19,L22,L25,L28,L31,L34,L37,L40,L43,L46,L49,L52,L55,L58,L61,L64,L67,L70,L73,L76,L79,L82,L85,L88,L91,L94,L97,L100) -> 297504.65 | M10: =SUM(M13,M16,M19,M22,M25,M28,M31,M34,M37,M40,M43,M46,M49,M52,M55,M58,M61,M64,M67,M70,M73,M76,M79,M82,M85,M88,M91,M94,M97,M100) -> 205492.11 | N10: =SUM(N13,N16,N19,N22,N25,N28,N31,N34,N37,N40,N43,N46,N49,N52,N55,N58,N61,N64,N67,N70,N73,N76,N79,N82,N85,N88,N91,N94,N97,N100) -> 125160.53 | ... R10: =SUM(R13,R16,R19,R22,R25,R28,R31,R34,R37,R40,R43,R46,R49,R52,R55,R58,R61,R64,R67,R70,R73,R76,R79,R82,R85,R88,R91,R94,R97,R100) -> 0
A11: 1. | B11: Bank Polskiej Spółdzielczości Warszawa umowa Nr 2724243/167/JST/POZ/18 (2.500.000,00zł) | C11: Umowa 08.11.2018r. Aneks do umowy 22.01.2019r. | D11: =E12+F13 -> 1380794.3 | E11: x | F11: x | G11: =SUM(G12:G13) -> 335445.22 | H11: =SUM(H12:H13) -> 269652.26 | I11: =SUM(I12:I13) -> 264102.26 | J11: =SUM(J12:J13) -> 258552.26 | K11: =SUM(K12:K13) -> 253042.26 | L11: =SUM(L12:L13) -> 0 | M11: =SUM(M12:M13) -> 0 | N11: =SUM(N12:N13) -> 0 | ... R11: =SUM(R12:R13) -> 0
A12: z tego: - rata kapitałowa | D12: x | E12: =SUM(G12:R12) -> 1250020 | F12: x | G12: 249996 | H12: 249996 | I12: 249996 | J12: 249996 | K12: 250036
A13: - odsetki | D13: x | E13: x | F13: =SUM(G13:R13) -> 130774.26 | G13: 85449.22 | H13: 19656.26 | I13: 14106.26 | J13: 8556.26 | K13: 3006.26
A14: 2. | B14: Bank Gospodarstwa Krajowego Region Opolski umowa Nr 19/5788 (9.000.000,00) | C14: 29.11.2019r. | D14: =E15+F16 -> 6020974.4 | E14: x | F14: x | G14: =SUM(G15:G16) -> 1265918 | H14: =SUM(H15:H16) -> 991151.28 | I14: =SUM(I15:I16) -> 971081.28 | J14: =SUM(J15:J16) -> 951011.28 | K14: =SUM(K15:K16) -> 930941.28 | L14: =SUM(L15:L16) -> 910871.28 | M14: =SUM(M15:M16) -> 0 | N14: =SUM(N15:N16) -> 0 | ... R14: =SUM(R15:R16) -> 0
A15: z tego: - rata kapitałowa | D15: x | E15: =SUM(G15:R15) -> 5400000 | F15: x | G15: 900000 | H15: 900000 | I15: 900000 | J15: 900000 | K15: 900000 | L15: 900000
A16: - odsetki | D16: x | E16: x | F16: =SUM(G16:R16) -> 620974.41 | G16: 365918.01 | H16: 91151.28 | I16: 71081.28 | J16: 51011.28 | K16: 30941.28 | L16: 10871.28
A17: 3. | B17: Bank Spółdzielczy w Wołczynie umowa Nr 2/JST/20/2 (z umowy 12.500.000,00zł, faktyczna kwota otrzymanego kredytu 2.500.000,00zł) | C17: 17.11.2020r. | D17: =E18+F19 -> 1912770.6 | E17: x | F17: x | G17: =SUM(G18:G19) -> 371044.07 | H17: =SUM(H18:H19) -> 262510.75 | I17: =SUM(I18:I19) -> 260286.79 | J17: =SUM(J18:J19) -> 258061.27 | K17: =SUM(K18:K19) -> 255853.02 | L17: =SUM(L18:L19) -> 253612.79 | M17: =SUM(M18:M19) -> 251401.94 | N17: =SUM(N18:N19) -> 0 | ... R17: =SUM(R18:R19) -> 0
A18: z tego: - rata kapitałowa | D18: x | E18: =SUM(G18:R18) -> 1750000.1 | F18: x | G18: 249999.96 | H18: 249999.96 | I18: 249999.96 | J18: 249999.96 | K18: 249999.96 | L18: 249999.96 | M18: 250000.36
A19: - odsetki | D19: x | E19: x | F19: =SUM(G19:R19) -> 162770.51 | G19: 121044.11 | H19: 12510.79 | I19: 10286.83 | J19: 8061.31 | K19: 5853.06 | L19: 3612.83 | M19: 1401.58
A20: 4. | B20: Bank Spółdzielczy w Wołczynie umowa Nr 1/JST/21/2 (z umowy 9.000.000,00zł, faktyczna kwota otrzymanego kredytu 6.000.000,00zł) | C20: 29.10.2021r. | D20: =E21+F22 -> 5517209.9 | E20: x | F20: x | G20: =SUM(G21:G22) -> 934922.4 | H20: =SUM(H21:H22) -> 700872.5 | I20: =SUM(I21:I22) -> 685452.5 | J20: =SUM(J21:J22) -> 670032.5 | K20: =SUM(K21:K22) -> 654612.5 | L20: =SUM(L21:L22) -> 639192.5 | M20: =SUM(M21:M22) -> 623772.5 | N20: =SUM(N21:N22) -> 608352.5 | ... R20: =SUM(R21:R22) -> 0
A21: z tego: - rata kapitałowa | D21: x | E21: =SUM(G21:R21) -> 4800000 | F21: x | G21: 600000 | H21: 600000 | I21: 600000 | J21: 600000 | K21: 600000 | L21: 600000 | M21: 600000 | N21: 600000
A22: - odsetki | D22: x | E22: x | F22: =SUM(G22:R22) -> 717209.9 | G22: 334922.4 | H22: 100872.5 | I22: 85452.5 | J22: 70032.5 | K22: 54612.5 | L22: 39192.5 | M22: 23772.5 | N22: 8352.5
A23: 5. | B23: Krakowski Bank Spółdzielczy umowa Nr 009/22/19 (z umowy 9.000.000,00zł, faktyczna kwota otrzymanego kredytu 6.000.000,00zł) | C23: 05.12.2022r. | D23: =E24+F25 -> 7204544 | E23: x | F23: x | G23: =SUM(G24:G25) -> 965064 | H23: =SUM(H24:H25) -> 935755 | I23: =SUM(I24:I25) -> 891235 | J23: =SUM(J24:J25) -> 846715 | K23: =SUM(K24:K25) -> 802195 | L23: =SUM(L24:L25) -> 757675 | M23: =SUM(M24:M25) -> 713155 | N23: =SUM(N24:N25) -> 668635 | ... R23: =SUM(R24:R25) -> 0
A24: z tego: - rata kapitałowa | D24: x | E24: =SUM(G24:R24) -> 5400000 | F24: x | G24: 600000 | H24: 600000 | I24: 600000 | J24: 600000 | K24: 600000 | L24: 600000 | M24: 600000 | N24: 600000 | O24: 600000
A25: - odsetki | D25: x | E25: x | F25: =SUM(G25:R25) -> 1804544 | G25: 365064 | H25: 335755 | I25: 291235 | J25: 246715 | K25: 202195 | L25: 157675 | M25: 113155 | N25: 68635 | O25: 24115
A26: 6. | B26: Bank Spółdzielczy w Leśnicy umowa Nr 10019849/00532/JST/23 (z umowy 4.000.000,00zł, faktyczna kwota otrzymanego kredytu 3.000.000,00zł) | C26: 05.12.2023r. | D26: =E27+F28 -> 3957421.9 | E26: x | F26: x | G26: =SUM(G27:G28) -> 481636.99 | H26: =SUM(H27:H28) -> 462113.04 | I26: =SUM(I27:I28) -> 443123.04 | J26: =SUM(J27:J28) -> 424133.03 | K26: =SUM(K27:K28) -> 405450.87 | L26: =SUM(L27:L28) -> 386153.04 | M26: =SUM(M27:M28) -> 367163.03 | N26: =SUM(N27:N28) -> 348173.03 | ... R26: =SUM(R27:R28) -> 0
A27: z tego: - rata kapitałowa | D27: x | E27: =SUM(G27:R27) -> 3000000 | F27: x | G27: 300000 | H27: 300000 | I27: 300000 | J27: 300000 | K27: 300000 | L27: 300000 | M27: 300000 | N27: 300000 | O27: 300000 | P27: 300000
A28: - odsetki | D28: x | E28: x | F28: =SUM(G28:R28) -> 957421.86 | G28: 181636.99 | H28: 162113.04 | I28: 143123.04 | J28: 124133.03 | K28: 105450.87 | L28: 86153.04 | M28: 67163.03 | N28: 48173.03 | O28: 29282.75 | P28: 10193.04
A29: 7. | B29: ………………………………...(.................zł) | D29: =E30+F31 -> 0 | E29: x | F29: x | G29: =SUM(G30:G31) -> 0 | H29: =SUM(H30:H31) -> 0 | I29: =SUM(I30:I31) -> 0 | J29: =SUM(J30:J31) -> 0 | K29: =SUM(K30:K31) -> 0 | L29: =SUM(L30:L31) -> 0 | M29: =SUM(M30:M31) -> 0 | N29: =SUM(N30:N31) -> 0 | ... R29: =SUM(R30:R31) -> 0
A30: z tego: - rata kapitałowa | D30: x | E30: =SUM(G30:R30) -> 0 | F30: x
A31: - odsetki | D31: x | E31: x | F31: =SUM(G31:R31) -> 0
A32: 8. | B32: ………………………………...(.................zł) | D32: =E33+F34 -> 0 | E32: x | F32: x | G32: =SUM(G33:G34) -> 0 | H32: =SUM(H33:H34) -> 0 | I32: =SUM(I33:I34) -> 0 | J32: =SUM(J33:J34) -> 0 | K32: =SUM(K33:K34) -> 0 | L32: =SUM(L33:L34) -> 0 | M32: =SUM(M33:M34) -> 0 | N32: =SUM(N33:N34) -> 0 | ... R32: =SUM(R33:R34) -> 0
A33: z tego: - rata kapitałowa | D33: x | E33: =SUM(G33:R33) -> 0 | F33: x
A34: - odsetki | D34: x | E34: x | F34: =SUM(G34:R34) -> 0
A35: 9. | B35: ………………………………...(.................zł) | D35: =E36+F37 -> 0 | E35: x | F35: x | G35: =SUM(G36:G37) -> 0 | H35: =SUM(H36:H37) -> 0 | I35: =SUM(I36:I37) -> 0 | J35: =SUM(J36:J37) -> 0 | K35: =SUM(K36:K37) -> 0 | L35: =SUM(L36:L37) -> 0 | M35: =SUM(M36:M37) -> 0 | N35: =SUM(N36:N37) -> 0 | ... R35: =SUM(R36:R37) -> 0
A36: z tego: - rata kapitałowa | D36: x | E36: =SUM(G36:R36) -> 0 | F36: x
A37: - odsetki | D37: x | E37: x | F37: =SUM(G37:R37) -> 0
A38: 10. | B38: ………………………………...(.................zł) | D38: =E39+F40 -> 0 | E38: x | F38: x | G38: =SUM(G39:G40) -> 0 | H38: =SUM(H39:H40) -> 0 | I38: =SUM(I39:I40) -> 0 | J38: =SUM(J39:J40) -> 0 | K38: =SUM(K39:K40) -> 0 | L38: =SUM(L39:L40) -> 0 | M38: =SUM(M39:M40) -> 0 | N38: =SUM(N39:N40) -> 0 | ... R38: =SUM(R39:R40) -> 0
A39: z tego: - rata kapitałowa | D39: x | E39: =SUM(G39:R39) -> 0 | F39: x
A40: - odsetki | D40: x | E40: x | F40: =SUM(G40:R40) -> 0
...

Sheet POŻYCZKI
B1: Zobowiązania finansowe jednostki samorządu terytorialnego z tytułu zaciągniętych pożyczek | S1: x
G2: stan aktualny na dzień: | I2: ='DANE ZBIORCZO'!B6 -> 31.12.2023 r.
A3: TERYT i Nazwa JST | D3: ='DANE ZBIORCZO'!B8 -> 1611053 | E3: ='DANE ZBIORCZO'!B7 -> Gmina Strzelce Opolskie
A4: Zaciągnięte POŻYCZKI: - Należy podać nazwę instytucji, wobec której j.s.t. ma zobowiązanie - Kwota zobowiązania wynikająca z umowy | C4: Uwagi o zobowiązaniu: - Data zawarcia umowy, - Data ewentualnych aneksów, | D4: ="niespłacone zobowiązania na dzień "&TEXT('DANE ZBIORCZO'!B6,"dd.mm.rrrr")&" (4+5+6+…+15)" -> niespłacone zobowiązania na dzień 31.12.2023 r. (4+5+6+…+15)
G5: 2024 r. | H5: 2025 r. | I5: 2026 r. | J5: 2027 r. | K5: 2028 r. | L5: 2029 r. | M5: 2030 r. | N5: 2031 r. | O5: 2032 r. | P5: 2033 r. | Q5: 2034 r. | R5: 2035 r.
A6: 1 | C6: 2 | D6: 3 | G6: 4 | H6: 5 | I6: 6 | J6: 7 | K6: 8 | L6: 9 | M6: 10 | N6: 11 | O6: 12 | P6: 13 | Q6: 14 | R6: 15
A7: POŻYCZKI
A8: R A Z E M (1+2+...+10 itd), z tego: | D8: =SUM(D11:D65536) -> 94674.68 | E8: x | F8: x | G8: =SUM(G11,G14,G17,G20,G23,G26,G29,G32,G35,G38,G41,G44,G47,G50,G53,G56,G59,G62,G65,G68,G71,G74,G77,G80,G83,G86,G89,G92,G95,G98) -> 22166.34 | H8: =SUM(H11,H14,H17,H20,H23,H26,H29,H32,H35,H38,H41,H44,H47,H50,H53,H56,H59,H62,H65,H68,H71,H74,H77,H80,H83,H86,H89,H92,H95,H98) -> 21216.67 | I8: =SUM(I11,I14,I17,I20,I23,I26,I29,I32,I35,I38,I41,I44,I47,I50,I53,I56,I59,I62,I65,I68,I71,I74,I77,I80,I83,I86,I89,I92,I95,I98) -> 20816.67 | J8: =SUM(J11,J14,J17,J20,J23,J26,J29,J32,J35,J38,J41,J44,J47,J50,J53,J56,J59,J62,J65,J68,J71,J74,J77,J80,J83,J86,J89,J92,J95,J98) -> 20416.67 | K8: =SUM(K11,K14,K17,K20,K23,K26,K29,K32,K35,K38,K41,K44,K47,K50,K53,K56,K59,K62,K65,K68,K71,K74,K77,K80,K83,K86,K89,K92,K95,K98) -> 10058.33 | L8: =SUM(L11,L14,L17,L20,L23,L26,L29,L32,L35,L38,L41,L44,L47,L50,L53,L56,L59,L62,L65,L68,L71,L74,L77,L80,L83,L86,L89,L92,L95,L98) -> 0 | M8: =SUM(M11,M14,M17,M20,M23,M26,M29,M32,M35,M38,M41,M44,M47,M50,M53,M56,M59,M62,M65,M68,M71,M74,M77,M80,M83,M86,M89,M92,M95,M98) -> 0 | N8: =SUM(N11,N14,N17,N20,N23,N26,N29,N32,N35,N38,N41,N44,N47,N50,N53,N56,N59,N62,N65,N68,N71,N74,N77,N80,N83,N86,N89,N92,N95,N98) -> 0 | ... R8: =SUM(R11,R14,R17,R20,R23,R26,R29,R32,R35,R38,R41,R44,R47,R50,R53,R56,R59,R62,R65,R68,R71,R74,R77,R80,R83,R86,R89,R92,R95,R98) -> 0
A9: - rata kapitałowa | D9: x | E9: =SUM(E11:E65536) -> 90000 | F9: x | G9: =SUM(G12,G15,G18,G21,G24,G27,G30,G33,G36,G39,G42,G45,G48,G51,G54,G57,G60,G63,G66,G69,G72,G75,G78,G81,G84,G87,G90,G93,G96,G99) -> 20000 | H9: =SUM(H12,H15,H18,H21,H24,H27,H30,H33,H36,H39,H42,H45,H48,H51,H54,H57,H60,H63,H66,H69,H72,H75,H78,H81,H84,H87,H90,H93,H96,H99) -> 20000 | I9: =SUM(I12,I15,I18,I21,I24,I27,I30,I33,I36,I39,I42,I45,I48,I51,I54,I57,I60,I63,I66,I69,I72,I75,I78,I81,I84,I87,I90,I93,I96,I99) -> 20000 | J9: =SUM(J12,J15,J18,J21,J24,J27,J30,J33,J36,J39,J42,J45,J48,J51,J54,J57,J60,J63,J66,J69,J72,J75,J78,J81,J84,J87,J90,J93,J96,J99) -> 20000 | K9: =SUM(K12,K15,K18,K21,K24,K27,K30,K33,K36,K39,K42,K45,K48,K51,K54,K57,K60,K63,K66,K69,K72,K75,K78,K81,K84,K87,K90,K93,K96,K99) -> 10000 | L9: =SUM(L12,L15,L18,L21,L24,L27,L30,L33,L36,L39,L42,L45,L48,L51,L54,L57,L60,L63,L66,L69,L72,L75,L78,L81,L84,L87,L90,L93,L96,L99) -> 0 | M9: =SUM(M12,M15,M18,M21,M24,M27,M30,M33,M36,M39,M42,M45,M48,M51,M54,M57,M60,M63,M66,M69,M72,M75,M78,M81,M84,M87,M90,M93,M96,M99) -> 0 | N9: =SUM(N12,N15,N18,N21,N24,N27,N30,N33,N36,N39,N42,N45,N48,N51,N54,N57,N60,N63,N66,N69,N72,N75,N78,N81,N84,N87,N90,N93,N96,N99) -> 0 | ... R9: =SUM(R12,R15,R18,R21,R24,R27,R30,R33,R36,R39,R42,R45,R48,R51,R54,R57,R60,R63,R66,R69,R72,R75,R78,R81,R84,R87,R90,R93,R96,R99) -> 0
A10: - odsetki | D10: x | E10: x | F10: =SUM(F11:F65536) -> 4674.68 | G10: =SUM(G13,G16,G19,G22,G25,G28,G31,G34,G37,G40,G43,G46,G49,G52,G55,G58,G61,G64,G67,G70,G73,G76,G79,G82,G85,G88,G91,G94,G97,G100) -> 2166.34 | H10: =SUM(H13,H16,H19,H22,H25,H28,H31,H34,H37,H40,H43,H46,H49,H52,H55,H58,H61,H64,H67,H70,H73,H76,H79,H82,H85,H88,H91,H94,H97,H100) -> 1216.67 | I10: =SUM(I13,I16,I19,I22,I25,I28,I31,I34,I37,I40,I43,I46,I49,I52,I55,I58,I61,I64,I67,I70,I73,I76,I79,I82,I85,I88,I91,I94,I97,I100) -> 816.67 | J10: =SUM(J13,J16,J19,J22,J25,J28,J31,J34,J37,J40,J43,J46,J49,J52,J55,J58,J61,J64,J67,J70,J73,J76,J79,J82,J85,J88,J91,J94,J97,J100) -> 416.67 | K10: =SUM(K13,K16,K19,K22,K25,K28,K31,K34,K37,K40,K43,K46,K49,K52,K55,K58,K61,K64,K67,K70,K73,K76,K79,K82,K85,K88,K91,K94,K97,K100) -> 58.33 | L10: =SUM(L13,L16,L19,L22,L25,L28,L31,L34,L37,L40,L43,L46,L49,L52,L55,L58,L61,L64,L67,L70,L73,L76,L79,L82,L85,L88,L91,L94,L97,L100) -> 0 | M10: =SUM(M13,M16,M19,M22,M25,M28,M31,M34,M37,M40,M43,M46,M49,M52,M55,M58,M61,M64,M67,M70,M73,M76,M79,M82,M85,M88,M91,M94,M97,M100) -> 0 | N10: =SUM(N13,N16,N19,N22,N25,N28,N31,N34,N37,N40,N43,N46,N49,N52,N55,N58,N61,N64,N67,N70,N73,N76,N79,N82,N85,N88,N91,N94,N97,N100) -> 0 | ... R10: =SUM(R13,R16,R19,R22,R25,R28,R31,R34,R37,R40,R43,R46,R49,R52,R55,R58,R61,R64,R67,R70,R73,R76,R79,R82,R85,R88,R91,R94,R97,R100) -> 0
A11: 1. | B11: Wojewódzki Fundusz Ochrony Środowiska i Gospodarki Wodnej w Opolu umowa Nr 25/2018/G-54/OA-OE3/P (699.100,00zł) | C11: 03.08.2018r. | D11: =E12+F13 -> 94674.68 | E11: x | F11: x | G11: =SUM(G12:G13) -> 22166.34 | H11: =SUM(H12:H13) -> 21216.67 | I11: =SUM(I12:I13) -> 20816.67 | J11: =SUM(J12:J13) -> 20416.67 | K11: =SUM(K12:K13) -> 10058.33 | L11: =SUM(L12:L13) -> 0 | M11: =SUM(M12:M13) -> 0 | N11: =SUM(N12:N13) -> 0 | ... R11: =SUM(R12:R13) -> 0
A12: z tego: - rata kapitałowa | D12: x | E12: =SUM(G12:R12) -> 90000 | F12: x | G12: 20000 | H12: 20000 | I12: 20000 | J12: 20000 | K12: 10000
A13: - odsetki | D13: x | E13: x | F13: =SUM(G13:R13) -> 4674.68 | G13: 2166.34 | H13: 1216.67 | I13: 816.67 | J13: 416.67 | K13: 58.33
A14: 2. | B14: ………………………………...(.................zł) | D14: =E15+F16 -> 0 | E14: x | F14: x | G14: =SUM(G15:G16) -> 0 | H14: =SUM(H15:H16) -> 0 | I14: =SUM(I15:I16) -> 0 | J14: =SUM(J15:J16) -> 0 | K14: =SUM(K15:K16) -> 0 | L14: =SUM(L15:L16) -> 0 | M14: =SUM(M15:M16) -> 0 | N14: =SUM(N15:N16) -> 0 | ... R14: =SUM(R15:R16) -> 0
A15: z tego: - rata kapitałowa | D15: x | E15: =SUM(G15:R15) -> 0 | F15: x
A16: - odsetki | D16: x | E16: x | F16: =SUM(G16:R16) -> 0
A17: 3. | B17: ………………………………...(.................zł) | D17: =E18+F19 -> 0 | E17: x | F17: x | G17: =SUM(G18:G19) -> 0 | H17: =SUM(H18:H19) -> 0 | I17: =SUM(I18:I19) -> 0 | J17: =SUM(J18:J19) -> 0 | K17: =SUM(K18:K19) -> 0 | L17: =SUM(L18:L19) -> 0 | M17: =SUM(M18:M19) -> 0 | N17: =SUM(N18:N19) -> 0 | ... R17: =SUM(R18:R19) -> 0
A18: z tego: - rata kapitałowa | D18: x | E18: =SUM(G18:R18) -> 0 | F18: x
A19: - odsetki | D19: x | E19: x | F19: =SUM(G19:R19) -> 0
A20: 4. | B20: ………………………………...(.................zł) | D20: =E21+F22 -> 0 | E20: x | F20: x | G20: =SUM(G21:G22) -> 0 | H20: =SUM(H21:H22) -> 0 | I20: =SUM(I21:I22) -> 0 | J20: =SUM(J21:J22) -> 0 | K20: =SUM(K21:K22) -> 0 | L20: =SUM(L21:L22) -> 0 | M20: =SUM(M21:M22) -> 0 | N20: =SUM(N21:N22) -> 0 | ... R20: =SUM(R21:R22) -> 0
A21: z tego: - rata kapitałowa | D21: x | E21: =SUM(G21:R21) -> 0 | F21: x
A22: - odsetki | D22: x | E22: x | F22: =SUM(G22:R22) -> 0
A23: 5. | B23: ………………………………...(.................zł) | D23: =E24+F25 -> 0 | E23: x | F23: x | G23: =SUM(G24:G25) -> 0 | H23: =SUM(H24:H25) -> 0 | I23: =SUM(I24:I25) -> 0 | J23: =SUM(J24:J25) -> 0 | K23: =SUM(K24:K25) -> 0 | L23: =SUM(L24:L25) -> 0 | M23: =SUM(M24:M25) -> 0 | N23: =SUM(N24:N25) -> 0 | ... R23: =SUM(R24:R25) -> 0
A24: z tego: - rata kapitałowa | D24: x | E24: =SUM(G24:R24) -> 0 | F24: x
A25: - odsetki | D25: x | E25: x | F25: =SUM(G25:R25) -> 0
A26: 6. | B26: ………………………………...(.................zł) | D26: =E27+F28 -> 0 | E26: x | F26: x | G26: =SUM(G27:G28) -> 0 | H26: =SUM(H27:H28) -> 0 | I26: =SUM(I27:I28) -> 0 | J26: =SUM(J27:J28) -> 0 | K26: =SUM(K27:K28) -> 0 | L26: =SUM(L27:L28) -> 0 | M26: =SUM(M27:M28) -> 0 | N26: =SUM(N27:N28) -> 0 | ... R26: =SUM(R27:R28) -> 0
A27: z tego: - rata kapitałowa | D27: x | E27: =SUM(G27:R27) -> 0 | F27: x
A28: - odsetki | D28: x | E28: x | F28: =SUM(G28:R28) -> 0
A29: 7. | B29: ………………………………...(.................zł) | D29: =E30+F31 -> 0 | E29: x | F29: x | G29: =SUM(G30:G31) -> 0 | H29: =SUM(H30:H31) -> 0 | I29: =SUM(I30:I31) -> 0 | J29: =SUM(J30:J31) -> 0 | K29: =SUM(K30:K31) -> 0 | L29: =SUM(L30:L31) -> 0 | M29: =SUM(M30:M31) -> 0 | N29: =SUM(N30:N31) -> 0 | ... R29: =SUM(R30:R31) -> 0
A30: z tego: - rata kapitałowa | D30: x | E30: =SUM(G30:R30) -> 0 | F30: x
A31: - odsetki | D31: x | E31: x | F31: =SUM(G31:R31) -> 0
A32: 8. | B32: ………………………………...(.................zł) | D32: =E33+F34 -> 0 | E32: x | F32: x | G32: =SUM(G33:G34) -> 0 | H32: =SUM(H33:H34) -> 0 | I32: =SUM(I33:I34) -> 0 | J32: =SUM(J33:J34) -> 0 | K32: =SUM(K33:K34) -> 0 | L32: =SUM(L33:L34) -> 0 | M32: =SUM(M33:M34) -> 0 | N32: =SUM(N33:N34) -> 0 | ... R32: =SUM(R33:R34) -> 0
A33: z tego: - rata kapitałowa | D33: x | E33: =SUM(G33:R33) -> 0 | F33: x
A34: - odsetki | D34: x | E34: x | F34: =SUM(G34:R34) -> 0
A35: 9. | B35: ………………………………...(.................zł) | D35: =E36+F37 -> 0 | E35: x | F35: x | G35: =SUM(G36:G37) -> 0 | H35: =SUM(H36:H37) -> 0 | I35: =SUM(I36:I37) -> 0 | J35: =SUM(J36:J37) -> 0 | K35: =SUM(K36:K37) -> 0 | L35: =SUM(L36:L37) -> 0 | M35: =SUM(M36:M37) -> 0 | N35: =SUM(N36:N37) -> 0 | ... R35: =SUM(R36:R37) -> 0
A36: z tego: - rata kapitałowa | D36: x | E36: =SUM(G36:R36) -> 0 | F36: x
A37: - odsetki | D37: x | E37: x | F37: =SUM(G37:R37) -> 0
A38: 10. | B38: ………………………………...(.................zł) | D38: =E39+F40 -> 0 | E38: x | F38: x | G38: =SUM(G39:G40) -> 0 | H38: =SUM(H39:H40) -> 0 | I38: =SUM(I39:I40) -> 0 | J38: =SUM(J39:J40) -> 0 | K38: =SUM(K39:K40) -> 0 | L38: =SUM(L39:L40) -> 0 | M38: =SUM(M39:M40) -> 0 | N38: =SUM(N39:N40) -> 0 | ... R38: =SUM(R39:R40) -> 0
A39: z tego: - rata kapitałowa | D39: x | E39: =SUM(G39:R39) -> 0 | F39: x
A40: - odsetki | D40: x | E40: x | F40: =SUM(G40:R40) -> 0
...

Sheet PAP.WART-brak płynnego rynku wt
B1: Zobowiązania finansowe jednostki samorządu terytorialnego z tytułu wyemitowanych papierów wartościowych, dla których zbywalność jest ograniczona | S1: x
G2: stan aktualny na dzień: | I2: ='DANE ZBIORCZO'!B6 -> 31.12.2023 r.
A3: TERYT i Nazwa JST | D3: ='DANE ZBIORCZO'!B8 -> 1611053 | E3: ='DANE ZBIORCZO'!B7 -> Gmina Strzelce Opolskie
A4: Wyemitowane PAPIERY WARTOŚCIOWE, dla których zbywalność jest ograniczona: - Należy podać nazwę instytucji, wobec której j.s.t. ma zobowiązanie - Kwota zobowiązania wynikająca z umowy | C4: Uwagi o zobowiązaniu: - Data zawarcia umowy, - Data ewentualnych aneksów, | D4: ="niespłacone zobowiązania na dzień "&TEXT('DANE ZBIORCZO'!B6,"dd.mm.rrrr")&" (4+5+6+…+15)" -> niespłacone zobowiązania na dzień 31.12.2023 r. (4+5+6+…+15)
G5: 2024 r. | H5: 2025 r. | I5: 2026 r. | J5: 2027 r. | K5: 2028 r. | L5: 2029 r. | M5: 2030 r. | N5: 2031 r. | O5: 2032 r. | P5: 2033 r. | Q5: 2034 r. | R5: 2035 r.
A6: 1 | C6: 2 | D6: 3 | G6: 4 | H6: 5 | I6: 6 | J6: 7 | K6: 8 | L6: 9 | M6: 10 | N6: 11 | O6: 12 | P6: 13 | Q6: 14 | R6: 15
A7: PAPIERY WARTOŚCIOWE, dla których zbywalność jest ograniczona (tzn. nie istnieje dla nich płynny rynek wtórny)
A8: R A Z E M (1+2+...+10 itd), z tego: | D8: =SUM(D11:D65536) -> 0 | E8: x | F8: x | G8: =SUM(G11,G14,G17,G20,G23,G26,G29,G32,G35,G38) -> 0 | H8: =SUM(H11,H14,H17,H20,H23,H26,H29,H32,H35,H38) -> 0 | I8: =SUM(I11,I14,I17,I20,I23,I26,I29,I32,I35,I38) -> 0 | J8: =SUM(J11,J14,J17,J20,J23,J26,J29,J32,J35,J38) -> 0 | K8: =SUM(K11,K14,K17,K20,K23,K26,K29,K32,K35,K38) -> 0 | L8: =SUM(L11,L14,L17,L20,L23,L26,L29,L32,L35,L38) -> 0 | M8: =SUM(M11,M14,M17,M20,M23,M26,M29,M32,M35,M38) -> 0 | N8: =SUM(N11,N14,N17,N20,N23,N26,N29,N32,N35,N38) -> 0 | ... R8: =SUM(R11,R14,R17,R20,R23,R26,R29,R32,R35,R38) -> 0
A9: - rata kapitałowa | D9: x | E9: =SUM(E11:E65536) -> 0 | F9: x | G9: =SUM(G12,G15,G18,G21,G24,G27,G30,G33,G36,G39) -> 0 | H9: =SUM(H12,H15,H18,H21,H24,H27,H30,H33,H36,H39) -> 0 | I9: =SUM(I12,I15,I18,I21,I24,I27,I30,I33,I36,I39) -> 0 | J9: =SUM(J12,J15,J18,J21,J24,J27,J30,J33,J36,J39) -> 0 | K9: =SUM(K12,K15,K18,K21,K24,K27,K30,K33,K36,K39) -> 0 | L9: =SUM(L12,L15,L18,L21,L24,L27,L30,L33,L36,L39) -> 0 | M9: =SUM(M12,M15,M18,M21,M24,M27,M30,M33,M36,M39) -> 0 | N9: =SUM(N12,N15,N18,N21,N24,N27,N30,N33,N36,N39) -> 0 | ... R9: =SUM(R12,R15,R18,R21,R24,R27,R30,R33,R36,R39) -> 0
A10: - odsetki | D10: x | E10: x | F10: =SUM(F11:F65536) -> 0 | G10: =SUM(G13,G16,G19,G22,G25,G28,G31,G34,G37,G40) -> 0 | H10: =SUM(H13,H16,H19,H22,H25,H28,H31,H34,H37,H40) -> 0 | I10: =SUM(I13,I16,I19,I22,I25,I28,I31,I34,I37,I40) -> 0 | J10: =SUM(J13,J16,J19,J22,J25,J28,J31,J34,J37,J40) -> 0 | K10: =SUM(K13,K16,K19,K22,K25,K28,K31,K34,K37,K40) -> 0 | L10: =SUM(L13,L16,L19,L22,L25,L28,L31,L34,L37,L40) -> 0 | M10: =SUM(M13,M16,M19,M22,M25,M28,M31,M34,M37,M40) -> 0 | N10: =SUM(N13,N16,N19,N22,N25,N28,N31,N34,N37,N40) -> 0 | ... R10: =SUM(R13,R16,R19,R22,R25,R28,R31,R34,R37,R40) -> 0
A11: 1. | B11: ………………………………...(.................zł) | D11: =E12+F13 -> 0 | E11: x | F11: x | G11: =SUM(G12:G13) -> 0 | H11: =SUM(H12:H13) -> 0 | I11: =SUM(I12:I13) -> 0 | J11: =SUM(J12:J13) -> 0 | K11: =SUM(K12:K13) -> 0 | L11: =SUM(L12:L13) -> 0 | M11: =SUM(M12:M13) -> 0 | N11: =SUM(N12:N13) -> 0 | ... R11: =SUM(R12:R13) -> 0
A12: z tego: - rata kapitałowa | D12: x | E12: =SUM(G12:R12) -> 0 | F12: x
A13: - odsetki | D13: x | E13: x | F13: =SUM(G13:R13) -> 0
A14: 2. | B14: ………………………………...(.................zł) | D14: =E15+F16 -> 0 | E14: x | F14: x | G14: =SUM(G15:G16) -> 0 | H14: =SUM(H15:H16) -> 0 | I14: =SUM(I15:I16) -> 0 | J14: =SUM(J15:J16) -> 0 | K14: =SUM(K15:K16) -> 0 | L14: =SUM(L15:L16) -> 0 | M14: =SUM(M15:M16) -> 0 | N14: =SUM(N15:N16) -> 0 | ... R14: =SUM(R15:R16) -> 0
A15: z tego: - rata kapitałowa | D15: x | E15: =SUM(G15:R15) -> 0 | F15: x
A16: - odsetki | D16: x | E16: x | F16: =SUM(G16:R16) -> 0
A17: 3. | B17: ………………………………...(.................zł) | D17: =E18+F19 -> 0 | E17: x | F17: x | G17: =SUM(G18:G19) -> 0 | H17: =SUM(H18:H19) -> 0 | I17: =SUM(I18:I19) -> 0 | J17: =SUM(J18:J19) -> 0 | K17: =SUM(K18:K19) -> 0 | L17: =SUM(L18:L19) -> 0 | M17: =SUM(M18:M19) -> 0 | N17: =SUM(N18:N19) -> 0 | ... R17: =SUM(R18:R19) -> 0
A18: z tego: - rata kapitałowa | D18: x | E18: =SUM(G18:R18) -> 0 | F18: x
A19: - odsetki | D19: x | E19: x | F19: =SUM(G19:R19) -> 0
A20: 4. | B20: ………………………………...(.................zł) | D20: =E21+F22 -> 0 | E20: x | F20: x | G20: =SUM(G21:G22) -> 0 | H20: =SUM(H21:H22) -> 0 | I20: =SUM(I21:I22) -> 0 | J20: =SUM(J21:J22) -> 0 | K20: =SUM(K21:K22) -> 0 | L20: =SUM(L21:L22) -> 0 | M20: =SUM(M21:M22) -> 0 | N20: =SUM(N21:N22) -> 0 | ... R20: =SUM(R21:R22) -> 0
A21: z tego: - rata kapitałowa | D21: x | E21: =SUM(G21:R21) -> 0 | F21: x
A22: - odsetki | D22: x | E22: x | F22: =SUM(G22:R22) -> 0
A23: 5. | B23: ………………………………...(.................zł) | D23: =E24+F25 -> 0 | E23: x | F23: x | G23: =SUM(G24:G25) -> 0 | H23: =SUM(H24:H25) -> 0 | I23: =SUM(I24:I25) -> 0 | J23: =SUM(J24:J25) -> 0 | K23: =SUM(K24:K25) -> 0 | L23: =SUM(L24:L25) -> 0 | M23: =SUM(M24:M25) -> 0 | N23: =SUM(N24:N25) -> 0 | ... R23: =SUM(R24:R25) -> 0
A24: z tego: - rata kapitałowa | D24: x | E24: =SUM(G24:R24) -> 0 | F24: x
A25: - odsetki | D25: x | E25: x | F25: =SUM(G25:R25) -> 0
A26: 6. | B26: ………………………………...(.................zł) | D26: =E27+F28 -> 0 | E26: x | F26: x | G26: =SUM(G27:G28) -> 0 | H26: =SUM(H27:H28) -> 0 | I26: =SUM(I27:I28) -> 0 | J26: =SUM(J27:J28) -> 0 | K26: =SUM(K27:K28) -> 0 | L26: =SUM(L27:L28) -> 0 | M26: =SUM(M27:M28) -> 0 | N26: =SUM(N27:N28) -> 0 | ... R26: =SUM(R27:R28) -> 0
A27: z tego: - rata kapitałowa | D27: x | E27: =SUM(G27:R27) -> 0 | F27: x
A28: - odsetki | D28: x | E28: x | F28: =SUM(G28:R28) -> 0
A29: 7. | B29: ………………………………...(.................zł) | D29: =E30+F31 -> 0 | E29: x | F29: x | G29: =SUM(G30:G31) -> 0 | H29: =SUM(H30:H31) -> 0 | I29: =SUM(I30:I31) -> 0 | J29: =SUM(J30:J31) -> 0 | K29: =SUM(K30:K31) -> 0 | L29: =SUM(L30:L31) -> 0 | M29: =SUM(M30:M31) -> 0 | N29: =SUM(N30:N31) -> 0 | ... R29: =SUM(R30:R31) -> 0
A30: z tego: - rata kapitałowa | D30: x | E30: =SUM(G30:R30) -> 0 | F30: x
A31: - odsetki | D31: x | E31: x | F31: =SUM(G31:R31) -> 0
A32: 8. | B32: ………………………………...(.................zł) | D32: =E33+F34 -> 0 | E32: x | F32: x | G32: =SUM(G33:G34) -> 0 | H32: =SUM(H33:H34) -> 0 | I32: =SUM(I33:I34) -> 0 | J32: =SUM(J33:J34) -> 0 | K32: =SUM(K33:K34) -> 0 | L32: =SUM(L33:L34) -> 0 | M32: =SUM(M33:M34) -> 0 | N32: =SUM(N33:N34) -> 0 | ... R32: =SUM(R33:R34) -> 0
A33: z tego: - rata kapitałowa | D33: x | E33: =SUM(G33:R33) -> 0 | F33: x
A34: - odsetki | D34: x | E34: x | F34: =SUM(G34:R34) -> 0
A35: 9. | B35: ………………………………...(.................zł) | D35: =E36+F37 -> 0 | E35: x | F35: x | G35: =SUM(G36:G37) -> 0 | H35: =SUM(H36:H37) -> 0 | I35: =SUM(I36:I37) -> 0 | J35: =SUM(J36:J37) -> 0 | K35: =SUM(K36:K37) -> 0 | L35: =SUM(L36:L37) -> 0 | M35: =SUM(M36:M37) -> 0 | N35: =SUM(N36:N37) -> 0 | ... R35: =SUM(R36:R37) -> 0
A36: z tego: - rata kapitałowa | D36: x | E36: =SUM(G36:R36) -> 0 | F36: x
A37: - odsetki | D37: x | E37: x | F37: =SUM(G37:R37) -> 0
A38: 10. | B38: ………………………………...(.................zł) | D38: =E39+F40 -> 0 | E38: x | F38: x | G38: =SUM(G39:G40) -> 0 | H38: =SUM(H39:H40) -> 0 | I38: =SUM(I39:I40) -> 0 | J38: =SUM(J39:J40) -> 0 | K38: =SUM(K39:K40) -> 0 | L38: =SUM(L39:L40) -> 0 | M38: =SUM(M39:M40) -> 0 | N38: =SUM(N39:N40) -> 0 | ... R38: =SUM(R39:R40) -> 0
A39: z tego: - rata kapitałowa | D39: x | E39: =SUM(G39:R39) -> 0 | F39: x
A40: - odsetki | D40: x | E40: x | F40: =SUM(G40:R40) -> 0
...

Sheet PAP.WART. - płynny rynek wtórny
B1: Zobowiązania finansowe jednostki samorządu terytorialnego z tytułu wyemitowanych papierów wartościowych, dla których zbywalność nie jest ograniczona | S1: x
G2: stan aktualny na dzień: | I2: ='DANE ZBIORCZO'!B6 -> 31.12.2023 r.
A3: TERYT i Nazwa JST | D3: ='DANE ZBIORCZO'!B8 -> 1611053 | E3: ='DANE ZBIORCZO'!B7 -> Gmina Strzelce Opolskie
A4: Wyemitowane PAPIERY WARTOŚCIOWE, dla których zbywalność nie jest ograniczona: - Należy podać nazwę instytucji, wobec której j.s.t. ma zobowiązanie - Kwota zobowiązania wynikająca z umowy | C4: Uwagi o zobowiązaniu: - Data zawarcia umowy, - Data ewentualnych aneksów, | D4: ="niespłacone zobowiązania na dzień "&TEXT('DANE ZBIORCZO'!B6,"dd.mm.rrrr")&" (4+5+6+…+15)" -> niespłacone zobowiązania na dzień 31.12.2023 r. (4+5+6+…+15)
G5: 2024 r. | H5: 2025 r. | I5: 2026 r. | J5: 2027 r. | K5: 2028 r. | L5: 2029 r. | M5: 2030 r. | N5: 2031 r. | O5: 2032 r. | P5: 2033 r. | Q5: 2034 r. | R5: 2035 r.
A6: 1 | C6: 2 | D6: 3 | G6: 4 | H6: 5 | I6: 6 | J6: 7 | K6: 8 | L6: 9 | M6: 10 | N6: 11 | O6: 12 | P6: 13 | Q6: 14 | R6: 15
A7: PAPIERY WARTOŚCIOWE, dla których zbywalność nie jest ograniczona (tzn. istnieje dla nich płynny rynek wtórny)
A8: R A Z E M (1+2+...+10 itd), z tego: | D8: =SUM(D11:D65536) -> 0 | E8: x | F8: x | G8: =SUM(G11,G14,G17,G20,G23,G26,G29,G32,G35,G38) -> 0 | H8: =SUM(H11,H14,H17,H20,H23,H26,H29,H32,H35,H38) -> 0 | I8: =SUM(I11,I14,I17,I20,I23,I26,I29,I32,I35,I38) -> 0 | J8: =SUM(J11,J14,J17,J20,J23,J26,J29,J32,J35,J38) -> 0 | K8: =SUM(K11,K14,K17,K20,K23,K26,K29,K32,K35,K38) -> 0 | L8: =SUM(L11,L14,L17,L20,L23,L26,L29,L32,L35,L38) -> 0 | M8: =SUM(M11,M14,M17,M20,M23,M26,M29,M32,M35,M38) -> 0 | N8: =SUM(N11,N14,N17,N20,N23,N26,N29,N32,N35,N38) -> 0 | ... R8: =SUM(R11,R14,R17,R20,R23,R26,R29,R32,R35,R38) -> 0
A9: - rata kapitałowa | D9: x | E9: =SUM(E11:E65536) -> 0 | F9: x | G9: =SUM(G12,G15,G18,G21,G24,G27,G30,G33,G36,G39) -> 0 | H9: =SUM(H12,H15,H18,H21,H24,H27,H30,H33,H36,H39) -> 0 | I9: =SUM(I12,I15,I18,I21,I24,I27,I30,I33,I36,I39) -> 0 | J9: =SUM(J12,J15,J18,J21,J24,J27,J30,J33,J36,J39) -> 0 | K9: =SUM(K12,K15,K18,K21,K24,K27,K30,K33,K36,K39) -> 0 | L9: =SUM(L12,L15,L18,L21,L24,L27,L30,L33,L36,L39) -> 0 | M9: =SUM(M12,M15,M18,M21,M24,M27,M30,M33,M36,M39) -> 0 | N9: =SUM(N12,N15,N18,N21,N24,N27,N30,N33,N36,N39) -> 0 | ... R9: =SUM(R12,R15,R18,R21,R24,R27,R30,R33,R36,R39) -> 0
A10: - odsetki | D10: x | E10: x | F10: =SUM(F11:F65536) -> 0 | G10: =SUM(G13,G16,G19,G22,G25,G28,G31,G34,G37,G40) -> 0 | H10: =SUM(H13,H16,H19,H22,H25,H28,H31,H34,H37,H40) -> 0 | I10: =SUM(I13,I16,I19,I22,I25,I28,I31,I34,I37,I40) -> 0 | J10: =SUM(J13,J16,J19,J22,J25,J28,J31,J34,J37,J40) -> 0 | K10: =SUM(K13,K16,K19,K22,K25,K28,K31,K34,K37,K40) -> 0 | L10: =SUM(L13,L16,L19,L22,L25,L28,L31,L34,L37,L40) -> 0 | M10: =SUM(M13,M16,M19,M22,M25,M28,M31,M34,M37,M40) -> 0 | N10: =SUM(N13,N16,N19,N22,N25,N28,N31,N34,N37,N40) -> 0 | ... R10: =SUM(R13,R16,R19,R22,R25,R28,R31,R34,R37,R40) -> 0
A11: 1. | B11: ………………………………...(.................zł) | D11: =E12+F13 -> 0 | E11: x | F11: x | G11: =SUM(G12:G13) -> 0 | H11: =SUM(H12:H13) -> 0 | I11: =SUM(I12:I13) -> 0 | J11: =SUM(J12:J13) -> 0 | K11: =SUM(K12:K13) -> 0 | L11: =SUM(L12:L13) -> 0 | M11: =SUM(M12:M13) -> 0 | N11: =SUM(N12:N13) -> 0 | ... R11: =SUM(R12:R13) -> 0
A12: z tego: - rata kapitałowa | D12: x | E12: =SUM(G12:R12) -> 0 | F12: x
A13: - odsetki | D13: x | E13: x | F13: =SUM(G13:R13) -> 0
A14: 2. | B14: ………………………………...(.................zł) | D14: =E15+F16 -> 0 | E14: x | F14: x | G14: =SUM(G15:G16) -> 0 | H14: =SUM(H15:H16) -> 0 | I14: =SUM(I15:I16) -> 0 | J14: =SUM(J15:J16) -> 0 | K14: =SUM(K15:K16) -> 0 | L14: =SUM(L15:L16) -> 0 | M14: =SUM(M15:M16) -> 0 | N14: =SUM(N15:N16) -> 0 | ... R14: =SUM(R15:R16) -> 0
A15: z tego: - rata kapitałowa | D15: x | E15: =SUM(G15:R15) -> 0 | F15: x
A16: - odsetki | D16: x | E16: x | F16: =SUM(G16:R16) -> 0
A17: 3. | B17: ………………………………...(.................zł) | D17: =E18+F19 -> 0 | E17: x | F17: x | G17: =SUM(G18:G19) -> 0 | H17: =SUM(H18:H19) -> 0 | I17: =SUM(I18:I19) -> 0 | J17: =SUM(J18:J19) -> 0 | K17: =SUM(K18:K19) -> 0 | L17: =SUM(L18:L19) -> 0 | M17: =SUM(M18:M19) -> 0 | N17: =SUM(N18:N19) -> 0 | ... R17: =SUM(R18:R19) -> 0
A18: z tego: - rata kapitałowa | D18: x | E18: =SUM(G18:R18) -> 0 | F18: x
A19: - odsetki | D19: x | E19: x | F19: =SUM(G19:R19) -> 0
A20: 4. | B20: ………………………………...(.................zł) | D20: =E21+F22 -> 0 | E20: x | F20: x | G20: =SUM(G21:G22) -> 0 | H20: =SUM(H21:H22) -> 0 | I20: =SUM(I21:I22) -> 0 | J20: =SUM(J21:J22) -> 0 | K20: =SUM(K21:K22) -> 0 | L20: =SUM(L21:L22) -> 0 | M20: =SUM(M21:M22) -> 0 | N20: =SUM(N21:N22) -> 0 | ... R20: =SUM(R21:R22) -> 0
A21: z tego: - rata kapitałowa | D21: x | E21: =SUM(G21:R21) -> 0 | F21: x
A22: - odsetki | D22: x | E22: x | F22: =SUM(G22:R22) -> 0
A23: 5. | B23: ………………………………...(.................zł) | D23: =E24+F25 -> 0 | E23: x | F23: x | G23: =SUM(G24:G25) -> 0 | H23: =SUM(H24:H25) -> 0 | I23: =SUM(I24:I25) -> 0 | J23: =SUM(J24:J25) -> 0 | K23: =SUM(K24:K25) -> 0 | L23: =SUM(L24:L25) -> 0 | M23: =SUM(M24:M25) -> 0 | N23: =SUM(N24:N25) -> 0 | ... R23: =SUM(R24:R25) -> 0
A24: z tego: - rata kapitałowa | D24: x | E24: =SUM(G24:R24) -> 0 | F24: x
A25: - odsetki | D25: x | E25: x | F25: =SUM(G25:R25) -> 0
A26: 6. | B26: ………………………………...(.................zł) | D26: =E27+F28 -> 0 | E26: x | F26: x | G26: =SUM(G27:G28) -> 0 | H26: =SUM(H27:H28) -> 0 | I26: =SUM(I27:I28) -> 0 | J26: =SUM(J27:J28) -> 0 | K26: =SUM(K27:K28) -> 0 | L26: =SUM(L27:L28) -> 0 | M26: =SUM(M27:M28) -> 0 | N26: =SUM(N27:N28) -> 0 | ... R26: =SUM(R27:R28) -> 0
A27: z tego: - rata kapitałowa | D27: x | E27: =SUM(G27:R27) -> 0 | F27: x
A28: - odsetki | D28: x | E28: x | F28: =SUM(G28:R28) -> 0
A29: 7. | B29: ………………………………...(.................zł) | D29: =E30+F31 -> 0 | E29: x | F29: x | G29: =SUM(G30:G31) -> 0 | H29: =SUM(H30:H31) -> 0 | I29: =SUM(I30:I31) -> 0 | J29: =SUM(J30:J31) -> 0 | K29: =SUM(K30:K31) -> 0 | L29: =SUM(L30:L31) -> 0 | M29: =SUM(M30:M31) -> 0 | N29: =SUM(N30:N31) -> 0 | ... R29: =SUM(R30:R31) -> 0
A30: z tego: - rata kapitałowa | D30: x | E30: =SUM(G30:R30) -> 0 | F30: x
A31: - odsetki | D31: x | E31: x | F31: =SUM(G31:R31) -> 0
A32: 8. | B32: ………………………………...(.................zł) | D32: =E33+F34 -> 0 | E32: x | F32: x | G32: =SUM(G33:G34) -> 0 | H32: =SUM(H33:H34) -> 0 | I32: =SUM(I33:I34) -> 0 | J32: =SUM(J33:J34) -> 0 | K32: =SUM(K33:K34) -> 0 | L32: =SUM(L33:L34) -> 0 | M32: =SUM(M33:M34) -> 0 | N32: =SUM(N33:N34) -> 0 | ... R32: =SUM(R33:R34) -> 0
A33: z tego: - rata kapitałowa | D33: x | E33: =SUM(G33:R33) -> 0 | F33: x
A34: - odsetki | D34: x | E34: x | F34: =SUM(G34:R34) -> 0
A35: 9. | B35: ………………………………...(.................zł) | D35: =E36+F37 -> 0 | E35: x | F35: x | G35: =SUM(G36:G37) -> 0 | H35: =SUM(H36:H37) -> 0 | I35: =SUM(I36:I37) -> 0 | J35: =SUM(J36:J37) -> 0 | K35: =SUM(K36:K37) -> 0 | L35: =SUM(L36:L37) -> 0 | M35: =SUM(M36:M37) -> 0 | N35: =SUM(N36:N37) -> 0 | ... R35: =SUM(R36:R37) -> 0
A36: z tego: - rata kapitałowa | D36: x | E36: =SUM(G36:R36) -> 0 | F36: x
A37: - odsetki | D37: x | E37: x | F37: =SUM(G37:R37) -> 0
A38: 10. | B38: ………………………………...(.................zł) | D38: =E39+F40 -> 0 | E38: x | F38: x | G38: =SUM(G39:G40) -> 0 | H38: =SUM(H39:H40) -> 0 | I38: =SUM(I39:I40) -> 0 | J38: =SUM(J39:J40) -> 0 | K38: =SUM(K39:K40) -> 0 | L38: =SUM(L39:L40) -> 0 | M38: =SUM(M39:M40) -> 0 | N38: =SUM(N39:N40) -> 0 | ... R38: =SUM(R39:R40) -> 0
A39: z tego: - rata kapitałowa | D39: x | E39: =SUM(G39:R39) -> 0 | F39: x
A40: - odsetki | D40: x | E40: x | F40: =SUM(G40:R40) -> 0
...

Sheet INNE
B1: Zobowiązania finansowe jednostki samorządu terytorialnego z tytułu zaciągniętych innych zobowiązań* | S1: x
G2: stan aktualny na dzień: | I2: ='DANE ZBIORCZO'!B6 -> 31.12.2023 r.
A3: TERYT i Nazwa JST | D3: ='DANE ZBIORCZO'!B8 -> 1611053 | E3: ='DANE ZBIORCZO'!B7 -> Gmina Strzelce Opolskie
A4: Zaciągnięte INNE zobowiązania (art. 72 ust 1a ufp): - Należy podać nazwę instytucji, wobec której j.s.t. ma zobowiązanie - Kwota zobowiązania wynikająca z umowy | C4: Uwagi o zobowiązaniu: - Data zawarcia umowy, - Data ewentualnych aneksów, | D4: ="niespłacone zobowiązania na dzień "&TEXT('DANE ZBIORCZO'!B6,"dd.mm.rrrr")&" (4+5+6+…+15)" -> niespłacone zobowiązania na dzień 31.12.2023 r. (4+5+6+…+15)
G5: 2024 r. | H5: 2025 r. | I5: 2026 r. | J5: 2027 r. | K5: 2028 r. | L5: 2029 r. | M5: 2030 r. | N5: 2031 r. | O5: 2032 r. | P5: 2033 r. | Q5: 2034 r. | R5: 2035 r.
A6: 1 | C6: 2 | D6: 3 | G6: 4 | H6: 5 | I6: 6 | J6: 7 | K6: 8 | L6: 9 | M6: 10 | N6: 11 | O6: 12 | P6: 13 | Q6: 14 | R6: 15
A7: INNE
A8: R A Z E M (1+2+...+10 itd), z tego: | D8: =SUM(D11:D65536) -> 0 | E8: x | F8: x | G8: =SUM(G11,G14,G17,G20,G23,G26,G29,G32,G35,G38) -> 0 | H8: =SUM(H11,H14,H17,H20,H23,H26,H29,H32,H35,H38) -> 0 | I8: =SUM(I11,I14,I17,I20,I23,I26,I29,I32,I35,I38) -> 0 | J8: =SUM(J11,J14,J17,J20,J23,J26,J29,J32,J35,J38) -> 0 | K8: =SUM(K11,K14,K17,K20,K23,K26,K29,K32,K35,K38) -> 0 | L8: =SUM(L11,L14,L17,L20,L23,L26,L29,L32,L35,L38) -> 0 | M8: =SUM(M11,M14,M17,M20,M23,M26,M29,M32,M35,M38) -> 0 | N8: =SUM(N11,N14,N17,N20,N23,N26,N29,N32,N35,N38) -> 0 | ... R8: =SUM(R11,R14,R17,R20,R23,R26,R29,R32,R35,R38) -> 0
A9: - rata kapitałowa | D9: x | E9: =SUM(E11:E65536) -> 0 | F9: x | G9: =SUM(G12,G15,G18,G21,G24,G27,G30,G33,G36,G39) -> 0 | H9: =SUM(H12,H15,H18,H21,H24,H27,H30,H33,H36,H39) -> 0 | I9: =SUM(I12,I15,I18,I21,I24,I27,I30,I33,I36,I39) -> 0 | J9: =SUM(J12,J15,J18,J21,J24,J27,J30,J33,J36,J39) -> 0 | K9: =SUM(K12,K15,K18,K21,K24,K27,K30,K33,K36,K39) -> 0 | L9: =SUM(L12,L15,L18,L21,L24,L27,L30,L33,L36,L39) -> 0 | M9: =SUM(M12,M15,M18,M21,M24,M27,M30,M33,M36,M39) -> 0 | N9: =SUM(N12,N15,N18,N21,N24,N27,N30,N33,N36,N39) -> 0 | ... R9: =SUM(R12,R15,R18,R21,R24,R27,R30,R33,R36,R39) -> 0
A10: - odsetki | D10: x | E10: x | F10: =SUM(F11:F65536) -> 0 | G10: =SUM(G13,G16,G19,G22,G25,G28,G31,G34,G37,G40) -> 0 | H10: =SUM(H13,H16,H19,H22,H25,H28,H31,H34,H37,H40) -> 0 | I10: =SUM(I13,I16,I19,I22,I25,I28,I31,I34,I37,I40) -> 0 | J10: =SUM(J13,J16,J19,J22,J25,J28,J31,J34,J37,J40) -> 0 | K10: =SUM(K13,K16,K19,K22,K25,K28,K31,K34,K37,K40) -> 0 | L10: =SUM(L13,L16,L19,L22,L25,L28,L31,L34,L37,L40) -> 0 | M10: =SUM(M13,M16,M19,M22,M25,M28,M31,M34,M37,M40) -> 0 | N10: =SUM(N13,N16,N19,N22,N25,N28,N31,N34,N37,N40) -> 0 | ... R10: =SUM(R13,R16,R19,R22,R25,R28,R31,R34,R37,R40) -> 0
A11: 1. | B11: ………………………………...(.................zł) | D11: =E12+F13 -> 0 | E11: x | F11: x | G11: =SUM(G12:G13) -> 0 | H11: =SUM(H12:H13) -> 0 | I11: =SUM(I12:I13) -> 0 | J11: =SUM(J12:J13) -> 0 | K11: =SUM(K12:K13) -> 0 | L11: =SUM(L12:L13) -> 0 | M11: =SUM(M12:M13) -> 0 | N11: =SUM(N12:N13) -> 0 | ... R11: =SUM(R12:R13) -> 0
A12: z tego: - rata kapitałowa | D12: x | E12: =SUM(G12:R12) -> 0 | F12: x
A13: - odsetki | D13: x | E13: x | F13: =SUM(G13:R13) -> 0
A14: 2. | B14: ………………………………...(.................zł) | D14: =E15+F16 -> 0 | E14: x | F14: x | G14: =SUM(G15:G16) -> 0 | H14: =SUM(H15:H16) -> 0 | I14: =SUM(I15:I16) -> 0 | J14: =SUM(J15:J16) -> 0 | K14: =SUM(K15:K16) -> 0 | L14: =SUM(L15:L16) -> 0 | M14: =SUM(M15:M16) -> 0 | N14: =SUM(N15:N16) -> 0 | ... R14: =SUM(R15:R16) -> 0
A15: z tego: - rata kapitałowa | D15: x | E15: =SUM(G15:R15) -> 0 | F15: x
A16: - odsetki | D16: x | E16: x | F16: =SUM(G16:R16) -> 0
A17: 3. | B17: ………………………………...(.................zł) | D17: =E18+F19 -> 0 | E17: x | F17: x | G17: =SUM(G18:G19) -> 0 | H17: =SUM(H18:H19) -> 0 | I17: =SUM(I18:I19) -> 0 | J17: =SUM(J18:J19) -> 0 | K17: =SUM(K18:K19) -> 0 | L17: =SUM(L18:L19) -> 0 | M17: =SUM(M18:M19) -> 0 | N17: =SUM(N18:N19) -> 0 | ... R17: =SUM(R18:R19) -> 0
A18: z tego: - rata kapitałowa | D18: x | E18: =SUM(G18:R18) -> 0 | F18: x
A19: - odsetki | D19: x | E19: x | F19: =SUM(G19:R19) -> 0
A20: 4. | B20: ………………………………...(.................zł) | D20: =E21+F22 -> 0 | E20: x | F20: x | G20: =SUM(G21:G22) -> 0 | H20: =SUM(H21:H22) -> 0 | I20: =SUM(I21:I22) -> 0 | J20: =SUM(J21:J22) -> 0 | K20: =SUM(K21:K22) -> 0 | L20: =SUM(L21:L22) -> 0 | M20: =SUM(M21:M22) -> 0 | N20: =SUM(N21:N22) -> 0 | ... R20: =SUM(R21:R22) -> 0
A21: z tego: - rata kapitałowa | D21: x | E21: =SUM(G21:R21) -> 0 | F21: x
A22: - odsetki | D22: x | E22: x | F22: =SUM(G22:R22) -> 0
A23: 5. | B23: ………………………………...(.................zł) | D23: =E24+F25 -> 0 | E23: x | F23: x | G23: =SUM(G24:G25) -> 0 | H23: =SUM(H24:H25) -> 0 | I23: =SUM(I24:I25) -> 0 | J23: =SUM(J24:J25) -> 0 | K23: =SUM(K24:K25) -> 0 | L23: =SUM(L24:L25) -> 0 | M23: =SUM(M24:M25) -> 0 | N23: =SUM(N24:N25) -> 0 | ... R23: =SUM(R24:R25) -> 0
A24: z tego: - rata kapitałowa | D24: x | E24: =SUM(G24:R24) -> 0 | F24: x
A25: - odsetki | D25: x | E25: x | F25: =SUM(G25:R25) -> 0
A26: 6. | B26: ………………………………...(.................zł) | D26: =E27+F28 -> 0 | E26: x | F26: x | G26: =SUM(G27:G28) -> 0 | H26: =SUM(H27:H28) -> 0 | I26: =SUM(I27:I28) -> 0 | J26: =SUM(J27:J28) -> 0 | K26: =SUM(K27:K28) -> 0 | L26: =SUM(L27:L28) -> 0 | M26: =SUM(M27:M28) -> 0 | N26: =SUM(N27:N28) -> 0 | ... R26: =SUM(R27:R28) -> 0
A27: z tego: - rata kapitałowa | D27: x | E27: =SUM(G27:R27) -> 0 | F27: x
A28: - odsetki | D28: x | E28: x | F28: =SUM(G28:R28) -> 0
A29: 7. | B29: ………………………………...(.................zł) | D29: =E30+F31 -> 0 | E29: x | F29: x | G29: =SUM(G30:G31) -> 0 | H29: =SUM(H30:H31) -> 0 | I29: =SUM(I30:I31) -> 0 | J29: =SUM(J30:J31) -> 0 | K29: =SUM(K30:K31) -> 0 | L29: =SUM(L30:L31) -> 0 | M29: =SUM(M30:M31) -> 0 | N29: =SUM(N30:N31) -> 0 | ... R29: =SUM(R30:R31) -> 0
A30: z tego: - rata kapitałowa | D30: x | E30: =SUM(G30:R30) -> 0 | F30: x
A31: - odsetki | D31: x | E31: x | F31: =SUM(G31:R31) -> 0
A32: 8. | B32: ………………………………...(.................zł) | D32: =E33+F34 -> 0 | E32: x | F32: x | G32: =SUM(G33:G34) -> 0 | H32: =SUM(H33:H34) -> 0 | I32: =SUM(I33:I34) -> 0 | J32: =SUM(J33:J34) -> 0 | K32: =SUM(K33:K34) -> 0 | L32: =SUM(L33:L34) -> 0 | M32: =SUM(M33:M34) -> 0 | N32: =SUM(N33:N34) -> 0 | ... R32: =SUM(R33:R34) -> 0
A33: z tego: - rata kapitałowa | D33: x | E33: =SUM(G33:R33) -> 0 | F33: x
A34: - odsetki | D34: x | E34: x | F34: =SUM(G34:R34) -> 0
A35: 9. | B35: ………………………………...(.................zł) | D35: =E36+F37 -> 0 | E35: x | F35: x | G35: =SUM(G36:G37) -> 0 | H35: =SUM(H36:H37) -> 0 | I35: =SUM(I36:I37) -> 0 | J35: =SUM(J36:J37) -> 0 | K35: =SUM(K36:K37) -> 0 | L35: =SUM(L36:L37) -> 0 | M35: =SUM(M36:M37) -> 0 | N35: =SUM(N36:N37) -> 0 | ... R35: =SUM(R36:R37) -> 0
A36: z tego: - rata kapitałowa | D36: x | E36: =SUM(G36:R36) -> 0 | F36: x
A37: - odsetki | D37: x | E37: x | F37: =SUM(G37:R37) -> 0
A38: 10. | B38: ………………………………...(.................zł) | D38: =E39+F40 -> 0 | E38: x | F38: x | G38: =SUM(G39:G40) -> 0 | H38: =SUM(H39:H40) -> 0 | I38: =SUM(I39:I40) -> 0 | J38: =SUM(J39:J40) -> 0 | K38: =SUM(K39:K40) -> 0 | L38: =SUM(L39:L40) -> 0 | M38: =SUM(M39:M40) -> 0 | N38: =SUM(N39:N40) -> 0 | ... R38: =SUM(R39:R40) -> 0
A39: z tego: - rata kapitałowa | D39: x | E39: =SUM(G39:R39) -> 0 | F39: x
A40: - odsetki | D40: x | E40: x | F40: =SUM(G40:R40) -> 0
...

Sheet PORĘCZENIA
B1: Zobowiązania finansowe jednostki samorządu terytorialnego z tytułu udzielonych poręczeń | S1: x
G2: stan aktualny na dzień: | I2: ='DANE ZBIORCZO'!B6 -> 31.12.2023 r.
A3: TERYT i Nazwa JST | D3: ='DANE ZBIORCZO'!B8 -> 1611053 | E3: ='DANE ZBIORCZO'!B7 -> Gmina Strzelce Opolskie
A4: Udzielone PORĘCZENIA: - Należy podać nazwę instytucji (bank, WFOŚiGW itp.), wobec której j.s.t. może mieć/ma zobowiązanie - Kwota zobowiązania wynikająca z umowy | C4: Uwagi o poręczeniu: - Nazwa podmiotu, któremu udzielono poręczenia - Data zawarcia umowy, - Data ewentualnych aneksów, | D4: ="niespłacone zobowiązania na dzień "&TEXT('DANE ZBIORCZO'!B6,"dd.mm.rrrr")&" (4+5+6+…+15)" -> niespłacone zobowiązania na dzień 31.12.2023 r. (4+5+6+…+15)
G5: 2024 r. | H5: 2025 r. | I5: 2026 r. | J5: 2027 r. | K5: 2028 r. | L5: 2029 r. | M5: 2030 r. | N5: 2031 r. | O5: 2032 r. | P5: 2033 r. | Q5: 2034 r. | R5: 2035 r.
A6: 1 | C6: 2 | D6: 3 | G6: 4 | H6: 5 | I6: 6 | J6: 7 | K6: 8 | L6: 9 | M6: 10 | N6: 11 | O6: 12 | P6: 13 | Q6: 14 | R6: 15
A7: PORĘCZENIA
A8: R A Z E M (1+2+...+10 itd), z tego: | D8: =SUM(D11:D65536) -> 0 | E8: x | F8: x | G8: =SUM(G11,G14,G17,G20,G23) -> 0 | H8: =SUM(H11,H14,H17,H20,H23) -> 0 | I8: =SUM(I11,I14,I17,I20,I23) -> 0 | J8: =SUM(J11,J14,J17,J20,J23) -> 0 | K8: =SUM(K11,K14,K17,K20,K23) -> 0 | L8: =SUM(L11,L14,L17,L20,L23) -> 0 | M8: =SUM(M11,M14,M17,M20,M23) -> 0 | N8: =SUM(N11,N14,N17,N20,N23) -> 0 | ... R8: =SUM(R11,R14,R17,R20,R23) -> 0
A9: - rata kapitałowa | D9: x | E9: =SUM(E11:E65536) -> 0 | F9: x | G9: =SUM(G12,G15,G18,G21,G24) -> 0 | H9: =SUM(H12,H15,H18,H21,H24) -> 0 | I9: =SUM(I12,I15,I18,I21,I24) -> 0 | J9: =SUM(J12,J15,J18,J21,J24) -> 0 | K9: =SUM(K12,K15,K18,K21,K24) -> 0 | L9: =SUM(L12,L15,L18,L21,L24) -> 0 | M9: =SUM(M12,M15,M18,M21,M24) -> 0 | N9: =SUM(N12,N15,N18,N21,N24) -> 0 | ... R9: =SUM(R12,R15,R18,R21,R24) -> 0
A10: - odsetki | D10: x | E10: x | F10: =SUM(F11:F65536) -> 0 | G10: =SUM(G13,G16,G19,G22,G25) -> 0 | H10: =SUM(H13,H16,H19,H22,H25) -> 0 | I10: =SUM(I13,I16,I19,I22,I25) -> 0 | J10: =SUM(J13,J16,J19,J22,J25) -> 0 | K10: =SUM(K13,K16,K19,K22,K25) -> 0 | L10: =SUM(L13,L16,L19,L22,L25) -> 0 | M10: =SUM(M13,M16,M19,M22,M25) -> 0 | N10: =SUM(N13,N16,N19,N22,N25) -> 0 | ... R10: =SUM(R13,R16,R19,R22,R25) -> 0
A11: 1. | B11: ………………………………...(.................zł) | D11: =E12+F13 -> 0 | E11: x | F11: x | G11: =SUM(G12:G13) -> 0 | H11: =SUM(H12:H13) -> 0 | I11: =SUM(I12:I13) -> 0 | J11: =SUM(J12:J13) -> 0 | K11: =SUM(K12:K13) -> 0 | L11: =SUM(L12:L13) -> 0 | M11: =SUM(M12:M13) -> 0 | N11: =SUM(N12:N13) -> 0 | ... R11: =SUM(R12:R13) -> 0
A12: z tego: - rata kapitałowa | D12: x | E12: =SUM(G12:R12) -> 0 | F12: x
A13: - odsetki | D13: x | E13: x | F13: =SUM(G13:R13) -> 0
A14: 2. | B14: ………………………………...(.................zł) | D14: =E15+F16 -> 0 | E14: x | F14: x | G14: =SUM(G15:G16) -> 0 | H14: =SUM(H15:H16) -> 0 | I14: =SUM(I15:I16) -> 0 | J14: =SUM(J15:J16) -> 0 | K14: =SUM(K15:K16) -> 0 | L14: =SUM(L15:L16) -> 0 | M14: =SUM(M15:M16) -> 0 | N14: =SUM(N15:N16) -> 0 | ... R14: =SUM(R15:R16) -> 0
A15: z tego: - rata kapitałowa | D15: x | E15: =SUM(G15:R15) -> 0 | F15: x
A16: - odsetki | D16: x | E16: x | F16: =SUM(G16:R16) -> 0
A17: 3. | B17: ………………………………...(.................zł) | D17: =E18+F19 -> 0 | E17: x | F17: x | G17: =SUM(G18:G19) -> 0 | H17: =SUM(H18:H19) -> 0 | I17: =SUM(I18:I19) -> 0 | J17: =SUM(J18:J19) -> 0 | K17: =SUM(K18:K19) -> 0 | L17: =SUM(L18:L19) -> 0 | M17: =SUM(M18:M19) -> 0 | N17: =SUM(N18:N19) -> 0 | ... R17: =SUM(R18:R19) -> 0
A18: z tego: - rata kapitałowa | D18: x | E18: =SUM(G18:R18) -> 0 | F18: x
A19: - odsetki | D19: x | E19: x | F19: =SUM(G19:R19) -> 0
A20: 4. | B20: ………………………………...(.................zł) | D20: =E21+F22 -> 0 | E20: x | F20: x | G20: =SUM(G21:G22) -> 0 | H20: =SUM(H21:H22) -> 0 | I20: =SUM(I21:I22) -> 0 | J20: =SUM(J21:J22) -> 0 | K20: =SUM(K21:K22) -> 0 | L20: =SUM(L21:L22) -> 0 | M20: =SUM(M21:M22) -> 0 | N20: =SUM(N21:N22) -> 0 | ... R20: =SUM(R21:R22) -> 0
A21: z tego: - rata kapitałowa | D21: x | E21: =SUM(G21:R21) -> 0 | F21: x
A22: - odsetki | D22: x | E22: x | F22: =SUM(G22:R22) -> 0
A23: 5. | B23: ………………………………...(.................zł) | D23: =E24+F25 -> 0 | E23: x | F23: x | G23: =SUM(G24:G25) -> 0 | H23: =SUM(H24:H25) -> 0 | I23: =SUM(I24:I25) -> 0 | J23: =SUM(J24:J25) -> 0 | K23: =SUM(K24:K25) -> 0 | L23: =SUM(L24:L25) -> 0 | M23: =SUM(M24:M25) -> 0 | N23: =SUM(N24:N25) -> 0 | ... R23: =SUM(R24:R25) -> 0
A24: z tego: - rata kapitałowa | D24: x | E24: =SUM(G24:R24) -> 0 | F24: x
A25: - odsetki | D25: x | E25: x | F25: =SUM(G25:R25) -> 0
B27: Data sporządzenia: | C27: ='DANE ZBIORCZO'!B25 -> 05.02.2024r. | K27: ='DANE ZBIORCZO'!C34 -> Tadeusz Goc
B28: Imię i nazwisko osoby sporządzającej: | C28: ='DANE ZBIORCZO'!B26 -> Katarzyna Szufla | K28: …………………………………………………………………….
B29: Tel. do osoby sporządzającej: | C29: ='DANE ZBIORCZO'!B27 -> 77 40 49 328 | K29: Podpis Przewodniczącego Zarządu

Sheet Pozostałe operacje finansowe
B1: Jeśli dane zjawisko nie występuje to w kol z kwotami wpisać 0, a w kol. opisowych wpisać "NIE DOTYCZY"
B3: Nazwa JST: | C3: =KREDYTY!E3 -> Gmina Strzelce Opolskie
B4: Symbol TERYT: | C4: =KREDYTY!D3 -> 1611053
B6: I. Zobowiązania finansowe | C6: stan na dzień: | D6: ='DANE ZBIORCZO'!B6 -> 31.12.2023 r.
B7: W przypadku wystąpienia operacji finansowych, o których mowa w poniższej tabeli, należy w uwagach podać informacje zawierające datę zawarcia umowy, okres, na jaki została zawarta, strony umowy, kwotę operacji.
A8: Lp. | B8: Wyszczególnienie operacji finansowych dotyczących: | C8: Kwota | D8: Uwagi
A9: 1 | B9: finansowania w pozabankowych instytucjach finansowych (tj. firmach pożyczkowych, parabankach, które prowadzą działalność polegającą na gromadzeniu kapitału i obarczeniu go ryzykiem bez odpowiedniej licencji Komisji Nadzoru Finansowego) | C9: 0 | D9: NIE DOTYCZY
A10: 2 | B10: leasingu finansowego | C10: 0 | D10: NIE DOTYCZY
A11: 3 | B11: leasingu operacyjnego | C11: 0 | D11: NIE DOTYCZY
A12: 4 | B12: leasingu zwrotnego nieruchomości | C12: 0 | D12: NIE DOTYCZY
A13: 5 | B13: sprzedaży zwrotnej tj. transakcji, w których obecny właściciel przedmiotu (środka trwałego) sprzedaje go i jednocześnie zawiera z kupującym (teraz już leasingodawcą/ wydzierżawiającym/wynajmującym) umowę leasingu/ dzierzawy/najmu. Były właściciel, teraz leasingobiorca/dzierżawca/najemca, otrzymuje możliwość użytkowania przedmiotu leasingu/dzierżawy/najmu i często zapewnia sobie prawo odkupienia po wygaśnięciu umowy | C13: 0 | D13: NIE DOTYCZY
A14: 6 | B14: finansowania z wykorzystaniem podmiotów trzecich przejmujących wierzytelności niewymagalne i oferujących zamianę harmonogramu ich spłaty na korzystniejszą dla samorządu | C14: 0 | D14: NIE DOTYCZY
A15: 7 | B15: subrogacji wymagalnych wierzytelności od samorządu i ich zamiany na wierzytelności niewymagalne | C15: 0 | D15: NIE DOTYCZY
A16: 8 | B16: sprzedaży przez samorząd papierów wartościowych lub innych praw własności (np. akcji/udziałów w spółkach komunalnych) z przyrzeczeniem ich odkupu (buy-sell-back) | C16: 0 | D16: NIE DOTYCZY
A17: 9 | B17: zakupu przez samorząd własnych dłużnych papierów wartościowych z przyrzeczeniem ich odsprzedaży (sell-buy-back), np. w celu obniżenia zadłużenia na dzień sprawozdawczy | C17: 0 | D17: NIE DOTYCZY
A18: 10 | B18: operacji krzyżowych wymiany papierów wartościowych, polegających na jednoczesnym przeprowadzeniu operacji buy-sell-back i sell-buy-back | C18: 0 | D18: NIE DOTYCZY
A19: 11 | B19: transferu długu do spółek komunalnych, obejmowania udziałów w spółkach komunalnych i dopłat zwrotnych do spółek | C19: 0 | D19: NIE DOTYCZY
A20: 12 | B20: finansowania z wykorzystaniem funduszy inwestycyjnych | C20: 0 | D20: NIE DOTYCZY
... A23: 15 | B23: inne – opisać jakie | C23: 23716550 | D23: Umowy ustanowienia zastawu rejestrowego na udziałach w Spółce kolejno: umowa z dn. 19.01.2015r na kwotę 4.950.000,00; umowa z dn. 19.05.2015r. na kwotę 1.044.450,00 oraz umowa z dn. 20.07.2017r. na kwotę 17.722.100,00
B26: Data sporządzenia: | C26: ='DANE ZBIORCZO'!B25 -> 05.02.2024r.
B27: Imię i nazwisko osoby sporządzającej: | C27: ='DANE ZBIORCZO'!B26 -> Katarzyna Szufla
B28: Tel. do osoby sporządzającej: | C28: ='DANE ZBIORCZO'!B27 -> 77 40 49 328
E32: ='DANE ZBIORCZO'!C34 -> Tadeusz Goc
E33: …………………………………………………………………….
E34: Podpis Przewodniczącego Zarządu

Sheet Informacje dla KRRIO
C1: Należy wypełnić wszystkie pola z kolorowym tłem. Jeśli dane zjawisko nie występuje to w kol z kwotami wpisać 0, a w kol. opisowych wpisać "NIE DOTYCZY" | I1: VER. 2024-01-22
E2: Kod jednostki
C3: ='DANE ZBIORCZO'!B7 -> Gmina Strzelce Opolskie | E3: =MID('DANE ZBIORCZO'!B8,1,2) -> 16 | F3: =MID('DANE ZBIORCZO'!B8,3,2) -> 11 | G3: =MID('DANE ZBIORCZO'!B8,5,2) -> 05 | H3: =MID('DANE ZBIORCZO'!B8,7,1) -> 3
C4: Nazwa JST | E4: WK | F4: PK | G4: GK | H4: GT
C7: ="A. Uszczegółowienie danych dot. zobowiązań wykazanych w cz. A, wierszu E.2. i E.2.1. sprawozdania Rb-Z [*] wg stanu na "&TEXT('DANE ZBIORCZO'!B6,"dd.mm.rrrr") -> A. Uszczegółowienie danych dot. zobowiązań wykazanych w cz. A, wierszu E.2. i E.2.1. sprawozdania Rb-Z [*] wg stanu na 31.12.2023 r.
B9: Lp. | C9: Wyszczególnienie | D9: Kwota zobowiązań ogółem (poz. E2.) | E9: w tym: krótkoterminowe (poz. E2.1)
C10: Ogółem, w tym z tytułu: | D10: =+SUM(D11:D22) -> 21690020 | E10: =+SUM(E11:E22) -> 0
B11: 1 | C11: kredytów i pożyczek zaciągniętych w bankach krajowych lub w bankach zagranicznych (tych które działają w oparciu o prawo bankowe i mają zezwolenie KNF) | D11: 21600020 | E11: 0
B12: =+B11+1 -> 2 | C12: kredytów i pożyczek zaciągniętych w zagranicznych instytucjach finansowych (nie będących bankami) | D12: 0 | E12: 0
B13: =+B12+1 -> 3 | C13: pożyczek zaciągniętych w NFOŚiGW lub WFOŚiGW | D13: 90000 | E13: 0
B14: =+B13+1 -> 4 | C14: pożyczek zaciągniętych z budżetu państwa | D14: 0 | E14: 0
B15: =+B14+1 -> 5 | C15: pożyczek zaciągniętych w fundacjach i stowarzyszeniach np. EFRWP (Fundacja Europejski Fundusz Rozwoju Wsi Polskiej) | D15: 0 | E15: 0
B16: =+B15+1 -> 6 | C16: kredytów i pożyczek zaciągniętych w podmiotach nie będących bankami (tj. takich, które NIE DZIAŁAJĄ w oparciu o Prawo bankowe i NIE MAJĄ zezwolenia KNF wydanego na podstawie ustawy Prawo bankowe) | D16: 0 | E16: 0
B17: =+B16+1 -> 7 | C17: wyemitowanych papierów wartościowych, których zbywalność jest ograniczona | D17: 0 | E17: 0 | F17: =IF(SUM(D17:D22)=D29,"OK.","Suma pozycji od nr 7 do 12 powinna być zgodna z komórką B29 w części B.Ankieta MF. Proszę sprawdzić poprawność danych lub wyjaśnić różnicę") -> OK. | G17: =IF(F17="OK."," ","WYJAŚNIENIE:")
B18: =+B17+1 -> 8 | C18: umów o partnerstwie publiczno-prywatnym oraz umowy o poprawę efektywności energetycznej, które mają wpływ na poziom długu publicznego | D18: 0 | E18: 0
