Workbook
Name _Hlk42630443: #REF!
Name _Toc42678929: #REF!
Name liniowe: 'kody działań'!$A$62:$A$72
Name lista: 'kody działań'!$A$56:$A$59
Name listadzialan: 'kody działań'!$A$56:$A$59
Name Nazwy_Gmin: 'lista gmin'!$C$3:$C$84
Name powierzchniowe: 'kody działań'!$A$75:$A$83
Name punktowe: 'kody działań'!$A$86:$A$95
Name sposob_finansowania: 'kody działań'!$A$152:$A$157
Name wskaznik_monitorowania_akcji: 'kody działań'!$A$137:$A$146
Name wspomagajace: 'kody działań'!$A$98:$A$105

Sheet Tabela Informacyjna
B2: TABELA INFORMACYJNA
A4: Informacje ogólne na temat sprawozdania okresowego z realizacji programu ochrony powietrza
A5: Lp. | B5: Zawartość | C5: Opis
A6: 1 | B6: Rok referencyjny | C6: 2023
A7: 2 | B7: Województwo | C7: opolskie
A8: 3 | B8: Kod strefy (informacje wypełniane automatycznie po dokonaniu wyboru gminy lub starostwa) | C8: =IFERROR(VLOOKUP($C$11,'lista gmin'!$C$1:$F$84,4,FALSE),"") -> PL1602 strefa opolska
A9: 4 | B9: Kod programu ochrony powietrza | C9: PL16PM10dPM2,5aPaPa_2018
A10: 5 | B10: Adres strony internetowej, pod którym znajduje się sprawozdanie okresowe z realizacji programu ochrony powietrza | C10: https://bip.strzelceopolskie.pl/komunikaty_i_wykazy/referat_gospodarki_komunalnej_i_ochrony_srodowiska/Ogloszenie-o-Programie-Ochrony-Powietrza-za-rok-2023/idn:4255.html
A11: 6 | B11: Gmina/Powiat * (należy wybrać gminę z listy rozwijalnej, której dotyczy sprawozdanie) | C11: Strzelce Opolskie | D11: =IFERROR(VLOOKUP(C11,'lista gmin'!C3:D84,2,FALSE),"") -> strzelecki
A12: 7a | B12: Nazwa urzędu przedstawiającego sprawozdanie | C12: =IFERROR(VLOOKUP($C$11,'lista gmin'!$C$1:$F$84,3,FALSE),"") -> Urząd Miejski
A13: 7b | B13: Adres pocztowy urzędu przedstawiającego sprawozdanie * (należy wpisać dane jednostki składającej sprawozdanie) | C13: Plac Myśliwca 1, 47-100 Strzelce Opolskie
A14: 8 | B14: Nazwisko osoby do kontaktu * (należy wpisać dane osoby przygotowującej sprawozdanie) | C14: Jarosław Gaik
A15: 9 | B15: Numer służbowego telefonu osoby do kontaktu * (należy wpisać numer telefonu osoby przygotowującej sprawozdanie ) | C15: 775465350
A16: 10 | B16: Służbowy adres e-mail osoby do kontaktu * (należy wpisać numer telefonu osoby przygotowującej sprawozdanie ) | C16: j.gaik@strzelceopolskie.eu
A17: 11 | B17: Uwagi
B18: * pole obowiązkowe do wypełnienia
B19: komórek zaznaczonych na niebiesko nie należy wypełniać

Sheet ZSO
A2: II. Zestawienie informacji na temat realizacji działań naprawczych
A3: Lp. | B3: Zawartość | C3: Odpowiedź
A4: 1 | B4: Kod działania naprawczego | C4: PL1602_ZSO
A5: 2 | B5: Tytuł | C5: Ograniczenie emisji z instalacji o małej mocy do 1 MW włącznie, w których następuje spalanie paliw stałych
A6: 3. | B6: Gmina (należy wybrać gminę z listy rozwijalnej, której dotyczy sprawozdanie) | C6: =IF('Tabela Informacyjna'!C11=0,"",'Tabela Informacyjna'!C11) -> Strzelce Opolskie
A7: 4 | B7: Kod sytuacji przekroczenia (informacje wypełniane automatycznie) | C7: =IFERROR(VLOOKUP(C6,'kody działań'!E:F,2,FALSE),"")
A9: 5 | B9: Opis działania (należy wprowadzić krótki opis realizowanego działania przez gminę) | C9: Wymiana nieekologicznych źródeł ciepła na paliwa stałe.
A10: 6 | B10: Nazwa i kod strefy (informacje wypełniane automatycznie) | C10: =IFERROR(VLOOKUP(C6,'lista gmin'!C:F,4,FALSE),"") -> PL1602 strefa opolska
A15: 7 | B15: Obszar (należy wskazać obszar realizacji działania - miejscowość, dzielnica) | C15: Strzelce Opolskie, Rożniątów, Szymiszów-Osiedle, Płużnica Wielka, Osiek, Sucha, Szymiszów, Banatki Duże, Błotnica Strzelecka, Kalinów, Dziewkowice, Szczepanek, Grodzisko, Rozmierka, Ściegna, Kadłub, Kadłubski Piec, Warmątowice, Kalinowice, Brzezina.
A17: 8 | B17: Termin zastosowania (należy podać termin realizacji działania w formacie rok- miesiąc - dzień) | C17: data od | D17: 44927
C18: data do | D18: 45291
A19: 9 | B19: Stan zaawansowania realizacji działania naprawczego w odniesieniu do wartosci zaplanowanej do wykonania w danym roku sprawozdawczym | C19: NIE DOTYCZY
A20: 10 | B20: Skala czasowa osiągnięcia redukcji stężenia | C20: długoterminowe
A21: 11 | B21: Kategoria źródeł emisji, której dotyczy działanie naprawcze | C21: D: źródła związane z handlem i mieszkalnictwem
A22: 12 | B22: Wskaźnik(i) monitorowania postępu | C22: Liczba zlikwidowanych kotłów na paliwo stałe [szt.] | D22: 61
C23: Liczba i powierzchnia budynków, w tym jednorodzinnych i wielorodzinnych lub lokali, w których zlikwidowano nieefektywne indywidualne źródło ciepła na paliwa stałe na: | D23: z termomodernizacją | F23: bez termomodernizacji
D24: Liczba [szt.] | E24: Powierzchnia [m2] | F24: Liczba [szt.] | G24: Powierzchnia [m2]
D25: wpisz dane liczbowe lub pozostaw puste | E25: wpisz dane liczbowe lub pozostaw puste | F25: wpisz dane liczbowe lub pozostaw puste | G25: wpisz dane liczbowe lub pozostaw puste
C26: podłączenie do sieci ciepłowniczej | D26: 0 | E26: 0 | F26: 0 | G26: 0
C27: ogrzewanie gazowe | D27: 5 | E27: 916.93 | F27: 2 | G27: 320
C28: odnawialne źródło energii (pompa ciepła gruntowa lub powietrzna) | D28: 17 | E28: 3196.89 | F28: 29 | G28: 6553.88
C29: kocioł węglowy spełniający wymagania ekoprojektu | D29: 2 | E29: 366 | F29: 0 | G29: 0
C30: kocioł na biomasę spełniający wymagania ekoprojektu | D30: 2 | E30: 320 | F30: 3 | G30: 575
C31: ogrzewanie elektryczne | D31: 0 | E31: 0 | F31: 1 | G31: 190
C32: ogrzewanie olejem opałowym | D32: 0 | E32: 0 | F32: 0 | G32: 0
C33: SUMA | D33: =SUM(D26:D32) -> 26 | E33: =SUM(E26:E32) -> 4799.82 | F33: =SUM(F26:F32) -> 35 | G33: =SUM(G26:G32) -> 7638.88
C34: Szacunkowa redukcja emisji osiągnięta poprzez zlikwidowanie tradycyjnego kotła węglowego i zmiany sposobu ogrzewania na [kg/rok]: | D34: z termomodernizacją | F34: bez termomodernizacji
A35: 12 | D35: PM10 | E35: PM2,5 | F35: B(a)P | G35: PM10
D36: sprawozdanie JST: suma iloczynów poddanych termomodernizacji i wskaźnika efektu ekologicznego PM10 dla sieci ciepłowniczej+termomdodernizacja sprawozdanie do MS: agregacja danych ze sprawozdań JST z danej strefy | E36: sprawozdanie JST: suma iloczynów powierzchni bud. poddanych termomodernizacji i wskaźnika efektu ekologicznego PM2,5 dla sieci ciepłowniczej + termomodernizacja sprawozdanie do MS: agregacja danych ze sprawozdań JST z danej strefy | F36: sprawozdanie JST: suma iloczynów powierzchni bud. poddanych termomodernizacji i wskaźnika efektu ekologicznego B(a)P dla sieci ciepłowniczej+termomodernizacja sprawozdanie do MS: agregacja danych ze sprawozdań JST z danej strefy | G36: sprawozdanie JST: suma iloczynów niepoddanych termomodernizacji i wskaźnika efektu ekologicznego PM10 dla sieci ciepłowniczej sprawozdanie do MS: agregacja danych ze sprawozdań JST z danej strefy | H36: PM2,5 | I36: *PM2,5 dot tylko aglomeracji bydgoskiej - kolumna albo do wyszarzenia albo ukrycia (jak nam wygodniej)
C37: podłączenie sieci cieplnej | D37: =($E26*'wskaźniki POP_przeliczenie efek'!D6)/100 -> 0 | E37: =($E26*'wskaźniki POP_przeliczenie efek'!E6)/100 -> 0 | F37: =($E26*'wskaźniki POP_przeliczenie efek'!F6)/100 -> 0 | G37: =($G26*'wskaźniki POP_przeliczenie efek'!D6)/100 -> 0 | H37: sprawozdanie JST: suma iloczynów powierzchni bud. niepoddanych termomodernizacji i wskaźnika efektu ekologicznego PM2,5 dla sieci ciepłowniczej sprawozdanie do MS: agregacja danych ze sprawozdań JST z danej strefy
C38: ogrzewanie gazowe | D38: =($E27*'wskaźniki POP_przeliczenie efek'!D15)/100 -> 4.5415543 | E38: =($E27*'wskaźniki POP_przeliczenie efek'!E15)/100 -> 4.4746184 | F38: =($E27*'wskaźniki POP_przeliczenie efek'!F15)/100 -> 0.0022464785 | G38: =($G27*'wskaźniki POP_przeliczenie efek'!D7)/100 -> 1.58368 | H38: =($G26*'wskaźniki POP_przeliczenie efek'!E6)/100 -> 0
C39: odnawialne źródło energii | D39: =($E28*'wskaźniki POP_przeliczenie efek'!D8)/100 -> 15.869362 | E39: =($E28*'wskaźniki POP_przeliczenie efek'!E8)/100 -> 15.632792 | F39: =($E28*'wskaźniki POP_przeliczenie efek'!F8)/100 -> 0.0078643494 | G39: =($G28*'wskaźniki POP_przeliczenie efek'!D8)/100 -> 32.53346 | H39: =($G27*'wskaźniki POP_przeliczenie efek'!E7)/100 -> 1.56
C40: kocioł węglowy spełniający wymagania ekoprojektu, reczny | D40: =($E29*'wskaźniki POP_przeliczenie efek'!D17)/100 -> 1.731912 | E40: =($E29*'wskaźniki POP_przeliczenie efek'!E17)/100 -> 1.723494 | F40: =($E29*'wskaźniki POP_przeliczenie efek'!F17)/100 -> 0.00077226 | G40: =($G29*'wskaźniki POP_przeliczenie efek'!D9)/100 -> 0 | H40: =($G28*'wskaźniki POP_przeliczenie efek'!E8)/100 -> 32.048473
C41: kocioł węglowy spełniający wymagania ekoprojektu, automatyczny | D41: =(#REF!*'wskaźniki POP_przeliczenie efek'!D18)/100 -> #REF! | E41: =(#REF!*'wskaźniki POP_przeliczenie efek'!E18)/100 -> #REF! | F41: =(#REF!*'wskaźniki POP_przeliczenie efek'!F18)/100 -> #REF! | G41: =(#REF!*'wskaźniki POP_przeliczenie efek'!D10)/100 -> #REF! | H41: =($G29*'wskaźniki POP_przeliczenie efek'!E9)/100 -> 0
C42: kocioł na biomasę spełniający wymagania ekoprojektu, ręczny | D42: =($E30*'wskaźniki POP_przeliczenie efek'!D19)/100 -> 1.5168 | E42: =($E30*'wskaźniki POP_przeliczenie efek'!E19)/100 -> 1.496 | F42: =($E30*'wskaźniki POP_przeliczenie efek'!F19)/100 -> 0.0006912 | G42: =($G30*'wskaźniki POP_przeliczenie efek'!D11)/100 -> 2.6703 | H42: =(#REF!*'wskaźniki POP_przeliczenie efek'!E10)/100 -> #REF!
C43: kocioł na biomasę spełniający wymagania ekoprojektu, automatyczny | D43: =(#REF!*'wskaźniki POP_przeliczenie efek'!D20)/100 -> #REF! | E43: =(#REF!*'wskaźniki POP_przeliczenie efek'!E20)/100 -> #REF! | F43: =(#REF!*'wskaźniki POP_przeliczenie efek'!F20)/100 -> #REF! | G43: =(#REF!*'wskaźniki POP_przeliczenie efek'!D12)/100 -> #REF! | H43: =($G30*'wskaźniki POP_przeliczenie efek'!E11)/100 -> 2.635225
C44: ogrzewanie elektryczne | D44: =($E31*'wskaźniki POP_przeliczenie efek'!D13)/100 -> 0 | E44: =($E31*'wskaźniki POP_przeliczenie efek'!E13)/100 -> 0 | F44: =($E31*'wskaźniki POP_przeliczenie efek'!F13)/100 -> 0 | G44: =($G31*'wskaźniki POP_przeliczenie efek'!D13)/100 -> 0.94316 | H44: =(#REF!*'wskaźniki POP_przeliczenie efek'!E12)/100 -> #REF!
C45: ogrzewanie olejem opałowy | D45: =($E32*'wskaźniki POP_przeliczenie efek'!D16)/100 -> 0 | E45: =($E32*'wskaźniki POP_przeliczenie efek'!E16)/100 -> 0 | F45: =($E32*'wskaźniki POP_przeliczenie efek'!F16)/100 -> 0 | G45: =($G32*'wskaźniki POP_przeliczenie efek'!D14)/100 -> 0 | H45: =($G31*'wskaźniki POP_przeliczenie efek'!E13)/100 -> 0.9291
C46: inne | H46: =($G32*'wskaźniki POP_przeliczenie efek'!E14)/100 -> 0
C47: SUMA | D47: =SUM(D37:D46) -> #REF! | E47: =SUM(E37:E46) -> #REF! | F47: =SUM(F37:F46) -> #REF! | G47: =SUM(G37:G46) -> #REF!
...

Sheet EE
A2: II. Zestawienie informacji na temat realizacji działań naprawczych
A3: Lp. | B3: Zawartość | C3: Odpowiedź
A4: 1 | B4: Kod działania naprawczego | C4: PL1602_EE
A5: 2 | B5: Tytuł | C5: Prowadzenie edukacji ekologicznej (ulotki, imprezy, akcje edukacyjne, audycje, konferencje, działania informacyjne i szkoleniowe) związanej z ochroną powietrza
A6: 3. | B6: Gmina | C6: =IF('Tabela Informacyjna'!C11=0,"",'Tabela Informacyjna'!C11) -> Strzelce Opolskie
A7: 4 | B7: Kod sytuacji przekroczenia | C7: =IFERROR(VLOOKUP(C6,'kody działań'!E:F,2,FALSE),"")
A9: 5 | B9: Opis działania | C9: Prowadzenie działań edukacyjnych w 17 placówkach szkolnych i przedszkolnych na terenie Gminy Strzelce Opolskie
A10: 6 | B10: Nazwa i kod strefy | C10: =IFERROR(VLOOKUP(C6,'lista gmin'!C:F,4,FALSE),"") -> PL1602 strefa opolska
A15: 7 | B15: Obszar | C15: Gmina Strzelce Opolskie
A17: 8 | B17: Termin zastosowania | C17: data od | D17: 44927
C18: data do | D18: 45291
A19: 9 | B19: Stan zaawansowania realizacji działania naprawczego w odniesieniu do wartosci zaplanowanej do wykonania w danym roku sprawozdawczym (w %) | C19: 100
A20: 10 | B20: Skala czasowa osiągnięcia redukcji stężenia | C20: długoterminowe
A21: 11 | B21: Kategoria źródeł emisji, której dotyczy działanie naprawcze | C21: D: źródła związane z handlem i mieszkalnictwem
A22: 12 | C22: Szacunkowa redukcja emisji osiągnięta poprzez zlikwidowanie tradycyjnego kotła węglowego i zmiany sposobu ogrzewania na [kg/rok]: | D22: z termomodernizacją | G22: bez termomodernizacji
D23: PM10 | E23: PM2,5 | F23: B(a)P | G23: PM10 | H23: PM2,5 | I23: *PM2,5 dot tylko aglomeracji bydgoskiej - kolumna albo do wyszarzenia albo ukrycia (jak nam wygodniej)
D24: sprawozdanie JST: suma iloczynów poddanych termomodernizacji i wskaźnika efektu ekologicznego PM10 dla sieci ciepłowniczej+termomdodernizacja sprawozdanie do MS: agregacja danych ze sprawozdań JST z danej strefy | E24: sprawozdanie JST: suma iloczynów powierzchni bud. poddanych termomodernizacji i wskaźnika efektu ekologicznego PM2,5 dla sieci ciepłowniczej + termomodernizacja sprawozdanie do MS: agregacja danych ze sprawozdań JST z danej strefy | F24: sprawozdanie JST: suma iloczynów powierzchni bud. poddanych termomodernizacji i wskaźnika efektu ekologicznego B(a)P dla sieci ciepłowniczej+termomodernizacja sprawozdanie do MS: agregacja danych ze sprawozdań JST z danej strefy | G24: sprawozdanie JST: suma iloczynów niepoddanych termomodernizacji i wskaźnika efektu ekologicznego PM10 dla sieci ciepłowniczej sprawozdanie do MS: agregacja danych ze sprawozdań JST z danej strefy | H24: sprawozdanie JST: suma iloczynów powierzchni bud. niepoddanych termomodernizacji i wskaźnika efektu ekologicznego PM2,5 dla sieci ciepłowniczej sprawozdanie do MS: agregacja danych ze sprawozdań JST z danej strefy
C25: podłączenie sieci cieplnej | D25: =(#REF!*'wskaźniki POP_przeliczenie efek'!D6)/100 -> #REF! | E25: =(#REF!*'wskaźniki POP_przeliczenie efek'!E6)/100 -> #REF! | F25: =(#REF!*'wskaźniki POP_przeliczenie efek'!F6)/100 -> #REF! | G25: =(#REF!*'wskaźniki POP_przeliczenie efek'!D6)/100 -> #REF! | H25: =(#REF!*'wskaźniki POP_przeliczenie efek'!E6)/100 -> #REF!
C26: ogrzewanie gazowe | D26: =(#REF!*'wskaźniki POP_przeliczenie efek'!D15)/100 -> #REF! | E26: =(#REF!*'wskaźniki POP_przeliczenie efek'!E15)/100 -> #REF! | F26: =(#REF!*'wskaźniki POP_przeliczenie efek'!F15)/100 -> #REF! | G26: =(#REF!*'wskaźniki POP_przeliczenie efek'!D7)/100 -> #REF! | H26: =(#REF!*'wskaźniki POP_przeliczenie efek'!E7)/100 -> #REF!
C27: odnawialne źródło energii | D27: =(#REF!*'wskaźniki POP_przeliczenie efek'!D8)/100 -> #REF! | E27: =(#REF!*'wskaźniki POP_przeliczenie efek'!E8)/100 -> #REF! | F27: =(#REF!*'wskaźniki POP_przeliczenie efek'!F8)/100 -> #REF! | G27: =(#REF!*'wskaźniki POP_przeliczenie efek'!D8)/100 -> #REF! | H27: =(#REF!*'wskaźniki POP_przeliczenie efek'!E8)/100 -> #REF!
C28: kocioł węglowy spełniający wymagania ekoprojektu, reczny | D28: =(#REF!*'wskaźniki POP_przeliczenie efek'!D17)/100 -> #REF! | E28: =(#REF!*'wskaźniki POP_przeliczenie efek'!E17)/100 -> #REF! | F28: =(#REF!*'wskaźniki POP_przeliczenie efek'!F17)/100 -> #REF! | G28: =(#REF!*'wskaźniki POP_przeliczenie efek'!D9)/100 -> #REF! | H28: =(#REF!*'wskaźniki POP_przeliczenie efek'!E9)/100 -> #REF!
C29: kocioł węglowy spełniający wymagania ekoprojektu, automatyczny | D29: =(#REF!*'wskaźniki POP_przeliczenie efek'!D18)/100 -> #REF! | E29: =(#REF!*'wskaźniki POP_przeliczenie efek'!E18)/100 -> #REF! | F29: =(#REF!*'wskaźniki POP_przeliczenie efek'!F18)/100 -> #REF! | G29: =(#REF!*'wskaźniki POP_przeliczenie efek'!D10)/100 -> #REF! | H29: =(#REF!*'wskaźniki POP_przeliczenie efek'!E10)/100 -> #REF!
C30: kocioł na biomasę spełniający wymagania ekoprojektu, ręczny | D30: =(#REF!*'wskaźniki POP_przeliczenie efek'!D19)/100 -> #REF! | E30: =(#REF!*'wskaźniki POP_przeliczenie efek'!E19)/100 -> #REF! | F30: =(#REF!*'wskaźniki POP_przeliczenie efek'!F19)/100 -> #REF! | G30: =(#REF!*'wskaźniki POP_przeliczenie efek'!D11)/100 -> #REF! | H30: =(#REF!*'wskaźniki POP_przeliczenie efek'!E11)/100 -> #REF!
C31: kocioł na biomasę spełniający wymagania ekoprojektu, automatyczny | D31: =(#REF!*'wskaźniki POP_przeliczenie efek'!D20)/100 -> #REF! | E31: =(#REF!*'wskaźniki POP_przeliczenie efek'!E20)/100 -> #REF! | F31: =(#REF!*'wskaźniki POP_przeliczenie efek'!F20)/100 -> #REF! | G31: =(#REF!*'wskaźniki POP_przeliczenie efek'!D12)/100 -> #REF! | H31: =(#REF!*'wskaźniki POP_przeliczenie efek'!E12)/100 -> #REF!
C32: ogrzewanie elektryczne | D32: =(#REF!*'wskaźniki POP_przeliczenie efek'!D13)/100 -> #REF! | E32: =(#REF!*'wskaźniki POP_przeliczenie efek'!E13)/100 -> #REF! | F32: =(#REF!*'wskaźniki POP_przeliczenie efek'!F13)/100 -> #REF! | G32: =(#REF!*'wskaźniki POP_przeliczenie efek'!D13)/100 -> #REF! | H32: =(#REF!*'wskaźniki POP_przeliczenie efek'!E13)/100 -> #REF!
C33: ogrzewanie olejem opałowy | D33: =(#REF!*'wskaźniki POP_przeliczenie efek'!D16)/100 -> #REF! | E33: =(#REF!*'wskaźniki POP_przeliczenie efek'!E16)/100 -> #REF! | F33: =(#REF!*'wskaźniki POP_przeliczenie efek'!F16)/100 -> #REF! | G33: =(#REF!*'wskaźniki POP_przeliczenie efek'!D14)/100 -> #REF! | H33: =(#REF!*'wskaźniki POP_przeliczenie efek'!E14)/100 -> #REF!
C34: inne
C35: SUMA | D35: =SUM(D25:D34) -> #REF! | E35: =SUM(E25:E34) -> #REF! | F35: =SUM(F25:F34) -> #REF! | G35: =SUM(G25:G34) -> #REF! | H35: =SUM(H25:H34) -> #REF!
A36: 12 | B36: Wskaźnik(i) monitorowania postępu | C36: Liczba: | D36: [szt.]/[osoba]
C37: placówek oświatowych objętych edukacją ekologiczną | D37: 17
C38: przeprowadzonych kampanii | D38: 50
C39: przeprowadzonych akcji szkolnych | D39: 50
C40: przeprowadzonych konferencji | D40: 0
C41: przygotowanych materiałów edukacyjnych | D41: 3483
C42: osób objętych działaniami informacyjnymi i edukacyjnymi | D42: 3733
A43: 13 | B43: Efekt ekologiczny | C43: NIE DOTYCZY
A44: 14 | B44: Wysokość poniesionych kosztów (w PLN) : | C44: =SUM(D45:D50) -> 128528.05
A45: 15 | B45: Źródła finansowania (PLN): | C45: środki własne (gminy) | D45: 78528.05
C46: WFOŚiGW | D46: 50000
C47: NFOŚiGW | D47: 0
...

Sheet KPP
A2: II. Zestawienie informacji na temat realizacji działań naprawczych
A3: Lp. | B3: Zawartość | C3: Odpowiedź
A4: 1 | B4: Kod działania naprawczego | C4: PL1602_KPP
A5: 2 | B5: Tytuł | C5: Prowadzenie kontroli przestrzegania przepisów ograniczających używanie paliw lub urządzeń do celów grzewczych oraz zakazu spalania odpadów
A6: 3 | B6: Gmina | C6: =IF('Tabela Informacyjna'!C11=0,"",'Tabela Informacyjna'!C11) -> Strzelce Opolskie
A7: 4 | B7: Kod sytuacji przekroczenia | C7: =IFERROR(VLOOKUP(C6,'kody działań'!E:F,2,FALSE),"")
A9: 5 | B9: Opis działania | C9: Działania kontrolne oraz interwencyjne na zgłoszenia mieszkańców.
A10: 6 | B10: Nazwa i kod strefy | C10: =IFERROR(VLOOKUP(C6,'lista gmin'!C:F,4,FALSE),"") -> PL1602 strefa opolska
A15: 7 | B15: Obszar | C15: Gmina Strzelce Opolskie
A17: 8 | B17: Termin zastosowania | C17: data od | D17: 44927
C18: data do | D18: 45291
A19: 9 | B19: Stan zaawansowania realizacji działania naprawczego w odniesieniu do wartosci zaplanowanej do wykonania w danym roku sprawozdawczym (w %) | C19: 100
A20: 10 | B20: Skala czasowa osiągnięcia redukcji stężenia | C20: długoterminowe
A21: 11 | B21: Kategoria źródeł emisji, której dotyczy działanie naprawcze | C21: D: źródła związane z handlem i mieszkalnictwem
A22: 12 | C22: Szacunkowa redukcja emisji osiągnięta poprzez zlikwidowanie tradycyjnego kotła węglowego i zmiany sposobu ogrzewania na [kg/rok]: | D22: z termomodernizacją | G22: bez termomodernizacji
D23: PM10 | E23: PM2,5 | F23: B(a)P | G23: PM10 | H23: PM2,5 | I23: *PM2,5 dot tylko aglomeracji bydgoskiej - kolumna albo do wyszarzenia albo ukrycia (jak nam wygodniej)
D24: sprawozdanie JST: suma iloczynów poddanych termomodernizacji i wskaźnika efektu ekologicznego PM10 dla sieci ciepłowniczej+termomdodernizacja sprawozdanie do MS: agregacja danych ze sprawozdań JST z danej strefy | E24: sprawozdanie JST: suma iloczynów powierzchni bud. poddanych termomodernizacji i wskaźnika efektu ekologicznego PM2,5 dla sieci ciepłowniczej + termomodernizacja sprawozdanie do MS: agregacja danych ze sprawozdań JST z danej strefy | F24: sprawozdanie JST: suma iloczynów powierzchni bud. poddanych termomodernizacji i wskaźnika efektu ekologicznego B(a)P dla sieci ciepłowniczej+termomodernizacja sprawozdanie do MS: agregacja danych ze sprawozdań JST z danej strefy | G24: sprawozdanie JST: suma iloczynów niepoddanych termomodernizacji i wskaźnika efektu ekologicznego PM10 dla sieci ciepłowniczej sprawozdanie do MS: agregacja danych ze sprawozdań JST z danej strefy | H24: sprawozdanie JST: suma iloczynów powierzchni bud. niepoddanych termomodernizacji i wskaźnika efektu ekologicznego PM2,5 dla sieci ciepłowniczej sprawozdanie do MS: agregacja danych ze sprawozdań JST z danej strefy
C25: podłączenie sieci cieplnej | D25: =(#REF!*'wskaźniki POP_przeliczenie efek'!D6)/100 -> #REF! | E25: =(#REF!*'wskaźniki POP_przeliczenie efek'!E6)/100 -> #REF! | F25: =(#REF!*'wskaźniki POP_przeliczenie efek'!F6)/100 -> #REF! | G25: =(#REF!*'wskaźniki POP_przeliczenie efek'!D6)/100 -> #REF! | H25: =(#REF!*'wskaźniki POP_przeliczenie efek'!E6)/100 -> #REF!
C26: ogrzewanie gazowe | D26: =(#REF!*'wskaźniki POP_przeliczenie efek'!D15)/100 -> #REF! | E26: =(#REF!*'wskaźniki POP_przeliczenie efek'!E15)/100 -> #REF! | F26: =(#REF!*'wskaźniki POP_przeliczenie efek'!F15)/100 -> #REF! | G26: =(#REF!*'wskaźniki POP_przeliczenie efek'!D7)/100 -> #REF! | H26: =(#REF!*'wskaźniki POP_przeliczenie efek'!E7)/100 -> #REF!
C27: odnawialne źródło energii | D27: =(#REF!*'wskaźniki POP_przeliczenie efek'!D8)/100 -> #REF! | E27: =(#REF!*'wskaźniki POP_przeliczenie efek'!E8)/100 -> #REF! | F27: =(#REF!*'wskaźniki POP_przeliczenie efek'!F8)/100 -> #REF! | G27: =(#REF!*'wskaźniki POP_przeliczenie efek'!D8)/100 -> #REF! | H27: =(#REF!*'wskaźniki POP_przeliczenie efek'!E8)/100 -> #REF!
C28: kocioł węglowy spełniający wymagania ekoprojektu, reczny | D28: =(#REF!*'wskaźniki POP_przeliczenie efek'!D17)/100 -> #REF! | E28: =(#REF!*'wskaźniki POP_przeliczenie efek'!E17)/100 -> #REF! | F28: =(#REF!*'wskaźniki POP_przeliczenie efek'!F17)/100 -> #REF! | G28: =(#REF!*'wskaźniki POP_przeliczenie efek'!D9)/100 -> #REF! | H28: =(#REF!*'wskaźniki POP_przeliczenie efek'!E9)/100 -> #REF!
C29: kocioł węglowy spełniający wymagania ekoprojektu, automatyczny | D29: =(#REF!*'wskaźniki POP_przeliczenie efek'!D18)/100 -> #REF! | E29: =(#REF!*'wskaźniki POP_przeliczenie efek'!E18)/100 -> #REF! | F29: =(#REF!*'wskaźniki POP_przeliczenie efek'!F18)/100 -> #REF! | G29: =(#REF!*'wskaźniki POP_przeliczenie efek'!D10)/100 -> #REF! | H29: =(#REF!*'wskaźniki POP_przeliczenie efek'!E10)/100 -> #REF!
C30: kocioł na biomasę spełniający wymagania ekoprojektu, ręczny | D30: =(#REF!*'wskaźniki POP_przeliczenie efek'!D19)/100 -> #REF! | E30: =(#REF!*'wskaźniki POP_przeliczenie efek'!E19)/100 -> #REF! | F30: =(#REF!*'wskaźniki POP_przeliczenie efek'!F19)/100 -> #REF! | G30: =(#REF!*'wskaźniki POP_przeliczenie efek'!D11)/100 -> #REF! | H30: =(#REF!*'wskaźniki POP_przeliczenie efek'!E11)/100 -> #REF!
C31: kocioł na biomasę spełniający wymagania ekoprojektu, automatyczny | D31: =(#REF!*'wskaźniki POP_przeliczenie efek'!D20)/100 -> #REF! | E31: =(#REF!*'wskaźniki POP_przeliczenie efek'!E20)/100 -> #REF! | F31: =(#REF!*'wskaźniki POP_przeliczenie efek'!F20)/100 -> #REF! | G31: =(#REF!*'wskaźniki POP_przeliczenie efek'!D12)/100 -> #REF! | H31: =(#REF!*'wskaźniki POP_przeliczenie efek'!E12)/100 -> #REF!
C32: ogrzewanie elektryczne | D32: =(#REF!*'wskaźniki POP_przeliczenie efek'!D13)/100 -> #REF! | E32: =(#REF!*'wskaźniki POP_przeliczenie efek'!E13)/100 -> #REF! | F32: =(#REF!*'wskaźniki POP_przeliczenie efek'!F13)/100 -> #REF! | G32: =(#REF!*'wskaźniki POP_przeliczenie efek'!D13)/100 -> #REF! | H32: =(#REF!*'wskaźniki POP_przeliczenie efek'!E13)/100 -> #REF!
C33: ogrzewanie olejem opałowy | D33: =(#REF!*'wskaźniki POP_przeliczenie efek'!D16)/100 -> #REF! | E33: =(#REF!*'wskaźniki POP_przeliczenie efek'!E16)/100 -> #REF! | F33: =(#REF!*'wskaźniki POP_przeliczenie efek'!F16)/100 -> #REF! | G33: =(#REF!*'wskaźniki POP_przeliczenie efek'!D14)/100 -> #REF! | H33: =(#REF!*'wskaźniki POP_przeliczenie efek'!E14)/100 -> #REF!
C34: inne
C35: SUMA | D35: =SUM(D25:D34) -> #REF! | E35: =SUM(E25:E34) -> #REF! | F35: =SUM(F25:F34) -> #REF! | G35: =SUM(G25:G34) -> #REF! | H35: =SUM(H25:H34) -> #REF!
A36: 12 | B36: Wskaźnik(i) monitorowania postępu | C36: Liczba: | D36: Kontrole w zakresie przestrzegania wymagań określonych w uchwale, o której mowa w art. 96 ustawy z dnia 27 kwietnia 2001 r. – Prawo ochrony środowiska | E36: Kontrole w zakresie przestrzegania zakazu spalania odpadów w urządzeniach nieprzeznaczonych | F36: Kontrole w zakresie przestrzegania zakazu spalania pozostałości roślinnych na powierzchni ziemi oraz traw i łąk
C37: przeprowadzonych kontroli [szt.] | D37: 22 | E37: 22 | F37: 0
C38: popełnionych wykroczeń [szt.] | D38: 0 | E38: 0 | F38: 0
C39: udzielonych pouczeń [szt.] | D39: 0 | E39: 0 | F39: 0
C40: wystawionych mandatów [szt.] | D40: 0 | E40: 0 | F40: 0
C41: spraw skierowanych do sądu [szt.] | D41: 0 | E41: 0 | F41: 0
A42: 13 | B42: Efekt ekologiczny | C42: NIE DOTYCZY
A43: 14 | B43: Wysokość poniesionych kosztów (w PLN) : | C43: =SUM(D44:D49) -> 0
A44: 15 | B44: Źródła finansowania (PLN): | C44: środki własne (gminy) | D44: 0
C45: WFOŚiGW | D45: 0
C46: NFOŚiGW | D46: 0
C47: RPO WO | D47: 0
...

Sheet PDK
A1: Nazwa podmiotu | C1: =IF('Tabela Informacyjna'!C12=0,"",'Tabela Informacyjna'!C12) -> Urząd Miejski
A2: Gmina, powiat | C2: =IF('Tabela Informacyjna'!C11=0,"",'Tabela Informacyjna'!C11) -> Strzelce Opolskie | E2: =IF('Tabela Informacyjna'!D11=0,"",'Tabela Informacyjna'!D11) -> strzelecki
A3: Sprawozdanie z realizacji Programu Ochrony Powietrza za rok | E3: =IF('Tabela Informacyjna'!C6=0,"",'Tabela Informacyjna'!C6) -> 2023
A4: kod strefy | C4: ='Tabela Informacyjna'!C8:D8 -> PL1602 strefa opolska
A7: Tabela 6 Sprawozdanie w zakresie wdrażania planu działań krótkoterminowych
A8: Lp. | B8: Rodzaj działania naprawczego | C8: Nazwa działania naprawczego | D8: Krótki opis prowadzonych działań | E8: Termin zastosowania działania | G8: Wskaźnik monitorowania realizacji | I8: Poniesione koszty łącznie [zł/rok] | J8: Sposób finansowania | K8: Wielkość dofinansowania [zł/rok] | L8: Uwagi
G9: Nazwa wskaźnika | H9: Wartość wskaźnika
B10: Wybierz z listy zgodnie z tabelą 85 POP (rodzaj przyporządkowany jest do kolejnych działań opisanych w tabeli 85 POP np. OpINF_1 to pierwsze działanie informacyjne) | C10: Wypełnia się automatycznie zgodnie z tabelą 85 POP | D10: uzupełnij zgodnie z tabelą 85 POP | E10: podać datę rozpoczęcia | F10: podać datę zakończenia działania | G10: Wybierz z listy | H10: Podaj wielkość realizacji działania np.: Liczba zaktualizowanych procedur [szt.], Liczba kontroli [szt.]; Liczba baz danych o jednostkach oświatowych i opiekuńczych [szt.] itp. | I10: podać koszty sumaryczne poniesione na realizację poszczególnych zadań | J10: wskazać źródła finansowania działania, uwzględniając uzyskane dofinansowanie wraz z podaniem źródła dofinansowania | K10: podać wielkości dofinansowania
A11: 1 | B11: OpINF_2 | C11: =IFERROR(VLOOKUP(B11,'kody działań'!$A$109:$B$126,2,FALSE),"") -> Prowadzenie akcji informacyjnej o wymaganiach uchwały antysmogowej oraz niewłaściwego postępowania z odpadami | D11: Podczas spotkań z mieszkańcami i kontroli w zakresie przestrzegania wymagań określonych w uchwale, o której mowa w art. 96 ustawy z dnia 27 kwietnia 2001 r. – Prawo ochrony środowiska, pouczono właścicieli na temat prawidłowego spalania paliw. | E11: 44939 | F11: 45288 | G11: liczba zaktualizowanych procedur | H11: 92 | I11: 0 | J11: środki własne | K11: Podczas akcji informacyjnych omawiano zagadnienia związane z zanieczyszczeniami powietrza. Rozdano materiały informacyjne w postaci ulotek i broszur.
A12: 2 | B12: OpORG_1 | C12: =IFERROR(VLOOKUP(B12,'kody działań'!$A$109:$B$126,2,FALSE),"") -> Aktualizacja bazy danych o jednostkach oświatowych i opiekuńczych | D12: Dokonano aktualizacji bazy danych jednostek oświatowych i opiekuńczych gminy Strzelce Opolskie | E12: 44927 | F12: 45291 | G12: liczba baz danych o jednostkach oświatowych i opiekuńczych | H12: 1 | I12: 0 | J12: środki własne
A13: 3 | B13: OpORG_2 | C13: =IFERROR(VLOOKUP(B13,'kody działań'!$A$109:$B$126,2,FALSE),"") -> Aktualizacja bazy danych o podmiotach wykonujących działalność leczniczą w zakresie podstawowej opieki zdrowotnej | D13: Dokonano aktualizacji bazy danych jednostek POZ | E13: 44927 | F13: 45291 | G13: liczba baz danych o podmiotach wykonujących działalność leczniczą w zakresie podstawowej opieki zdrowotnej | H13: 1 | I13: 0 | J13: środki własne
A14: 4 | B14: OpOPER_1 | C14: =IFERROR(VLOOKUP(B14,'kody działań'!$A$109:$B$126,2,FALSE),"") -> Kontrole instalacji spalania paliw stałych | D14: Podczas kontroli w zakresie przestrzegania wymagań określonych w uchwale, o której mowa w art. 96 ustawy z dnia 27 kwietnia 2001 r. – Prawo ochrony środowiska, pouczono właścicieli na temat prawidłowego spalania paliw. | E14: 45009 | F14: 45268 | G14: liczba zaktualizowanych procedur | H14: 2 | I14: 0 | J14: środki własne | K14: 0 | L14: Niezwłocznie po ukazaniu się komunikatu, wykonano kontrole w zakresie przestrzegania wymagań określonych w uchwale
A15: 5 | B15: OpINF_1 | C15: =IFERROR(VLOOKUP(B15,'kody działań'!$A$109:$B$126,2,FALSE),"") -> Informacja o zagrożeniu złą jakością powietrza | D15: Zamieszczenie na stronie internetowej informacje o ryzyku wystąpienia przekroczenia poziomu informowania dla pyłu zawieszonego PM10. | E15: 45009 | F15: 45291 | G15: liczba zaktualizowanych procedur | H15: 1 | I15: 0 | J15: środki własne | K15: 0
A16: 6
A17: 7
A18: 8 | C18: =IFERROR(VLOOKUP(B18,'kody działań'!$A$109:$B$126,2,FALSE),"")
A19: 9 | C19: =IFERROR(VLOOKUP(B19,'kody działań'!$A$109:$B$126,2,FALSE),"")
A20: 10 | C20: =IFERROR(VLOOKUP(B20,'kody działań'!$A$109:$B$126,2,FALSE),"")
A21: 11 | C21: =IFERROR(VLOOKUP(B21,'kody działań'!$A$109:$B$126,2,FALSE),"")
A22: 12 | C22: =IFERROR(VLOOKUP(B22,'kody działań'!$A$109:$B$126,2,FALSE),"")
A23: 13 | C23: =IFERROR(VLOOKUP(B23,'kody działań'!$A$109:$B$126,2,FALSE),"")
A24: 14 | C24: =IFERROR(VLOOKUP(B24,'kody działań'!$A$109:$B$126,2,FALSE),"")
A25: 15 | C25: =IFERROR(VLOOKUP(B25,'kody działań'!$A$109:$B$126,2,FALSE),"")
A26: 16 | C26: =IFERROR(VLOOKUP(B26,'kody działań'!$A$109:$B$126,2,FALSE),"")
A27: 17 | C27: =IFERROR(VLOOKUP(B27,'kody działań'!$A$109:$B$126,2,FALSE),"")
A28: 18 | C28: =IFERROR(VLOOKUP(B28,'kody działań'!$A$109:$B$126,2,FALSE),"")
A29: 19 | C29: =IFERROR(VLOOKUP(B29,'kody działań'!$A$109:$B$126,2,FALSE),"")
... A199: 189 | C199: =IFERROR(VLOOKUP(B199,'kody działań'!$A$109:$B$126,2,FALSE),"")

Sheet PDK_rozporz
A1: Nazwa podmiotu | C1: =IF('Tabela Informacyjna'!C12=0,"",'Tabela Informacyjna'!C12) -> Urząd Miejski
A2: Gmina, powiat | C2: =IF('Tabela Informacyjna'!C11=0,"",'Tabela Informacyjna'!C11) -> Strzelce Opolskie
A3: Sprawozdanie z realizacji Programu Ochrony Powietrza za rok
A4: kod strefy | C4: ='Tabela Informacyjna'!C8:D8 -> PL1602 strefa opolska
C5: =IF('Tabela Informacyjna'!D11=0,"",'Tabela Informacyjna'!D11) -> strzelecki
A6: Sprawozdanie z realizacji planu działań krótkoterminowych | C6: =IF('Tabela Informacyjna'!C6=0,"",'Tabela Informacyjna'!C6) -> 2023
A7: 1. Ogólne
A8: 2. Link do strony internetowej, na której został zamieszczony plan działań krótkoterminowych | B8: nie dotyczy urzędu miasta/urzędu gminy/starostwa powiatowego.
A9: 2.1. Czy były stwierdzone przekroczenia poziomów alarmowych (zwanych dalej „PA”) lub istotne przekroczenia (ponad 200%) poziomów dopuszczalnych (zwanych dalej „PD”) lub docelowych (zwanych dalej „PDC”) w danym roku sprawozdawczym oraz w ciągu ostatnich trzech lat - w przypadku sprawozdania końcowego
A10: Jeśli tak, proszę podać szczegóły
A11: 3. Proszę opisać wszystkie aspekty wdrażania planu oraz dodać swoje uwagi i doświadczenia
A12: Plan działań krótkoterminowych wdrażany jest niezwłocznie po otrzymaniu komunikatu o ryzyku wystąpienia przekroczenia lub o wystąpieniu przekroczenia.
A13: 4. Czy uruchomiono działania określone planem działań krótkoterminowych (należy zaznaczyć prawidłową odpowiedź) | B13: X Tak □ Nie
A14: 4.1. Jeżeli tak, to jak często, w jakich sytuacjach? Proszę opisać
A15: 1. Po otrzymaniu powiadomienia o ryzyku wystąpienia przekroczenia poziomu informowania dla pyłu zawieszonego PM10 w powietrzu podjęto działania informacyjne; 2. Aktualizacja bazy danych jednostek medycznych i oświatowych.
A16: 5. Plany działań krótkoterminowych: udostępnienie informacji do publicznej wiadomości:
A17: 5.1. Czy informacje dotyczące planu były podawane do publicznej wiadomości (należy zaznaczyć prawidłową odpowiedź) | B17: X Tak X Internet □ Radio □ Telewizja □ Inne □ Nie
A18: 5.2. Link do strony internetowej, na której została zamieszczona informacja | B18: https://www.strzelceopolskie.pl/ekologia/powietrze
A19: 5.3. Proszę opisać ogólną strategię udostępniania informacji, w tym podstawowym grupom zainteresowanych stron
A20: Edukacja ekologiczna oraz komunikaty o jakości powietrza przekazywane są poprzez stronę internetową gminy Strzelce Opolskie. Cyklicznie komunikaty ukazują się w Informatorze Strzeleckim.
A21: 6. Plany działań krótkoterminowych: wpływ
A22: 6.1. Proszę podać informację na temat wpływu i skuteczności podjętych działań przez sektory
A23: Strona internetowa gminy Strzelce Opolskie zawiera informacje dotyczące aktualnego stanu jakości powietrza. Realizując Plan Działań Krótkoterminowych na bieżąco aktualizowana jest baza jednostek oświatowych oraz medycznych. Jednostki te są informowane na wypadek przekroczenia stanu alarmowego.
A24: 6.2. Jakie działania zostały uznane za najbardziej skuteczne? Proszę opisać te działania i wyjaśnić dlaczego
A25: 1. Działania informacyjne dotyczące jakości powietrza w gminie poprzez udostępnianie na stronie internetowej komunikatów odnośnie stanu jakości powietrza. 2. Działania edukacyjno-informacyjne polegające na zamieszczaniu artykułów w Informatorze Strzeleckim. 3. Działania polegające na podniesieniu świadomości proekologicznej zachęcając do wymiany kotłów węglowych oraz przypominające o zakazie palenia śmieci.
A26: 6.3. Proszę podać linki do raportów lub odniesienia do innych dokumentów wykorzystane do przygotowania sprawozdania z planu działań krótkoterminowych (np. linki do stron internetowych, na których zamieszczane były komunikaty)
A27: Portal Głównego Inspektora Ochrony Środowiska, https://powietrze.gios.gov.pl/pjp/airPollution
A28: 7. Pozostałe problemy
A29: brak
A30: 8. Uwagi
A31: brak
A34: kolor niebieski | B34: nie wypełniaj - wypełniane automatycznie lub puste
A35: pole liczbowe | B35: wpisz liczbę (nie dodawaj miary np. nie pisz 100m2)
A36: pole tekstowe 600 znaków | B36: uzupełnij lub zostaw puste
A37: kolor piaskowy | B37: zaznacz właściwe

Sheet działania dodatkowe
A1: Nazwa podmiotu | C1: =IF('Tabela Informacyjna'!C12=0,"",'Tabela Informacyjna'!C12) -> Urząd Miejski
A2: Gmina, powiat | C2: =IF('Tabela Informacyjna'!C11=0,"",'Tabela Informacyjna'!C11) -> Strzelce Opolskie | E2: =IF('Tabela Informacyjna'!D11=0,"",'Tabela Informacyjna'!D11) -> strzelecki
A3: Sprawozdanie z realizacji Programu Ochrony Powietrza za rok
A4: kod strefy | C4: ='Tabela Informacyjna'!C8:D8 -> PL1602 strefa opolska | E4: =IF('Tabela Informacyjna'!C6=0,"",'Tabela Informacyjna'!C6) -> 2023
A6: Tabela 6: Lista działań nieobjętych Programem
A7: Lp | B7: Kategoria działań | C7: Lista działań nieobjętych Programem planowanych lub przewidzianych do realizacji w perspektywie długoterminowej | D7: Opis działania | E7: Poniesione koszty (PLN)
B8: wybierz z listy | C8: wybierz z listy | D8: opisz szczegóły działania | E8: należy podać kwotę
A9: 1 | B9: liniowe | C9: modernizacja istniejącego układu drogowo-ulicznego | D9: Pomoc finansowa na realizację zadań związanych z infrastrukturą drogową. „Poprawa bezpieczeństwa ruchu drogowego pod mostem kolejowym w ciągu drogi powiatowej 1804 O Strzelce Opolskie - Kolonowskie w m. Strzelce Opolskie ul. Habryki", „Budowa chodnika w ciągu drogi powiatowej 1806 O Sucha - Kalinów w m. Szymiszów ul. Ligonia wraz z dokumentacja projektową" | E9: 241730.11
A10: 2 | B10: liniowe | C10: modernizacja istniejącego układu drogowo-ulicznego | D10: Bieżące remonty dróg gminnych - remonty cząstkowe | E10: 500000
A11: 3 | B11: liniowe | C11: modernizacja istniejącego układu drogowo-ulicznego | D11: Remonty awaryjne chodników | E11: 60000
A12: 4 | B12: liniowe | C12: modernizacja istniejącego układu drogowo-ulicznego | D12: Przebudowa chodnika w ciągu ul. Wiejskiej w Ligocie Górnej | E12: 50000
A13: 5 | B13: liniowe | C13: modernizacja istniejącego układu drogowo-ulicznego | D13: Solidny chodnik - bezpieczeństwo i estetyka [SBO - Rozmierka] | E13: 50000
A14: 6 | B14: liniowe | C14: modernizacja istniejącego układu drogowo-ulicznego | D14: Przebudowa drogi gminnej ul. Sosnowej w m. Sucha | E14: 433987.1
A15: 7 | B15: liniowe | C15: modernizacja istniejącego układu drogowo-ulicznego | D15: Remonty dróg wewnętrznych | E15: 60000
A16: 8 | B16: liniowe | C16: modernizacja istniejącego układu drogowo-ulicznego | D16: Przebudowa ul. Polnej w Kadłubie | E16: 60000
A17: 9 | B17: powierzchniowe | C17: modernizacja oświetlenia ulicznego | D17: Remont oświetlenia ulicznego | E17: 67870.17
A18: 10 | B18: powierzchniowe | C18: modernizacja oświetlenia ulicznego | D18: Oświetlenie ul. Sosnowej w Suchej | E18: 8708.4
A19: 11 | B19: powierzchniowe | C19: modernizacja oświetlenia ulicznego | D19: Rozbudowa oświetlenia ul. Ogrodowej w Strzelcach Opolskich | E19: 4700
A20: 12 | B20: powierzchniowe | C20: modernizacja oświetlenia ulicznego | D20: Budowa oświetlenia ul. Kościelnej i ul. Kopernika w Suchej | E20: 15990
... A25: 17 | B25: wspomagające | C25: promocja nowoczesnych, niskoemisyjnych źródeł ciepła | D25: Na mocy porozumienia z WFOŚiGW z maja 2021 r. w Gminie Strzelce Opolskie w 2022 r. funkcjonował uruchomiony punkt konsultacyjno-informacyjny. Udzielana była w nim pomoc przy wypełnianiu i rozliczaniu wniosków o dofinansowanie. W ramach działań wydrukowane zostały materiały edukacyjne, które następnie zostały przekazane mieszkańcom Gminy Strzelce Opolskie. | E25: 46236.76
D26: GKPOP Gminy Strzelec Opolskich uczestniczył również w spotkaniach koordynacyjnych w UMWO mających na celu usprawnić działania gminne koordynatora. | E26: 374.5
D27: Przedstawiciel Gminy Strzelce Opolskie uczestniczył w posiedzeniach komitetu sterującego w ramach programu LIFE, na których omawiane były zagadnienia związane z realizacją projektu oraz ochroną powietrza. | E27: 103.5
D28: Pracownik Gminy Strzelce Opolskie uczestniczył również w spotkaniach organizowanych przez WFOŚiGW w Opolu zwiększające wiedzę w temacie niskoemisyjnych źródeł ciepła oraz form dofinansowania. | E28: 314.1
D29: Przedstawiciel Gminy Strzelce Opolskie uczestniczył w konferencjach tematycznych w ramach programu LIFE, na których omawiane były zagadnienia związane z realizacją projektów LIFE. Wrocław, Chorzów, Prerov | E29: 2829.77
B32: wybierz z listy | C32: pole leżące poniżej zostanie automatycznie wypełnione

Sheet wydane decyzje
A1: Nazwa podmiotu | C1: =IF('Tabela Informacyjna'!C12=0,"",'Tabela Informacyjna'!C12) -> Urząd Miejski
A2: Gmina, powiat | C2: =IF('Tabela Informacyjna'!C11=0,"",'Tabela Informacyjna'!C11) -> Strzelce Opolskie | E2: =IF('Tabela Informacyjna'!D11=0,"",'Tabela Informacyjna'!D11) -> strzelecki
A3: Sprawozdanie z realizacji Programu Ochrony Powietrza za rok
A4: kod strefy | C4: ='Tabela Informacyjna'!C8:D8 -> PL1602 strefa opolska | E4: =IF('Tabela Informacyjna'!C6=0,"",'Tabela Informacyjna'!C6) -> 2023
A6: lp | B6: Nr i data wydania decyzji | C6: Czego dotyczy decyzja | D6: W jaki sposób decyzja przyczyna się do Programu ochrony powietrza
B7: uzupełnij | C7: uzupełnij | D7: opisz do 600 znaków
A8: 1 | B8: ROŚ.6220.15.2022 z dnia 28.06.2023 r. | C8: instalacja do przetwarzania odpadów metodą odzysku R3 | D8: zastosowanie rozwiązań ograniczających emisje zanieczyszczeń na etapie realizacji i eksploatacji przedsięwzięcia
A9: 2 | B9: ROŚ.6220.25.2022 z dnia 30.01.2023 r. | C9: budowa instalacji fotowoltaicznej | D9: ograniczenie zużycia paliw kopalnych; ograniczenie emisji w procesie produkcji energii elektrycznej
A10: 3 | B10: ROŚ.6220.27.2022 z dnia 6.03.2023 r. | C10: zbieranie odpadów | D10: zastosowanie rozwiązań ograniczających emisje zanieczyszczeń na etapie realizacji i eksploatacji przedsięwzięcia
A11: 4 | B11: ROŚ.6220.34.2022 z dnia 27.04.2023 r. | C11: budowa instalacji fotowoltaicznej | D11: ograniczenie zużycia paliw kopalnych; ograniczenie emisji w procesie produkcji energii elektrycznej
A12: 5 | B12: ROŚ.6220.7.2023 z dnia 16.10.2023 r. | C12: budowa ujęcia wody | D12: zastosowanie rozwiązań ograniczających emisje zanieczyszczeń na etapie realizacji i eksploatacji przedsięwzięcia
A13: 6 | B13: ROŚ.6220.8.2023 z dnia 16.10.2023 r. | C13: budowa ujęcia wody | D13: zastosowanie rozwiązań ograniczających emisje zanieczyszczeń na etapie realizacji i eksploatacji przedsięwzięcia
A14: 7 | B14: ROŚ.6220.16.2023 z dnia 4.12.2023 r. | C14: rozbudowa zakładu produkcji chemii gospodarczej | D14: zastosowanie rozwiązań ograniczających emisje zanieczyszczeń na etapie realizacji i eksploatacji przedsięwzięcia
A15: 8
A16: 9
A17: 10
A18: 11
A19: 12
A20: 13

Sheet wydane akty prawne
A1: Nazwa podmiotu | C1: =IF('Tabela Informacyjna'!C12=0,"",'Tabela Informacyjna'!C12) -> Urząd Miejski
A2: Gmina, powiat | C2: =IF('Tabela Informacyjna'!C11=0,"",'Tabela Informacyjna'!C11) -> Strzelce Opolskie | E2: =IF('Tabela Informacyjna'!D11=0,"",'Tabela Informacyjna'!D11) -> strzelecki
A3: Sprawozdanie z realizacji Programu Ochrony Powietrza za rok
A4: kod strefy | C4: ='Tabela Informacyjna'!C8:D8 -> PL1602 strefa opolska | E4: =IF('Tabela Informacyjna'!C6=0,"",'Tabela Informacyjna'!C6) -> 2023
A6: lp | B6: Nr, datai nazwa aktu prawa miejscowego | C6: Odnośnik | D6: W jaki sposób akt prawa miejscowego ma pośredni lub bezpośredni wpływ na poprawę jakości powietrza
B7: uzupełnij | C7: wklej odnośnik | D7: opisz do 600 znaków
A8: 1
A9: 2
A10: 3
A11: 4
A12: 5
A13: 6
A14: 7
A15: 8
A16: 9
A17: 10
A18: 11
A19: 12
A20: 13

Sheet lista gmin
B1: Kolumna1 | C1: Kolumna2 | D1: Kolumna3 | E1: Kolumna4 | F1: Kolumna5
B2: lista gmin | C2: gmina / powiat | D2: powiat | E2: urząd | F2: strefa jakości powietrza
B3: 5163202013 | C3: Baborów | D3: głubczycki | E3: Urząd Miejski | F3: PL1602 strefa opolska
B4: 5163110013 | C4: Biała | D4: prudnicki | E4: Urząd Miejski | F4: PL1602 strefa opolska
B5: 5163203022 | C5: Bierawa | D5: kędzierzyńsko-kozielski | E5: Urząd Gminy | F5: PL1602 strefa opolska
B6: 5163202022 | C6: Branice | D6: głubczycki | E6: Urząd Gminy | F6: PL1602 strefa opolska
B7: 5163101011 | C7: Brzeg | D7: brzeski | E7: Urząd Miasta | F7: PL1602 strefa opolska
B8: 5163104013 | C8: Byczyna | D8: kluczborski | E8: Urząd Miejski | F8: PL1602 strefa opolska
B9: 5163209012 | C9: Chrząstowice | D9: opolski | E9: Urząd Gminy | F9: PL1602 strefa opolska
B10: 5163203032 | C10: Cisek | D10: kędzierzyńsko-kozielski | E10: Urząd Gminy | F10: PL1602 strefa opolska
B11: 5163209022 | C11: Dąbrowa | D11: opolski | E11: Urząd Gminy | F11: PL1602 strefa opolska
B12: 5163208013 | C12: Dobrodzień | D12: oleski | E12: Urząd Miejski | F12: PL1602 strefa opolska
... B73: 5163208072 | C73: Zębowice | D73: oleski | E73: Urząd Gminy | F73: PL1602 strefa opolska
C74: SPOW Brzeg | D74: brzeski | E74: Starostwo Powiatowe w Brzegu | F74: PL1602 strefa opolska
C75: SPOW Głubczyce | D75: głubczycki | E75: Starostwo Powiatowe w Głubczycach | F75: PL1602 strefa opolska
C76: SPOW Kędzierzyn=Koźle | D76: kędzierzyńsko-kozielski | E76: Starostwo Powiatowe w Kędzierzynie-Koźlu | F76: PL1602 strefa opolska
C77: SPOW Kluczbork | D77: kluczborski | E77: Starostwo Powiatowe w Kluczborku | F77: PL1602 strefa opolska
C78: SPOW Krapkowice | D78: krapkowicki | E78: Starostwo Powiatowe w Krapkowicach | F78: PL1602 strefa opolska
C79: SPOW Namysłów | D79: namysłowski | E79: Starostwo Powiatowe w Namysłowie | F79: PL1602 strefa opolska
C80: SPOW Nysa | D80: nyski | E80: Starostwo Powiatowe w Nysie | F80: PL1602 strefa opolska
C81: SPOW Olesno | D81: oleski | E81: Starostwo Powiatowe w Oleśnie | F81: PL1602 strefa opolska
C82: SPOW Opole | D82: opolski | E82: Starostwo Powiatowe w Opolu | F82: PL1602 strefa opolska; PL1601 miasto Opole
C83: SPOW Prudnik | D83: prudnicki | E83: Starostwo Powiatowe w Prudniku | F83: PL1602 strefa opolska
C84: SPOW Strzelce Opolskie | D84: strzelecki | E84: Starostwo Powiatowe w Strzelcach Opolskich | F84: PL1602 strefa opolska

Sheet kody działań
E1: Gmina | F1: Kody sytuacji przekroczenia | I1: KOD sytuacji przekroczenia | J1: Gmina | L1: BaP
A2: EE klasyfikacja zadania | E2: Baborów | F2: =CONCATENATE(I2,", ",$L$2) -> 1618oplPM10d04, 1618oplBaPa01 | I2: 1618oplPM10d04 | J2: Baborów | L2: 1618oplBaPa01
A3: informowanie mieszkańców odnośnie przepisów obowiązujących w zakresie ochrony powietrza | E3: Biała | F3: =CONCATENATE(I3,", ",$L$2) -> 1618oplPM10d16, 1618oplBaPa01 | I3: 1618oplPM10d16 | J3: Biała
A4: prowadzenie akcji edukacyjnych uświadamiających mieszkańcom zagrożenia dla zdrowia, jakie niesie ze sobą zanieczyszczenie powietrza | E4: Bierawa | F4: =CONCATENATE(I4,", ",$L$2,", ",I5,", ",I6) -> 1618oplPM10d04, 1618oplBaPa01, 1618oplPM10d05, 1618oplPM2.5a01 | I4: 1618oplPM10d04 | J4: Bierawa
E5: Branice | F5: =$L$2 -> 1618oplBaPa01 | I5: 1618oplPM10d05 | J5: Bierawa
A6: EE opis prowadzonych działań | E6: Brzeg | F6: =$L$2 -> 1618oplBaPa01 | I6: 1618oplPM2.5a01 | J6: Bierawa
E7: Byczyna | F7: =$L$2 -> 1618oplBaPa01 | I7: 1618oplPM10d04 | J7: Cisek
A8: ulotki | E8: Chrząstowice | F8: =$L$2 -> 1618oplBaPa01 | I8: 1618oplPM10d05 | J8: Cisek
A9: imprezy | E9: Cisek | F9: =CONCATENATE(I9,", ",$L$2,", ",I8,", ",I7) -> 1618oplPM2.5a01, 1618oplBaPa01, 1618oplPM10d05, 1618oplPM10d04 | I9: 1618oplPM2.5a01 | J9: Cisek
A10: akcje edukacyjne | E10: Dąbrowa | F10: =CONCATENATE(I10,", ",$L$2) -> 1618oplPM10d18, 1618oplBaPa01 | I10: 1618oplPM10d18 | J10: Dąbrowa
A11: audycje | E11: Dobrodzień | F11: =CONCATENATE(I11,", ",$L$2) -> 1618oplPM10d22, 1618oplBaPa01 | I11: 1618oplPM10d22 | J11: Dobrodzień
A12: konferencje | E12: Dobrzeń Wielki | F12: =CONCATENATE(I12,", ",$L$2) -> 1618oplPM10d19, 1618oplBaPa01 | I12: 1618oplPM10d19 | J12: Dobrzeń Wielki
A13: działania informacyjne i szkoleniowe | E13: Domaszowice | F13: =$L$2 -> 1618oplBaPa01 | I13: 1618oplPM10d16 | J13: Głogówek
E14: Głogówek | F14: =CONCATENATE(I13,", ",$L$2) -> 1618oplPM10d16, 1618oplBaPa01 | I14: 1618oplPM10d01 | J14: Głubczyce
A15: EE zakres czasowy redukcji | E15: Głubczyce | F15: =CONCATENATE(I14,", ",$L$2) -> 1618oplPM10d01, 1618oplBaPa01 | I15: 1618oplPM10d16 | J15: Gogolin
A16: krótkoterminowe | E16: Głuchołazy | F16: Op16SOpBaPa20 | I16: 1618oplPM10d22 | J16: Gorzów Śląski
A17: średnioterminowe | E17: Gogolin | F17: =CONCATENATE(I15,", ",$L$2) -> 1618oplPM10d16, 1618oplBaPa01 | I17: 1618oplPM10d04 | J17: Kędzierzyn-Koźle
A18: długoterminowe | E18: Gorzów Śląski | F18: =CONCATENATE(I16,", ",$L$2) -> 1618oplPM10d22, 1618oplBaPa01 | I18: 1618oplPM10d05 | J18: Kędzierzyn-Koźle
E19: Grodków | F19: =$L$2 -> 1618oplBaPa01 | I19: 1618oplPM2.5a01 | J19: Kędzierzyn-Koźle
A20: KPP opis kontroli | B20: wskaźniki | E20: Izbicko | F20: =$L$2 -> 1618oplBaPa01 | I20: 1618oplPM10d04 | J20: Kietrz
A21: przestrzeganie zakazu spalania odpadów w kotłach i piecach | B21: Liczba przeprowadzonych kontroli w zakresie przestrzegania wymagań określonych w uchwale, o której mowa w art. 96 ustawy z dnia 27 kwietnia 2001 r. – Prawo ochrony środowiska | E21: Jemielnica | F21: Op16SOpBaPa20 | I21: 1618oplPM10d21 | J21: Kluczbork
A22: przestrzeganie zakazu spalania odpadów zielonych, a także przestrzegania zakazu wypalania traw i łąk | B22: Liczba przeprowadzonych kontroli w zakresie przestrzegania zakazu spalania odpadów w urządzeniach nie przeznaczonych do tego | E22: Kamiennik | F22: =$L$2 -> 1618oplBaPa01 | I22: 1618oplPM10d22 | J22: Kolonowskie
A23: przestrzeganie zapisów uchwały antysmogowej | B23: Liczba przeprowadzonych kontroli w zakresie przestrzegania zakazu spalania pozostałości roślinnych na powierzchni ziemi | E23: Kędzierzyn-Koźle | F23: =CONCATENATE(I19,", ",$L$2,", ",I18,", ",I17) -> 1618oplPM2.5a01, 1618oplBaPa01, 1618oplPM10d05, 1618oplPM10d04 | I23: 1618oplPM10d18 | J23: Komprachcice
E24: Kietrz | F24: =CONCATENATE(I20,", ",$L$2) -> 1618oplPM10d04, 1618oplBaPa01 | I24: 1618oplPM10d16 | J24: Krapkowice
E25: Kluczbork | F25: =CONCATENATE(I21,", ",$L$2) -> 1618oplPM10d21, 1618oplBaPa01 | I25: 1618oplPM10d22 | J25: Lasowice Wielkie
A26: KPP sektor | E26: Kolonowskie | F26: =CONCATENATE(I22,", ",$L$2) -> 1618oplPM10d22, 1618oplBaPa01 | I26: 1618oplPM10d08 | J26: Leśnica
A27: handlowy | E27: Komprachcice | F27: =CONCATENATE(I23,", ",$L$2) -> 1618oplPM10d18, 1618oplBaPa01 | I27: 1618oplPM10d16 | J27: Leśnica
A28: usługowy | E28: Korfantów | F28: =$L$2 -> 1618oplBaPa01 | I28: 1618oplPM10d03 | J28: Lubrza
A29: mieszkaniowy | E29: Krapkowice | F29: =CONCATENATE(I24,", ",$L$2) -> 1618oplPM10d16, 1618oplBaPa01 | I29: 1618oplPM10d20 | J29: Lubrza
E30: Lasowice Wielkie | F30: =CONCATENATE(I25,", ",$L$2) -> 1618oplPM10d22, 1618oplBaPa01 | I30: 1618oplPM10d23 | J30: Namysłów
A31: ZSO opis działania | E31: Leśnica | F31: =CONCATENATE(I26,", ",$L$2,", ",I27) -> 1618oplPM10d08, 1618oplBaPa01, 1618oplPM10d16 | I31: 1618oplPM10d09 | J31: Nysa
A32: Działania zmierzające do obniżenia emisji z indywidualnych systemów grzewczych opalanych paliwami stałymi | E32: Lewin Brzeski | F32: =$L$2 -> 1618oplBaPa01 | I32: 1618oplPM10d22 | J32: Olesno
A33: Termomodernizacja | E33: Lubrza | F33: =CONCATENATE(I28,", ",$L$2) -> 1618oplPM10d03, 1618oplBaPa01 | I33: 1618OpoBaPa01 | J33: Opole
A34: Finansowanie | E34: Lubsza | F34: =CONCATENATE(I29,", ",$L$2) -> 1618oplPM10d20, 1618oplBaPa01 | I34: 1618OpoPM10d01 | J34: Opole
E35: Łambinowice | F35: =$L$2 -> 1618oplBaPa01 | I35: 1618oplPM10d17 | J35: Ozimek
A36: ZSO zastąpienie niskosprawnych urządzeń grzewczych | E36: Łubniany | F36: =$L$2 -> 1618oplBaPa01 | I36: 1618oplPM10d22 | J36: Ozimek
A37: podłączenie do sieci centralnego ogrzewania | E37: Murów | F37: =$L$2 -> 1618oplBaPa01 | I37: 1618oplPM10d02 | J37: Pawłowiczki
A38: podłączenie do sieci gazowej | E38: Namysłów | F38: =CONCATENATE(I30,", ",$L$2) -> 1618oplPM10d23, 1618oplBaPa01 | I38: 1618oplPM10d04 | J38: Polska Cerekiew
A39: podłączenie do OZE (glównie pompy ciepła) | E39: Niemodlin | F39: =$L$2 -> 1618oplBaPa01 | I39: 1618oplPM2.5a01 | J39: Polska Cerekiew
E40: Nysa | F40: =CONCATENATE(I31,", ",$L$2) -> 1618oplPM10d09, 1618oplBaPa01 | I40: 1618oplPM10d22 | J40: Praszka
...

Sheet wskaźniki
C4: Rodzaj działań naprawczych | D4: Uzyskana redukcja emisji (efekt ekologiczny) [kg/m2/rok]
D5: termomodernizacja | G5: bez termomodernizacji
D6: PM10 | E6: PM2,5 | F6: B(a)P | G6: PM10 | H6: PM2,5 | I6: B(a)P
C7: podłączenie do sieci ciepłowniczej | D7: 0.50243 | E7: 0.49497 | F7: 0.000286 | G7: 0.50243 | H7: 0.49497 | I7: 0.000286
C8: ogrzewanie gazowe | D8: 0.50219 | E8: 0.49473 | F8: 0.000286 | G8: 0.50208 | H8: 0.49462 | I8: 0.000286
C9: odnawialne źródło energii (pompa ciepła gruntowa lub powietrzna) | D9: 0.50243 | E9: 0.49497 | F9: 0.000286 | G9: 0.50243 | H9: 0.49497 | I9: 0.000286
C10: kocioł węglowy spełniający wymagania ekoprojektu | D10: 0.49102 | E10: 0.48584 | F10: 0.0002775 | G10: 0.48613 | H10: 0.48193 | I10: 0.0002738
C11: kocioł na biomasę spełniający wymagania ekoprojektu | D11: 0.48932 | E11: 0.48255 | F11: 0.0002797 | G11: 0.4837 | H11: 0.47722 | I11: 0.000277
C12: ogrzewanie elektryczne | D12: 0.50243 | E12: 0.49497 | F12: 0.000286 | G12: 0.50243 | H12: 0.49497 | I12: 0.000286
C13: ogrzewanie olejem opałowym | D13: 0.50142 | E13: 0.49396 | F13: 0.000286 | G13: 0.50099 | H13: 0.49352 | I13: 0.000286

Sheet wskaźniki POP_przeliczenie efek
C2: wskaźniki do przeliczenia efektów ekologicznych dla aktualnych POP - z arkusza "spr-tab2-dzialania"
C3: rodzaj działań naprawczych | D3: uzyskana redukcja emisji
D4: (efekt ekologiczny) [kg/m2/rok]
D5: PM10 | E5: PM2,5* | F5: B(a)P
C6: likwidacja kotła węglowego - podłączenie do sieci cieplnej | D6: 0.4964 | E6: 0.489 | F6: 0.000246
C7: zmiana paliwa węglowego na gazowe | D7: 0.4949 | E7: 0.4875 | F7: 0.000245
C8: instalacja pompy ciepła | D8: 0.4964 | E8: 0.489 | F8: 0.000246
C9: nowe kotły węglowe spełniające wymagania ekoprojektu, zasilane ręczne | D9: 0.4632 | E9: 0.4632 | F9: 0.000197
C10: nowe kotły węglowe spełniające wymagania ekoprojektu, zasilane automatycznie | D10: 0.4743 | E10: 0.4718 | F10: 0.000213
C11: nowe kotły na biomasę spełniające wymagania ekoprojektu, zasilane ręcznie | D11: 0.4644 | E11: 0.4583 | F11: 0.000203
C12: nowe kotły na biomasę spełniające wymagania ekoprojektu, zasilane automatycznie | D12: 0.4767 | E12: 0.4755 | F12: 0.000221
C13: zmiana ogrzewania węglowego na elektryczne | D13: 0.4964 | E13: 0.489 | F13: 0.000246
C14: zmiana paliwa węglowego na olej | D14: 0.494 | E14: 0.4867 | F14: 0.000246
C15: termomodernizacja i zmiana paliwa na gazowe | D15: 0.4953 | E15: 0.488 | F15: 0.000245
C16: termomodernizacja i zmiana paliwa na olejowe | D16: 0.4947 | E16: 0.4874 | F16: 0.000246
C17: termomodernizacja i zmiana kotła na węglowy spełniający wymagania ekoprojektu, ręczny | D17: 0.4732 | E17: 0.4709 | F17: 0.000211
... C20: termomodernizacja i zmiana kotła na biomasę spełniający wymagania ekoprojektu, automatyczny | D20: 0.4826 | E20: 0.4795 | F20: 0.000229
