Workbook
Name xxx: #REF!

Sheet INSTRUKCJA
A1: Instrukcja wypełniania informacji o zobowiązaniach
A4: We wszystkich zakładkach należy wypełnić TYLKO pola oznaczone tym kolorem
A7: W celu prawidłowej weryfikacji wprowadzonych danych, niniejszą informację o zobowiązaniach należy wypełnić przy pomocy programu MS Excel.
A8: 1. W zakładce DANE ZBIORCZO należy:
A9: a) | B9: Wybrać nazwę j.s.t. z listy rozwijanej
A10: b) | B10: Uzupełnić datę sporządzenia, imię i nazwisko osoby sporządzającej i nr telefonu
A11: c) | B11: Uzupełnić dane przewodniczącego zarządu
A13: 2. W kolejnych zakładkach należy podać informacje dotyczące zobowiązań, w tym m.in.:
A14: a) | B14: nazwę instytucji, wobec której zaciągnięto zobowiązanie
A15: b) | B15: kwotę zobowiązania wynikającą z umowy
A16: c) | B16: datę zawarcia umowy i aneksów,
A17: d) | B17: kwoty zobowiązań przypadające do spłaty w poszczególnych latach
A19: 3. W zakładce INNE należy podać wszystkie inne zobowiązania wpływające na dług (art. 72 ust. 1a ufp), np.
A20: a) | B20: Umowy zakupu na raty np. telefonów, sprzętu komputerowego, nieruchomości
A21: b) | B21: Faktoring
A22: c) | B22: Leasing finansowy
A23: d) | B23: Zrestrukturyzowane zobowiązania wymagalne powyżej roku
A24: e) | B24: Umowy nienazwane o terminie zapłaty dłużym niż rok, związane z finansowaniem usług, dostaw, robót budowlanych, które wywołują skutki ekonomiczne podobne do umowy pożyczki lub kredytu
A25: f) | B25: Umowy o partnerstwie publiczno-prywatnym, w przypadku gdy umowy te mają wpływ na poziom długu publicznego
A27: 4. W przypadku braku odpowiedniej liczby KOLUMN przy okresie spłaty zobowiązania, należy skopiować ostatnią kolumnę i wkleić nową jako przedostatnią
A29: 5. W przypadku braku odpowiedniej liczby WIERSZY, należy rozszerzyć ilość pozycji poprzez wciśnięcie numeru 2 w górnej części lewej strony arkusza lub kliknięcie na krzyżyk przy wierszu 101.
A31: 6. Zweryfikować wpowadzone do pliku informacje.
A33: 7. Do RIO wysłać wyłącznie wypełniony i podpisany elektronicznie (podpisem kwalifikowanym) plik na adres sprawozdania@rio.opole.pl

Sheet DANE ZBIORCZO
Z1: 1
A2: Wybierz nazwę j.s.t. z listy
A3: Uzupełnij dane w niebieskich polach pod tabelą. Dane w tabeli zostaną uzupełnione automatycznie po wypełnieniu kolejnych zakładek (arkuszy).
A5: Zestawienie zbiorcze: | D5: VER. 2020-07-10
A6: Stan na dzień: | B6: 30.06.2020 r.
A7: Nazwa JST | B7: =VLOOKUP($Z$1,jednostki!$A$2:$C$90,2,FALSE) -> Lista j.s.t.
A8: Kod TERYT | B8: =VLOOKUP($Z$1,jednostki!$A$2:$C$90,3,FALSE) -> 0 | F8: Sprawdzenie poprawności danych. Jeżeli wartości są różne od zera, porównaj dane z arkuszy z "Informacją dla KRRIO"
A10: Nazwa zobowiązania | B10: Rata kapitałowa | C10: Odsetki | D10: Razem
A11: Kredyty | B11: =KREDYTY!E9 -> 12199032 | C11: =KREDYTY!F10 -> 1141575.1 | D11: =KREDYTY!D8 -> 13340607 | F11: =SUM('Informacje dla KRRIO'!D11,'Informacje dla KRRIO'!D12,'Informacje dla KRRIO'!D13,'Informacje dla KRRIO'!D14,'Informacje dla KRRIO'!D15)-B11-B12 -> 0
A12: Pożyczki | B12: =POŻYCZKI!E9 -> 160000 | C12: =POŻYCZKI!F10 -> 12779.02 | D12: =POŻYCZKI!D8 -> 172779.02
A13: Papiery wartościowe, których zbywalność nie jest ograniczona (tzn. istnieje dla nich płynny rynek wtórny) | B13: ='PAP.WART. - płynny rynek wtórny'!E9 -> 0 | C13: ='PAP.WART. - płynny rynek wtórny'!F10 -> 0 | D13: ='PAP.WART. - płynny rynek wtórny'!D8 -> 0 | F13: ---
A14: Papiery wartościowe, których zbywalność jest ograniczona (tzn. nie istnieje dla nich płynny rynek wtórny) | B14: ='PAP.WART-brak płynnego rynku wt'!E9 -> 0 | C14: ='PAP.WART-brak płynnego rynku wt'!F10 -> 0 | D14: ='PAP.WART-brak płynnego rynku wt'!D8 -> 0 | F14: ='Informacje dla KRRIO'!D17-'DANE ZBIORCZO'!B14 -> 0
A15: Inne umowy | B15: =INNE!E9 -> 0 | C15: =INNE!F10 -> 0 | D15: =INNE!D8 -> 0 | F15: ---
A16: RAZEM: | B16: =SUM(B11:B15) -> 12359032 | C16: =SUM(C11:C15) -> 1154354.1 | D16: =SUM(D11:D15) -> 13513386
A18: Łączna kwota poręczeń | B18: =PORĘCZENIA!E9 -> 0 | C18: =PORĘCZENIA!F10 -> 0 | D18: =PORĘCZENIA!D8 -> 0
A20: Łączna kwota zobowiązań z tytułu zawartych umów wsparcia | D20: ='Pozostałe operacje finansowe'!$C$22 -> 0
A25: Data sporządzenia: | B25: 16.07.2020r.
A26: Imię i nazwisko osoby sporządzającej: | B26: Katarzyna Szufla
A27: Tel. do osoby sporządzającej: | B27: 77 40 49 360
C34: Tadeusz Goc
C35: …………………………………………………………………….
C36: Podpis Przewodniczącego Zarządu

Sheet KREDYTY
B1: Zobowiązania finansowe jednostki samorządu terytorialnego z tytułu zaciągniętych kredytów | S1: x
G2: stan aktualny na dzień: | I2: ='DANE ZBIORCZO'!B6 -> 30.06.2020 r.
A3: TERYT i Nazwa JST | D3: ='DANE ZBIORCZO'!B8 -> 0 | E3: ='DANE ZBIORCZO'!B7 -> Lista j.s.t.
A4: Zaciągnięte KREDYTY: - Należy podać nazwę instytucji, wobec której j.s.t. ma zobowiązanie - Kwota zobowiązania wynikająca z umowy | C4: Uwagi o zobowiązaniu: - Data zawarcia umowy, - Data ewentualnych aneksów, | D4: ="niespłacone zobowiązania na dzień "&TEXT('DANE ZBIORCZO'!B6,"dd.mm.rrrr")&" r. (4+5+6+…+15)" -> niespłacone zobowiązania na dzień 30.06.2020 r. r. (4+5+6+…+15)
G5: II półrocze 2020 r. | H5: 2021 r. | I5: 2022 r. | J5: 2023 r. | K5: 2024 r. | L5: 2025 r. | M5: 2026 r. | N5: 2027 r. | O5: 2028 r. | P5: 2029 r. | Q5: 2030 r. | R5: 2031 r.
A6: 1 | C6: 2 | D6: 3 | G6: 4 | H6: 5 | I6: 6 | J6: 7 | K6: 8 | L6: 9 | M6: 10 | N6: 11 | O6: 12 | P6: 13 | Q6: 14 | R6: 15
A7: KREDYTY
A8: R A Z E M (1+2+...+10 itd), z tego: | D8: =SUM(D11:D65536) -> 13340607 | E8: x | F8: x | G8: =SUM(G11,G14,G17,G20,G23,G26,G29,G32,G35,G38,G41,G44,G47,G50,G53,G56,G59,G62,G65,G68,G71,G74,G77,G80,G83,G86,G89,G92,G95,G98) -> 1280546.1 | H8: =SUM(H11,H14,H17,H20,H23,H26,H29,H32,H35,H38,H41,H44,H47,H50,H53,H56,H59,H62,H65,H68,H71,H74,H77,H80,H83,H86,H89,H92,H95,H98) -> 2130701.1 | I8: =SUM(I11,I14,I17,I20,I23,I26,I29,I32,I35,I38,I41,I44,I47,I50,I53,I56,I59,I62,I65,I68,I71,I74,I77,I80,I83,I86,I89,I92,I95,I98) -> 1483865.4 | J8: =SUM(J11,J14,J17,J20,J23,J26,J29,J32,J35,J38,J41,J44,J47,J50,J53,J56,J59,J62,J65,J68,J71,J74,J77,J80,J83,J86,J89,J92,J95,J98) -> 1358665.4 | K8: =SUM(K11,K14,K17,K20,K23,K26,K29,K32,K35,K38,K41,K44,K47,K50,K53,K56,K59,K62,K65,K68,K71,K74,K77,K80,K83,K86,K89,K92,K95,K98) -> 1286423.5 | L8: =SUM(L11,L14,L17,L20,L23,L26,L29,L32,L35,L38,L41,L44,L47,L50,L53,L56,L59,L62,L65,L68,L71,L74,L77,L80,L83,L86,L89,L92,L95,L98) -> 1260803.5 | M8: =SUM(M11,M14,M17,M20,M23,M26,M29,M32,M35,M38,M41,M44,M47,M50,M53,M56,M59,M62,M65,M68,M71,M74,M77,M80,M83,M86,M89,M92,M95,M98) -> 1235183.5 | N8: =SUM(N11,N14,N17,N20,N23,N26,N29,N32,N35,N38,N41,N44,N47,N50,N53,N56,N59,N62,N65,N68,N71,N74,N77,N80,N83,N86,N89,N92,N95,N98) -> 1209563.5 | ... R8: =SUM(R11,R14,R17,R20,R23,R26,R29,R32,R35,R38,R41,R44,R47,R50,R53,R56,R59,R62,R65,R68,R71,R74,R77,R80,R83,R86,R89,R92,R95,R98) -> 0
A9: - rata kapitałowa | D9: x | E9: =SUM(E11:E65536) -> 12199032 | F9: x | G9: =SUM(G12,G15,G18,G21,G24,G27,G30,G33,G36,G39,G42,G45,G48,G51,G54,G57,G60,G63,G66,G69,G72,G75,G78,G81,G84,G87,G90,G93,G96,G99) -> 1157846.4 | H9: =SUM(H12,H15,H18,H21,H24,H27,H30,H33,H36,H39,H42,H45,H48,H51,H54,H57,H60,H63,H66,H69,H72,H75,H78,H81,H84,H87,H90,H93,H96,H99) -> 1902097.6 | I9: =SUM(I12,I15,I18,I21,I24,I27,I30,I33,I36,I39,I42,I45,I48,I51,I54,I57,I60,I63,I66,I69,I72,I75,I78,I81,I84,I87,I90,I93,I96,I99) -> 1292853.3 | J9: =SUM(J12,J15,J18,J21,J24,J27,J30,J33,J36,J39,J42,J45,J48,J51,J54,J57,J60,J63,J66,J69,J72,J75,J78,J81,J84,J87,J90,J93,J96,J99) -> 1196214.6 | K9: =SUM(K12,K15,K18,K21,K24,K27,K30,K33,K36,K39,K42,K45,K48,K51,K54,K57,K60,K63,K66,K69,K72,K75,K78,K81,K84,K87,K90,K93,K96,K99) -> 1149996 | L9: =SUM(L12,L15,L18,L21,L24,L27,L30,L33,L36,L39,L42,L45,L48,L51,L54,L57,L60,L63,L66,L69,L72,L75,L78,L81,L84,L87,L90,L93,L96,L99) -> 1149996 | M9: =SUM(M12,M15,M18,M21,M24,M27,M30,M33,M36,M39,M42,M45,M48,M51,M54,M57,M60,M63,M66,M69,M72,M75,M78,M81,M84,M87,M90,M93,M96,M99) -> 1149996 | N9: =SUM(N12,N15,N18,N21,N24,N27,N30,N33,N36,N39,N42,N45,N48,N51,N54,N57,N60,N63,N66,N69,N72,N75,N78,N81,N84,N87,N90,N93,N96,N99) -> 1149996 | ... R9: =SUM(R12,R15,R18,R21,R24,R27,R30,R33,R36,R39,R42,R45,R48,R51,R54,R57,R60,R63,R66,R69,R72,R75,R78,R81,R84,R87,R90,R93,R96,R99) -> 0
A10: - odsetki | D10: x | E10: x | F10: =SUM(F11:F65536) -> 1141575.1 | G10: =SUM(G13,G16,G19,G22,G25,G28,G31,G34,G37,G40,G43,G46,G49,G52,G55,G58,G61,G64,G67,G70,G73,G76,G79,G82,G85,G88,G91,G94,G97,G100) -> 122699.64 | H10: =SUM(H13,H16,H19,H22,H25,H28,H31,H34,H37,H40,H43,H46,H49,H52,H55,H58,H61,H64,H67,H70,H73,H76,H79,H82,H85,H88,H91,H94,H97,H100) -> 228603.55 | I10: =SUM(I13,I16,I19,I22,I25,I28,I31,I34,I37,I40,I43,I46,I49,I52,I55,I58,I61,I64,I67,I70,I73,I76,I79,I82,I85,I88,I91,I94,I97,I100) -> 191012.13 | J10: =SUM(J13,J16,J19,J22,J25,J28,J31,J34,J37,J40,J43,J46,J49,J52,J55,J58,J61,J64,J67,J70,J73,J76,J79,J82,J85,J88,J91,J94,J97,J100) -> 162450.8 | K10: =SUM(K13,K16,K19,K22,K25,K28,K31,K34,K37,K40,K43,K46,K49,K52,K55,K58,K61,K64,K67,K70,K73,K76,K79,K82,K85,K88,K91,K94,K97,K100) -> 136427.54 | L10: =SUM(L13,L16,L19,L22,L25,L28,L31,L34,L37,L40,L43,L46,L49,L52,L55,L58,L61,L64,L67,L70,L73,L76,L79,L82,L85,L88,L91,L94,L97,L100) -> 110807.54 | M10: =SUM(M13,M16,M19,M22,M25,M28,M31,M34,M37,M40,M43,M46,M49,M52,M55,M58,M61,M64,M67,M70,M73,M76,M79,M82,M85,M88,M91,M94,M97,M100) -> 85187.54 | N10: =SUM(N13,N16,N19,N22,N25,N28,N31,N34,N37,N40,N43,N46,N49,N52,N55,N58,N61,N64,N67,N70,N73,N76,N79,N82,N85,N88,N91,N94,N97,N100) -> 59567.54 | ... R10: =SUM(R13,R16,R19,R22,R25,R28,R31,R34,R37,R40,R43,R46,R49,R52,R55,R58,R61,R64,R67,R70,R73,R76,R79,R82,R85,R88,R91,R94,R97,R100) -> 0
A11: 1. | B11: BRE Bank S.A. Opole umowa Nr 34/081/10/Z/IN(7.000.000,00zł) | C11: 14.09.2010r. | D11: =E12+F13 -> 183392.16 | E11: x | F11: x | G11: =SUM(G12:G13) -> 183392.16 | H11: =SUM(H12:H13) -> 0 | I11: =SUM(I12:I13) -> 0 | J11: =SUM(J12:J13) -> 0 | K11: =SUM(K12:K13) -> 0 | L11: =SUM(L12:L13) -> 0 | M11: =SUM(M12:M13) -> 0 | N11: =SUM(N12:N13) -> 0 | ... R11: =SUM(R12:R13) -> 0
A12: z tego: - rata kapitałowa | D12: x | E12: =SUM(G12:R12) -> 179487.16 | F12: x | G12: 179487.16
A13: - odsetki | D13: x | E13: x | F13: =SUM(G13:R13) -> 3905 | G13: 3905
A14: 2. | B14: BRE Bank S.A. Opole umowa Nr 34/023/11/Z/IN (z umowy 10.000.000,00zł, faktyczna kwota otrzymanego kredytu 6.500.000,00zł ) | C14: 28.09.2011r. | D14: =E15+F16 -> 947579.15 | E14: x | F14: x | G14: =SUM(G15:G16) -> 337615.04 | H14: =SUM(H15:H16) -> 609964.11 | I14: =SUM(I15:I16) -> 0 | J14: =SUM(J15:J16) -> 0 | K14: =SUM(K15:K16) -> 0 | L14: =SUM(L15:L16) -> 0 | M14: =SUM(M15:M16) -> 0 | N14: =SUM(N15:N16) -> 0 | ... R14: =SUM(R15:R16) -> 0
A15: z tego: - rata kapitałowa | D15: x | E15: =SUM(G15:R15) -> 928572.15 | F15: x | G15: 327731.04 | H15: 600841.11
A16: - odsetki | D16: x | E16: x | F16: =SUM(G16:R16) -> 19007 | G16: 9884 | H16: 9123
A17: 3. | B17: Bank Spółdzielczy "Bank Rolników" Opole umowa Nr 2/JST/2012(z umowy 2.390.000,00zł, faktyczna kwota otrzymanego kredytu 1.000.000,00 ) | C17: 17.09.2012r. | D17: =E18+F19 -> 252373.17 | E17: x | F17: x | G17: =SUM(G18:G19) -> 53004.16 | H17: =SUM(H18:H19) -> 104870.41 | I17: =SUM(I18:I19) -> 94498.6 | J17: =SUM(J18:J19) -> 0 | K17: =SUM(K18:K19) -> 0 | L17: =SUM(L18:L19) -> 0 | M17: =SUM(M18:M19) -> 0 | N17: =SUM(N18:N19) -> 0 | ... R17: =SUM(R18:R19) -> 0
A18: z tego: - rata kapitałowa | D18: x | E18: =SUM(G18:R18) -> 243697.58 | F18: x | G18: 50420.16 | H18: 100840.32 | I18: 92437.1
A19: - odsetki | D19: x | E19: x | F19: =SUM(G19:R19) -> 8675.59 | G19: 2584 | H19: 4030.09 | I19: 2061.5
A20: 4. | B20: Bank Pocztowy S.A. Bydgoszcz umowa Nr 1013-56052(z umowy 3.500.000,00zł, faktyczna kwota otrzymanego kredytu 500.000,00zł) | C20: 01.10.2013r. | D20: =E21+F22 -> 177111.87 | E20: x | F20: x | G20: =SUM(G21:G22) -> 26203.72 | H20: =SUM(H21:H22) -> 52583.08 | I20: =SUM(I21:I22) -> 51703.25 | J20: =SUM(J21:J22) -> 46621.82 | K20: =SUM(K21:K22) -> 0 | L20: =SUM(L21:L22) -> 0 | M20: =SUM(M21:M22) -> 0 | N20: =SUM(N21:N22) -> 0 | ... R20: =SUM(R21:R22) -> 0
A21: z tego: - rata kapitałowa | D21: x | E21: =SUM(G21:R21) -> 172268.96 | F21: x | G21: 25210.08 | H21: 50420.16 | I21: 50420.16 | J21: 46218.56
A22: - odsetki | D22: x | E22: x | F22: =SUM(G22:R22) -> 4842.91 | G22: 993.64 | H22: 2162.92 | I22: 1283.09 | J22: 403.26
A23: 5. | B23: Bank Polskiej Spółdzielczości Warszawa umowa Nr 2724243/167/JST/POZ/18 (2.500.000,00zł) | C23: Umowa 08.11.2018r. Aneks do umowy 22.01.2019r. | D23: =E24+F25 -> 2327000.1 | E23: x | F23: x | G23: =SUM(G24:G25) -> 147542 | H23: =SUM(H24:H25) -> 291852.26 | I23: =SUM(I24:I25) -> 286302.26 | J23: =SUM(J24:J25) -> 280752.26 | K23: =SUM(K24:K25) -> 275202.26 | L23: =SUM(L24:L25) -> 269652.26 | M23: =SUM(M24:M25) -> 264102.26 | N23: =SUM(N24:N25) -> 258552.26 | ... R23: =SUM(R24:R25) -> 0
A24: z tego: - rata kapitałowa | D24: x | E24: =SUM(G24:R24) -> 2125006 | F24: x | G24: 124998 | H24: 249996 | I24: 249996 | J24: 249996 | K24: 249996 | L24: 249996 | M24: 249996 | N24: 249996 | O24: 250036
A25: - odsetki | D25: x | E25: x | F25: =SUM(G25:R25) -> 201994.08 | G25: 22544 | H25: 41856.26 | I25: 36306.26 | J25: 30756.26 | K25: 25206.26 | L25: 19656.26 | M25: 14106.26 | N25: 8556.26 | O25: 3006.26
A26: 6. | B26: Bank Gospodarstwa Krajowego Region Opolski umowa Nr 19/5788 (9.000.000,00) | C26: 29.11.2019r. | D26: =E27+F28 -> 9453150.5 | E26: x | F26: x | G26: =SUM(G27:G28) -> 532789 | H26: =SUM(H27:H28) -> 1071431.3 | I26: =SUM(I27:I28) -> 1051361.3 | J26: =SUM(J27:J28) -> 1031291.3 | K26: =SUM(K27:K28) -> 1011221.3 | L26: =SUM(L27:L28) -> 991151.28 | M26: =SUM(M27:M28) -> 971081.28 | N26: =SUM(N27:N28) -> 951011.28 | ... R26: =SUM(R27:R28) -> 0
A27: z tego: - rata kapitałowa | D27: x | E27: =SUM(G27:R27) -> 8550000 | F27: x | G27: 450000 | H27: 900000 | I27: 900000 | J27: 900000 | K27: 900000 | L27: 900000 | M27: 900000 | N27: 900000 | O27: 900000 | P27: 900000
A28: - odsetki | D28: x | E28: x | F28: =SUM(G28:R28) -> 903150.52 | G28: 82789 | H28: 171431.28 | I28: 151361.28 | J28: 131291.28 | K28: 111221.28 | L28: 91151.28 | M28: 71081.28 | N28: 51011.28 | O28: 30941.28 | P28: 10871.28
A29: 7. | B29: ………………………………...(.................zł) | D29: =E30+F31 -> 0 | E29: x | F29: x | G29: =SUM(G30:G31) -> 0 | H29: =SUM(H30:H31) -> 0 | I29: =SUM(I30:I31) -> 0 | J29: =SUM(J30:J31) -> 0 | K29: =SUM(K30:K31) -> 0 | L29: =SUM(L30:L31) -> 0 | M29: =SUM(M30:M31) -> 0 | N29: =SUM(N30:N31) -> 0 | ... R29: =SUM(R30:R31) -> 0
A30: z tego: - rata kapitałowa | D30: x | E30: =SUM(G30:R30) -> 0 | F30: x
A31: - odsetki | D31: x | E31: x | F31: =SUM(G31:R31) -> 0
A32: 8. | B32: ………………………………...(.................zł) | D32: =E33+F34 -> 0 | E32: x | F32: x | G32: =SUM(G33:G34) -> 0 | H32: =SUM(H33:H34) -> 0 | I32: =SUM(I33:I34) -> 0 | J32: =SUM(J33:J34) -> 0 | K32: =SUM(K33:K34) -> 0 | L32: =SUM(L33:L34) -> 0 | M32: =SUM(M33:M34) -> 0 | N32: =SUM(N33:N34) -> 0 | ... R32: =SUM(R33:R34) -> 0
A33: z tego: - rata kapitałowa | D33: x | E33: =SUM(G33:R33) -> 0 | F33: x
A34: - odsetki | D34: x | E34: x | F34: =SUM(G34:R34) -> 0
A35: 9. | B35: ………………………………...(.................zł) | D35: =E36+F37 -> 0 | E35: x | F35: x | G35: =SUM(G36:G37) -> 0 | H35: =SUM(H36:H37) -> 0 | I35: =SUM(I36:I37) -> 0 | J35: =SUM(J36:J37) -> 0 | K35: =SUM(K36:K37) -> 0 | L35: =SUM(L36:L37) -> 0 | M35: =SUM(M36:M37) -> 0 | N35: =SUM(N36:N37) -> 0 | ... R35: =SUM(R36:R37) -> 0
A36: z tego: - rata kapitałowa | D36: x | E36: =SUM(G36:R36) -> 0 | F36: x
A37: - odsetki | D37: x | E37: x | F37: =SUM(G37:R37) -> 0
A38: 10. | B38: ………………………………...(.................zł) | D38: =E39+F40 -> 0 | E38: x | F38: x | G38: =SUM(G39:G40) -> 0 | H38: =SUM(H39:H40) -> 0 | I38: =SUM(I39:I40) -> 0 | J38: =SUM(J39:J40) -> 0 | K38: =SUM(K39:K40) -> 0 | L38: =SUM(L39:L40) -> 0 | M38: =SUM(M39:M40) -> 0 | N38: =SUM(N39:N40) -> 0 | ... R38: =SUM(R39:R40) -> 0
A39: z tego: - rata kapitałowa | D39: x | E39: =SUM(G39:R39) -> 0 | F39: x
A40: - odsetki | D40: x | E40: x | F40: =SUM(G40:R40) -> 0
...

Sheet POŻYCZKI
B1: Zobowiązania finansowe jednostki samorządu terytorialnego z tytułu zaciągniętych pożyczek | S1: x
G2: stan aktualny na dzień: | I2: ='DANE ZBIORCZO'!B6 -> 30.06.2020 r.
A3: TERYT i Nazwa JST | D3: ='DANE ZBIORCZO'!B8 -> 0 | E3: ='DANE ZBIORCZO'!B7 -> Lista j.s.t.
A4: Zaciągnięte POŻYCZKI: - Należy podać nazwę instytucji, wobec której j.s.t. ma zobowiązanie - Kwota zobowiązania wynikająca z umowy | C4: Uwagi o zobowiązaniu: - Data zawarcia umowy, - Data ewentualnych aneksów, | D4: ="niespłacone zobowiązania na dzień "&TEXT('DANE ZBIORCZO'!B6,"dd.mm.rrrr")&" r. (4+5+6+…+15)" -> niespłacone zobowiązania na dzień 30.06.2020 r. r. (4+5+6+…+15)
G5: II półrocze 2020 r. | H5: 2021 r. | I5: 2022 r. | J5: 2023 r. | K5: 2024 r. | L5: 2025 r. | M5: 2026 r. | N5: 2027 r. | O5: 2028 r. | P5: 2029 r. | Q5: 2030 r. | R5: 2031 r.
A6: 1 | C6: 2 | D6: 3 | G6: 4 | H6: 5 | I6: 6 | J6: 7 | K6: 8 | L6: 9 | M6: 10 | N6: 11 | O6: 12 | P6: 13 | Q6: 14 | R6: 15
A7: POŻYCZKI
A8: R A Z E M (1+2+...+10 itd), z tego: | D8: =SUM(D11:D65536) -> 172779.02 | E8: x | F8: x | G8: =SUM(G11,G14,G17,G20,G23,G26,G29,G32,G35,G38,G41,G44,G47,G50,G53,G56,G59,G62,G65,G68,G71,G74,G77,G80,G83,G86,G89,G92,G95,G98) -> 11404 | H8: =SUM(H11,H14,H17,H20,H23,H26,H29,H32,H35,H38,H41,H44,H47,H50,H53,H56,H59,H62,H65,H68,H71,H74,H77,H80,H83,H86,H89,H92,H95,H98) -> 22816.67 | I8: =SUM(I11,I14,I17,I20,I23,I26,I29,I32,I35,I38,I41,I44,I47,I50,I53,I56,I59,I62,I65,I68,I71,I74,I77,I80,I83,I86,I89,I92,I95,I98) -> 22416.67 | J8: =SUM(J11,J14,J17,J20,J23,J26,J29,J32,J35,J38,J41,J44,J47,J50,J53,J56,J59,J62,J65,J68,J71,J74,J77,J80,J83,J86,J89,J92,J95,J98) -> 22016.67 | K8: =SUM(K11,K14,K17,K20,K23,K26,K29,K32,K35,K38,K41,K44,K47,K50,K53,K56,K59,K62,K65,K68,K71,K74,K77,K80,K83,K86,K89,K92,K95,K98) -> 21616.67 | L8: =SUM(L11,L14,L17,L20,L23,L26,L29,L32,L35,L38,L41,L44,L47,L50,L53,L56,L59,L62,L65,L68,L71,L74,L77,L80,L83,L86,L89,L92,L95,L98) -> 21216.67 | M8: =SUM(M11,M14,M17,M20,M23,M26,M29,M32,M35,M38,M41,M44,M47,M50,M53,M56,M59,M62,M65,M68,M71,M74,M77,M80,M83,M86,M89,M92,M95,M98) -> 20816.67 | N8: =SUM(N11,N14,N17,N20,N23,N26,N29,N32,N35,N38,N41,N44,N47,N50,N53,N56,N59,N62,N65,N68,N71,N74,N77,N80,N83,N86,N89,N92,N95,N98) -> 20416.67 | ... R8: =SUM(R11,R14,R17,R20,R23,R26,R29,R32,R35,R38,R41,R44,R47,R50,R53,R56,R59,R62,R65,R68,R71,R74,R77,R80,R83,R86,R89,R92,R95,R98) -> 0
A9: - rata kapitałowa | D9: x | E9: =SUM(E11:E65536) -> 160000 | F9: x | G9: =SUM(G12,G15,G18,G21,G24,G27,G30,G33,G36,G39,G42,G45,G48,G51,G54,G57,G60,G63,G66,G69,G72,G75,G78,G81,G84,G87,G90,G93,G96,G99) -> 10000 | H9: =SUM(H12,H15,H18,H21,H24,H27,H30,H33,H36,H39,H42,H45,H48,H51,H54,H57,H60,H63,H66,H69,H72,H75,H78,H81,H84,H87,H90,H93,H96,H99) -> 20000 | I9: =SUM(I12,I15,I18,I21,I24,I27,I30,I33,I36,I39,I42,I45,I48,I51,I54,I57,I60,I63,I66,I69,I72,I75,I78,I81,I84,I87,I90,I93,I96,I99) -> 20000 | J9: =SUM(J12,J15,J18,J21,J24,J27,J30,J33,J36,J39,J42,J45,J48,J51,J54,J57,J60,J63,J66,J69,J72,J75,J78,J81,J84,J87,J90,J93,J96,J99) -> 20000 | K9: =SUM(K12,K15,K18,K21,K24,K27,K30,K33,K36,K39,K42,K45,K48,K51,K54,K57,K60,K63,K66,K69,K72,K75,K78,K81,K84,K87,K90,K93,K96,K99) -> 20000 | L9: =SUM(L12,L15,L18,L21,L24,L27,L30,L33,L36,L39,L42,L45,L48,L51,L54,L57,L60,L63,L66,L69,L72,L75,L78,L81,L84,L87,L90,L93,L96,L99) -> 20000 | M9: =SUM(M12,M15,M18,M21,M24,M27,M30,M33,M36,M39,M42,M45,M48,M51,M54,M57,M60,M63,M66,M69,M72,M75,M78,M81,M84,M87,M90,M93,M96,M99) -> 20000 | N9: =SUM(N12,N15,N18,N21,N24,N27,N30,N33,N36,N39,N42,N45,N48,N51,N54,N57,N60,N63,N66,N69,N72,N75,N78,N81,N84,N87,N90,N93,N96,N99) -> 20000 | ... R9: =SUM(R12,R15,R18,R21,R24,R27,R30,R33,R36,R39,R42,R45,R48,R51,R54,R57,R60,R63,R66,R69,R72,R75,R78,R81,R84,R87,R90,R93,R96,R99) -> 0
A10: - odsetki | D10: x | E10: x | F10: =SUM(F11:F65536) -> 12779.02 | G10: =SUM(G13,G16,G19,G22,G25,G28,G31,G34,G37,G40,G43,G46,G49,G52,G55,G58,G61,G64,G67,G70,G73,G76,G79,G82,G85,G88,G91,G94,G97,G100) -> 1404 | H10: =SUM(H13,H16,H19,H22,H25,H28,H31,H34,H37,H40,H43,H46,H49,H52,H55,H58,H61,H64,H67,H70,H73,H76,H79,H82,H85,H88,H91,H94,H97,H100) -> 2816.67 | I10: =SUM(I13,I16,I19,I22,I25,I28,I31,I34,I37,I40,I43,I46,I49,I52,I55,I58,I61,I64,I67,I70,I73,I76,I79,I82,I85,I88,I91,I94,I97,I100) -> 2416.67 | J10: =SUM(J13,J16,J19,J22,J25,J28,J31,J34,J37,J40,J43,J46,J49,J52,J55,J58,J61,J64,J67,J70,J73,J76,J79,J82,J85,J88,J91,J94,J97,J100) -> 2016.67 | K10: =SUM(K13,K16,K19,K22,K25,K28,K31,K34,K37,K40,K43,K46,K49,K52,K55,K58,K61,K64,K67,K70,K73,K76,K79,K82,K85,K88,K91,K94,K97,K100) -> 1616.67 | L10: =SUM(L13,L16,L19,L22,L25,L28,L31,L34,L37,L40,L43,L46,L49,L52,L55,L58,L61,L64,L67,L70,L73,L76,L79,L82,L85,L88,L91,L94,L97,L100) -> 1216.67 | M10: =SUM(M13,M16,M19,M22,M25,M28,M31,M34,M37,M40,M43,M46,M49,M52,M55,M58,M61,M64,M67,M70,M73,M76,M79,M82,M85,M88,M91,M94,M97,M100) -> 816.67 | N10: =SUM(N13,N16,N19,N22,N25,N28,N31,N34,N37,N40,N43,N46,N49,N52,N55,N58,N61,N64,N67,N70,N73,N76,N79,N82,N85,N88,N91,N94,N97,N100) -> 416.67 | ... R10: =SUM(R13,R16,R19,R22,R25,R28,R31,R34,R37,R40,R43,R46,R49,R52,R55,R58,R61,R64,R67,R70,R73,R76,R79,R82,R85,R88,R91,R94,R97,R100) -> 0
A11: 1. | B11: Wojewódzki Fundusz Ochrony Środowiska i Gospodarki Wodnej w Opolu umowa Nr 25/2018/G-54/OA-OE3/P (699.100,00zł) | C11: 03.08.2018r. | D11: =E12+F13 -> 172779.02 | E11: x | F11: x | G11: =SUM(G12:G13) -> 11404 | H11: =SUM(H12:H13) -> 22816.67 | I11: =SUM(I12:I13) -> 22416.67 | J11: =SUM(J12:J13) -> 22016.67 | K11: =SUM(K12:K13) -> 21616.67 | L11: =SUM(L12:L13) -> 21216.67 | M11: =SUM(M12:M13) -> 20816.67 | N11: =SUM(N12:N13) -> 20416.67 | ... R11: =SUM(R12:R13) -> 0
A12: z tego: - rata kapitałowa | D12: x | E12: =SUM(G12:R12) -> 160000 | F12: x | G12: 10000 | H12: 20000 | I12: 20000 | J12: 20000 | K12: 20000 | L12: 20000 | M12: 20000 | N12: 20000 | O12: 10000
A13: - odsetki | D13: x | E13: x | F13: =SUM(G13:R13) -> 12779.02 | G13: 1404 | H13: 2816.67 | I13: 2416.67 | J13: 2016.67 | K13: 1616.67 | L13: 1216.67 | M13: 816.67 | N13: 416.67 | O13: 58.33
A14: 2. | B14: ………………………………...(.................zł) | D14: =E15+F16 -> 0 | E14: x | F14: x | G14: =SUM(G15:G16) -> 0 | H14: =SUM(H15:H16) -> 0 | I14: =SUM(I15:I16) -> 0 | J14: =SUM(J15:J16) -> 0 | K14: =SUM(K15:K16) -> 0 | L14: =SUM(L15:L16) -> 0 | M14: =SUM(M15:M16) -> 0 | N14: =SUM(N15:N16) -> 0 | ... R14: =SUM(R15:R16) -> 0
A15: z tego: - rata kapitałowa | D15: x | E15: =SUM(G15:R15) -> 0 | F15: x
A16: - odsetki | D16: x | E16: x | F16: =SUM(G16:R16) -> 0
A17: 3. | B17: ………………………………...(.................zł) | D17: =E18+F19 -> 0 | E17: x | F17: x | G17: =SUM(G18:G19) -> 0 | H17: =SUM(H18:H19) -> 0 | I17: =SUM(I18:I19) -> 0 | J17: =SUM(J18:J19) -> 0 | K17: =SUM(K18:K19) -> 0 | L17: =SUM(L18:L19) -> 0 | M17: =SUM(M18:M19) -> 0 | N17: =SUM(N18:N19) -> 0 | ... R17: =SUM(R18:R19) -> 0
A18: z tego: - rata kapitałowa | D18: x | E18: =SUM(G18:R18) -> 0 | F18: x
A19: - odsetki | D19: x | E19: x | F19: =SUM(G19:R19) -> 0
A20: 4. | B20: ………………………………...(.................zł) | D20: =E21+F22 -> 0 | E20: x | F20: x | G20: =SUM(G21:G22) -> 0 | H20: =SUM(H21:H22) -> 0 | I20: =SUM(I21:I22) -> 0 | J20: =SUM(J21:J22) -> 0 | K20: =SUM(K21:K22) -> 0 | L20: =SUM(L21:L22) -> 0 | M20: =SUM(M21:M22) -> 0 | N20: =SUM(N21:N22) -> 0 | ... R20: =SUM(R21:R22) -> 0
A21: z tego: - rata kapitałowa | D21: x | E21: =SUM(G21:R21) -> 0 | F21: x
A22: - odsetki | D22: x | E22: x | F22: =SUM(G22:R22) -> 0
A23: 5. | B23: ………………………………...(.................zł) | D23: =E24+F25 -> 0 | E23: x | F23: x | G23: =SUM(G24:G25) -> 0 | H23: =SUM(H24:H25) -> 0 | I23: =SUM(I24:I25) -> 0 | J23: =SUM(J24:J25) -> 0 | K23: =SUM(K24:K25) -> 0 | L23: =SUM(L24:L25) -> 0 | M23: =SUM(M24:M25) -> 0 | N23: =SUM(N24:N25) -> 0 | ... R23: =SUM(R24:R25) -> 0
A24: z tego: - rata kapitałowa | D24: x | E24: =SUM(G24:R24) -> 0 | F24: x
A25: - odsetki | D25: x | E25: x | F25: =SUM(G25:R25) -> 0
A26: 6. | B26: ………………………………...(.................zł) | D26: =E27+F28 -> 0 | E26: x | F26: x | G26: =SUM(G27:G28) -> 0 | H26: =SUM(H27:H28) -> 0 | I26: =SUM(I27:I28) -> 0 | J26: =SUM(J27:J28) -> 0 | K26: =SUM(K27:K28) -> 0 | L26: =SUM(L27:L28) -> 0 | M26: =SUM(M27:M28) -> 0 | N26: =SUM(N27:N28) -> 0 | ... R26: =SUM(R27:R28) -> 0
A27: z tego: - rata kapitałowa | D27: x | E27: =SUM(G27:R27) -> 0 | F27: x
A28: - odsetki | D28: x | E28: x | F28: =SUM(G28:R28) -> 0
A29: 7. | B29: ………………………………...(.................zł) | D29: =E30+F31 -> 0 | E29: x | F29: x | G29: =SUM(G30:G31) -> 0 | H29: =SUM(H30:H31) -> 0 | I29: =SUM(I30:I31) -> 0 | J29: =SUM(J30:J31) -> 0 | K29: =SUM(K30:K31) -> 0 | L29: =SUM(L30:L31) -> 0 | M29: =SUM(M30:M31) -> 0 | N29: =SUM(N30:N31) -> 0 | ... R29: =SUM(R30:R31) -> 0
A30: z tego: - rata kapitałowa | D30: x | E30: =SUM(G30:R30) -> 0 | F30: x
A31: - odsetki | D31: x | E31: x | F31: =SUM(G31:R31) -> 0
A32: 8. | B32: ………………………………...(.................zł) | D32: =E33+F34 -> 0 | E32: x | F32: x | G32: =SUM(G33:G34) -> 0 | H32: =SUM(H33:H34) -> 0 | I32: =SUM(I33:I34) -> 0 | J32: =SUM(J33:J34) -> 0 | K32: =SUM(K33:K34) -> 0 | L32: =SUM(L33:L34) -> 0 | M32: =SUM(M33:M34) -> 0 | N32: =SUM(N33:N34) -> 0 | ... R32: =SUM(R33:R34) -> 0
A33: z tego: - rata kapitałowa | D33: x | E33: =SUM(G33:R33) -> 0 | F33: x
A34: - odsetki | D34: x | E34: x | F34: =SUM(G34:R34) -> 0
A35: 9. | B35: ………………………………...(.................zł) | D35: =E36+F37 -> 0 | E35: x | F35: x | G35: =SUM(G36:G37) -> 0 | H35: =SUM(H36:H37) -> 0 | I35: =SUM(I36:I37) -> 0 | J35: =SUM(J36:J37) -> 0 | K35: =SUM(K36:K37) -> 0 | L35: =SUM(L36:L37) -> 0 | M35: =SUM(M36:M37) -> 0 | N35: =SUM(N36:N37) -> 0 | ... R35: =SUM(R36:R37) -> 0
A36: z tego: - rata kapitałowa | D36: x | E36: =SUM(G36:R36) -> 0 | F36: x
A37: - odsetki | D37: x | E37: x | F37: =SUM(G37:R37) -> 0
A38: 10. | B38: ………………………………...(.................zł) | D38: =E39+F40 -> 0 | E38: x | F38: x | G38: =SUM(G39:G40) -> 0 | H38: =SUM(H39:H40) -> 0 | I38: =SUM(I39:I40) -> 0 | J38: =SUM(J39:J40) -> 0 | K38: =SUM(K39:K40) -> 0 | L38: =SUM(L39:L40) -> 0 | M38: =SUM(M39:M40) -> 0 | N38: =SUM(N39:N40) -> 0 | ... R38: =SUM(R39:R40) -> 0
A39: z tego: - rata kapitałowa | D39: x | E39: =SUM(G39:R39) -> 0 | F39: x
A40: - odsetki | D40: x | E40: x | F40: =SUM(G40:R40) -> 0
...

Sheet PAP.WART-brak płynnego rynku wt
B1: Zobowiązania finansowe jednostki samorządu terytorialnego z tytułu wyemitowanych papierów wartościowych, dla których zbywalność jest ograniczona | S1: x
G2: stan aktualny na dzień: | I2: ='DANE ZBIORCZO'!B6 -> 30.06.2020 r.
A3: TERYT i Nazwa JST | D3: ='DANE ZBIORCZO'!B8 -> 0 | E3: ='DANE ZBIORCZO'!B7 -> Lista j.s.t.
A4: Wyemitowane PAPIERY WARTOŚCIOWE, dla których zbywalność jest ograniczona: - Należy podać nazwę instytucji, wobec której j.s.t. ma zobowiązanie - Kwota zobowiązania wynikająca z umowy | C4: Uwagi o zobowiązaniu: - Data zawarcia umowy, - Data ewentualnych aneksów, | D4: ="niespłacone zobowiązania na dzień "&TEXT('DANE ZBIORCZO'!B6,"dd.mm.rrrr")&" r. (4+5+6+…+15)" -> niespłacone zobowiązania na dzień 30.06.2020 r. r. (4+5+6+…+15)
G5: II półrocze 2020 r. | H5: 2021 r. | I5: 2022 r. | J5: 2023 r. | K5: 2024 r. | L5: 2025 r. | M5: 2026 r. | N5: 2027 r. | O5: 2028 r. | P5: 2029 r. | Q5: 2030 r. | R5: 2031 r.
A6: 1 | C6: 2 | D6: 3 | G6: 4 | H6: 5 | I6: 6 | J6: 7 | K6: 8 | L6: 9 | M6: 10 | N6: 11 | O6: 12 | P6: 13 | Q6: 14 | R6: 15
A7: PAPIERY WARTOŚCIOWE, dla których zbywalność jest ograniczona (tzn. nie istnieje dla nich płynny rynek wtórny)
A8: R A Z E M (1+2+...+10 itd), z tego: | D8: =SUM(D11:D65536) -> 0 | E8: x | F8: x | G8: =SUM(G11,G14,G17,G20,G23,G26,G29,G32,G35,G38) -> 0 | H8: =SUM(H11,H14,H17,H20,H23,H26,H29,H32,H35,H38) -> 0 | I8: =SUM(I11,I14,I17,I20,I23,I26,I29,I32,I35,I38) -> 0 | J8: =SUM(J11,J14,J17,J20,J23,J26,J29,J32,J35,J38) -> 0 | K8: =SUM(K11,K14,K17,K20,K23,K26,K29,K32,K35,K38) -> 0 | L8: =SUM(L11,L14,L17,L20,L23,L26,L29,L32,L35,L38) -> 0 | M8: =SUM(M11,M14,M17,M20,M23,M26,M29,M32,M35,M38) -> 0 | N8: =SUM(N11,N14,N17,N20,N23,N26,N29,N32,N35,N38) -> 0 | ... R8: =SUM(R11,R14,R17,R20,R23,R26,R29,R32,R35,R38) -> 0
A9: - rata kapitałowa | D9: x | E9: =SUM(E11:E65536) -> 0 | F9: x | G9: =SUM(G12,G15,G18,G21,G24,G27,G30,G33,G36,G39) -> 0 | H9: =SUM(H12,H15,H18,H21,H24,H27,H30,H33,H36,H39) -> 0 | I9: =SUM(I12,I15,I18,I21,I24,I27,I30,I33,I36,I39) -> 0 | J9: =SUM(J12,J15,J18,J21,J24,J27,J30,J33,J36,J39) -> 0 | K9: =SUM(K12,K15,K18,K21,K24,K27,K30,K33,K36,K39) -> 0 | L9: =SUM(L12,L15,L18,L21,L24,L27,L30,L33,L36,L39) -> 0 | M9: =SUM(M12,M15,M18,M21,M24,M27,M30,M33,M36,M39) -> 0 | N9: =SUM(N12,N15,N18,N21,N24,N27,N30,N33,N36,N39) -> 0 | ... R9: =SUM(R12,R15,R18,R21,R24,R27,R30,R33,R36,R39) -> 0
A10: - odsetki | D10: x | E10: x | F10: =SUM(F11:F65536) -> 0 | G10: =SUM(G13,G16,G19,G22,G25,G28,G31,G34,G37,G40) -> 0 | H10: =SUM(H13,H16,H19,H22,H25,H28,H31,H34,H37,H40) -> 0 | I10: =SUM(I13,I16,I19,I22,I25,I28,I31,I34,I37,I40) -> 0 | J10: =SUM(J13,J16,J19,J22,J25,J28,J31,J34,J37,J40) -> 0 | K10: =SUM(K13,K16,K19,K22,K25,K28,K31,K34,K37,K40) -> 0 | L10: =SUM(L13,L16,L19,L22,L25,L28,L31,L34,L37,L40) -> 0 | M10: =SUM(M13,M16,M19,M22,M25,M28,M31,M34,M37,M40) -> 0 | N10: =SUM(N13,N16,N19,N22,N25,N28,N31,N34,N37,N40) -> 0 | ... R10: =SUM(R13,R16,R19,R22,R25,R28,R31,R34,R37,R40) -> 0
A11: 1. | B11: ………………………………...(.................zł) | D11: =E12+F13 -> 0 | E11: x | F11: x | G11: =SUM(G12:G13) -> 0 | H11: =SUM(H12:H13) -> 0 | I11: =SUM(I12:I13) -> 0 | J11: =SUM(J12:J13) -> 0 | K11: =SUM(K12:K13) -> 0 | L11: =SUM(L12:L13) -> 0 | M11: =SUM(M12:M13) -> 0 | N11: =SUM(N12:N13) -> 0 | ... R11: =SUM(R12:R13) -> 0
A12: z tego: - rata kapitałowa | D12: x | E12: =SUM(G12:R12) -> 0 | F12: x
A13: - odsetki | D13: x | E13: x | F13: =SUM(G13:R13) -> 0
A14: 2. | B14: ………………………………...(.................zł) | D14: =E15+F16 -> 0 | E14: x | F14: x | G14: =SUM(G15:G16) -> 0 | H14: =SUM(H15:H16) -> 0 | I14: =SUM(I15:I16) -> 0 | J14: =SUM(J15:J16) -> 0 | K14: =SUM(K15:K16) -> 0 | L14: =SUM(L15:L16) -> 0 | M14: =SUM(M15:M16) -> 0 | N14: =SUM(N15:N16) -> 0 | ... R14: =SUM(R15:R16) -> 0
A15: z tego: - rata kapitałowa | D15: x | E15: =SUM(G15:R15) -> 0 | F15: x
A16: - odsetki | D16: x | E16: x | F16: =SUM(G16:R16) -> 0
A17: 3. | B17: ………………………………...(.................zł) | D17: =E18+F19 -> 0 | E17: x | F17: x | G17: =SUM(G18:G19) -> 0 | H17: =SUM(H18:H19) -> 0 | I17: =SUM(I18:I19) -> 0 | J17: =SUM(J18:J19) -> 0 | K17: =SUM(K18:K19) -> 0 | L17: =SUM(L18:L19) -> 0 | M17: =SUM(M18:M19) -> 0 | N17: =SUM(N18:N19) -> 0 | ... R17: =SUM(R18:R19) -> 0
A18: z tego: - rata kapitałowa | D18: x | E18: =SUM(G18:R18) -> 0 | F18: x
A19: - odsetki | D19: x | E19: x | F19: =SUM(G19:R19) -> 0
A20: 4. | B20: ………………………………...(.................zł) | D20: =E21+F22 -> 0 | E20: x | F20: x | G20: =SUM(G21:G22) -> 0 | H20: =SUM(H21:H22) -> 0 | I20: =SUM(I21:I22) -> 0 | J20: =SUM(J21:J22) -> 0 | K20: =SUM(K21:K22) -> 0 | L20: =SUM(L21:L22) -> 0 | M20: =SUM(M21:M22) -> 0 | N20: =SUM(N21:N22) -> 0 | ... R20: =SUM(R21:R22) -> 0
A21: z tego: - rata kapitałowa | D21: x | E21: =SUM(G21:R21) -> 0 | F21: x
A22: - odsetki | D22: x | E22: x | F22: =SUM(G22:R22) -> 0
A23: 5. | B23: ………………………………...(.................zł) | D23: =E24+F25 -> 0 | E23: x | F23: x | G23: =SUM(G24:G25) -> 0 | H23: =SUM(H24:H25) -> 0 | I23: =SUM(I24:I25) -> 0 | J23: =SUM(J24:J25) -> 0 | K23: =SUM(K24:K25) -> 0 | L23: =SUM(L24:L25) -> 0 | M23: =SUM(M24:M25) -> 0 | N23: =SUM(N24:N25) -> 0 | ... R23: =SUM(R24:R25) -> 0
A24: z tego: - rata kapitałowa | D24: x | E24: =SUM(G24:R24) -> 0 | F24: x
A25: - odsetki | D25: x | E25: x | F25: =SUM(G25:R25) -> 0
A26: 6. | B26: ………………………………...(.................zł) | D26: =E27+F28 -> 0 | E26: x | F26: x | G26: =SUM(G27:G28) -> 0 | H26: =SUM(H27:H28) -> 0 | I26: =SUM(I27:I28) -> 0 | J26: =SUM(J27:J28) -> 0 | K26: =SUM(K27:K28) -> 0 | L26: =SUM(L27:L28) -> 0 | M26: =SUM(M27:M28) -> 0 | N26: =SUM(N27:N28) -> 0 | ... R26: =SUM(R27:R28) -> 0
A27: z tego: - rata kapitałowa | D27: x | E27: =SUM(G27:R27) -> 0 | F27: x
A28: - odsetki | D28: x | E28: x | F28: =SUM(G28:R28) -> 0
A29: 7. | B29: ………………………………...(.................zł) | D29: =E30+F31 -> 0 | E29: x | F29: x | G29: =SUM(G30:G31) -> 0 | H29: =SUM(H30:H31) -> 0 | I29: =SUM(I30:I31) -> 0 | J29: =SUM(J30:J31) -> 0 | K29: =SUM(K30:K31) -> 0 | L29: =SUM(L30:L31) -> 0 | M29: =SUM(M30:M31) -> 0 | N29: =SUM(N30:N31) -> 0 | ... R29: =SUM(R30:R31) -> 0
A30: z tego: - rata kapitałowa | D30: x | E30: =SUM(G30:R30) -> 0 | F30: x
A31: - odsetki | D31: x | E31: x | F31: =SUM(G31:R31) -> 0
A32: 8. | B32: ………………………………...(.................zł) | D32: =E33+F34 -> 0 | E32: x | F32: x | G32: =SUM(G33:G34) -> 0 | H32: =SUM(H33:H34) -> 0 | I32: =SUM(I33:I34) -> 0 | J32: =SUM(J33:J34) -> 0 | K32: =SUM(K33:K34) -> 0 | L32: =SUM(L33:L34) -> 0 | M32: =SUM(M33:M34) -> 0 | N32: =SUM(N33:N34) -> 0 | ... R32: =SUM(R33:R34) -> 0
A33: z tego: - rata kapitałowa | D33: x | E33: =SUM(G33:R33) -> 0 | F33: x
A34: - odsetki | D34: x | E34: x | F34: =SUM(G34:R34) -> 0
A35: 9. | B35: ………………………………...(.................zł) | D35: =E36+F37 -> 0 | E35: x | F35: x | G35: =SUM(G36:G37) -> 0 | H35: =SUM(H36:H37) -> 0 | I35: =SUM(I36:I37) -> 0 | J35: =SUM(J36:J37) -> 0 | K35: =SUM(K36:K37) -> 0 | L35: =SUM(L36:L37) -> 0 | M35: =SUM(M36:M37) -> 0 | N35: =SUM(N36:N37) -> 0 | ... R35: =SUM(R36:R37) -> 0
A36: z tego: - rata kapitałowa | D36: x | E36: =SUM(G36:R36) -> 0 | F36: x
A37: - odsetki | D37: x | E37: x | F37: =SUM(G37:R37) -> 0
A38: 10. | B38: ………………………………...(.................zł) | D38: =E39+F40 -> 0 | E38: x | F38: x | G38: =SUM(G39:G40) -> 0 | H38: =SUM(H39:H40) -> 0 | I38: =SUM(I39:I40) -> 0 | J38: =SUM(J39:J40) -> 0 | K38: =SUM(K39:K40) -> 0 | L38: =SUM(L39:L40) -> 0 | M38: =SUM(M39:M40) -> 0 | N38: =SUM(N39:N40) -> 0 | ... R38: =SUM(R39:R40) -> 0
A39: z tego: - rata kapitałowa | D39: x | E39: =SUM(G39:R39) -> 0 | F39: x
A40: - odsetki | D40: x | E40: x | F40: =SUM(G40:R40) -> 0
...

Sheet PAP.WART. - płynny rynek wtórny
B1: Zobowiązania finansowe jednostki samorządu terytorialnego z tytułu wyemitowanych papierów wartościowych, dla których zbywalność nie jest ograniczona | S1: x
G2: stan aktualny na dzień: | I2: ='DANE ZBIORCZO'!B6 -> 30.06.2020 r.
A3: TERYT i Nazwa JST | D3: ='DANE ZBIORCZO'!B8 -> 0 | E3: ='DANE ZBIORCZO'!B7 -> Lista j.s.t.
A4: Wyemitowane PAPIERY WARTOŚCIOWE, dla których zbywalność nie jest ograniczona: - Należy podać nazwę instytucji, wobec której j.s.t. ma zobowiązanie - Kwota zobowiązania wynikająca z umowy | C4: Uwagi o zobowiązaniu: - Data zawarcia umowy, - Data ewentualnych aneksów, | D4: ="niespłacone zobowiązania na dzień "&TEXT('DANE ZBIORCZO'!B6,"dd.mm.rrrr")&" r. (4+5+6+…+15)" -> niespłacone zobowiązania na dzień 30.06.2020 r. r. (4+5+6+…+15)
G5: II półrocze 2020 r. | H5: 2021 r. | I5: 2022 r. | J5: 2023 r. | K5: 2024 r. | L5: 2025 r. | M5: 2026 r. | N5: 2027 r. | O5: 2028 r. | P5: 2029 r. | Q5: 2030 r. | R5: 2031 r.
A6: 1 | C6: 2 | D6: 3 | G6: 4 | H6: 5 | I6: 6 | J6: 7 | K6: 8 | L6: 9 | M6: 10 | N6: 11 | O6: 12 | P6: 13 | Q6: 14 | R6: 15
A7: PAPIERY WARTOŚCIOWE, dla których zbywalność nie jest ograniczona (tzn. istnieje dla nich płynny rynek wtórny)
A8: R A Z E M (1+2+...+10 itd), z tego: | D8: =SUM(D11:D65536) -> 0 | E8: x | F8: x | G8: =SUM(G11,G14,G17,G20,G23,G26,G29,G32,G35,G38) -> 0 | H8: =SUM(H11,H14,H17,H20,H23,H26,H29,H32,H35,H38) -> 0 | I8: =SUM(I11,I14,I17,I20,I23,I26,I29,I32,I35,I38) -> 0 | J8: =SUM(J11,J14,J17,J20,J23,J26,J29,J32,J35,J38) -> 0 | K8: =SUM(K11,K14,K17,K20,K23,K26,K29,K32,K35,K38) -> 0 | L8: =SUM(L11,L14,L17,L20,L23,L26,L29,L32,L35,L38) -> 0 | M8: =SUM(M11,M14,M17,M20,M23,M26,M29,M32,M35,M38) -> 0 | N8: =SUM(N11,N14,N17,N20,N23,N26,N29,N32,N35,N38) -> 0 | ... R8: =SUM(R11,R14,R17,R20,R23,R26,R29,R32,R35,R38) -> 0
A9: - rata kapitałowa | D9: x | E9: =SUM(E11:E65536) -> 0 | F9: x | G9: =SUM(G12,G15,G18,G21,G24,G27,G30,G33,G36,G39) -> 0 | H9: =SUM(H12,H15,H18,H21,H24,H27,H30,H33,H36,H39) -> 0 | I9: =SUM(I12,I15,I18,I21,I24,I27,I30,I33,I36,I39) -> 0 | J9: =SUM(J12,J15,J18,J21,J24,J27,J30,J33,J36,J39) -> 0 | K9: =SUM(K12,K15,K18,K21,K24,K27,K30,K33,K36,K39) -> 0 | L9: =SUM(L12,L15,L18,L21,L24,L27,L30,L33,L36,L39) -> 0 | M9: =SUM(M12,M15,M18,M21,M24,M27,M30,M33,M36,M39) -> 0 | N9: =SUM(N12,N15,N18,N21,N24,N27,N30,N33,N36,N39) -> 0 | ... R9: =SUM(R12,R15,R18,R21,R24,R27,R30,R33,R36,R39) -> 0
A10: - odsetki | D10: x | E10: x | F10: =SUM(F11:F65536) -> 0 | G10: =SUM(G13,G16,G19,G22,G25,G28,G31,G34,G37,G40) -> 0 | H10: =SUM(H13,H16,H19,H22,H25,H28,H31,H34,H37,H40) -> 0 | I10: =SUM(I13,I16,I19,I22,I25,I28,I31,I34,I37,I40) -> 0 | J10: =SUM(J13,J16,J19,J22,J25,J28,J31,J34,J37,J40) -> 0 | K10: =SUM(K13,K16,K19,K22,K25,K28,K31,K34,K37,K40) -> 0 | L10: =SUM(L13,L16,L19,L22,L25,L28,L31,L34,L37,L40) -> 0 | M10: =SUM(M13,M16,M19,M22,M25,M28,M31,M34,M37,M40) -> 0 | N10: =SUM(N13,N16,N19,N22,N25,N28,N31,N34,N37,N40) -> 0 | ... R10: =SUM(R13,R16,R19,R22,R25,R28,R31,R34,R37,R40) -> 0
A11: 1. | B11: ………………………………...(.................zł) | D11: =E12+F13 -> 0 | E11: x | F11: x | G11: =SUM(G12:G13) -> 0 | H11: =SUM(H12:H13) -> 0 | I11: =SUM(I12:I13) -> 0 | J11: =SUM(J12:J13) -> 0 | K11: =SUM(K12:K13) -> 0 | L11: =SUM(L12:L13) -> 0 | M11: =SUM(M12:M13) -> 0 | N11: =SUM(N12:N13) -> 0 | ... R11: =SUM(R12:R13) -> 0
A12: z tego: - rata kapitałowa | D12: x | E12: =SUM(G12:R12) -> 0 | F12: x
A13: - odsetki | D13: x | E13: x | F13: =SUM(G13:R13) -> 0
A14: 2. | B14: ………………………………...(.................zł) | D14: =E15+F16 -> 0 | E14: x | F14: x | G14: =SUM(G15:G16) -> 0 | H14: =SUM(H15:H16) -> 0 | I14: =SUM(I15:I16) -> 0 | J14: =SUM(J15:J16) -> 0 | K14: =SUM(K15:K16) -> 0 | L14: =SUM(L15:L16) -> 0 | M14: =SUM(M15:M16) -> 0 | N14: =SUM(N15:N16) -> 0 | ... R14: =SUM(R15:R16) -> 0
A15: z tego: - rata kapitałowa | D15: x | E15: =SUM(G15:R15) -> 0 | F15: x
A16: - odsetki | D16: x | E16: x | F16: =SUM(G16:R16) -> 0
A17: 3. | B17: ………………………………...(.................zł) | D17: =E18+F19 -> 0 | E17: x | F17: x | G17: =SUM(G18:G19) -> 0 | H17: =SUM(H18:H19) -> 0 | I17: =SUM(I18:I19) -> 0 | J17: =SUM(J18:J19) -> 0 | K17: =SUM(K18:K19) -> 0 | L17: =SUM(L18:L19) -> 0 | M17: =SUM(M18:M19) -> 0 | N17: =SUM(N18:N19) -> 0 | ... R17: =SUM(R18:R19) -> 0
A18: z tego: - rata kapitałowa | D18: x | E18: =SUM(G18:R18) -> 0 | F18: x
A19: - odsetki | D19: x | E19: x | F19: =SUM(G19:R19) -> 0
A20: 4. | B20: ………………………………...(.................zł) | D20: =E21+F22 -> 0 | E20: x | F20: x | G20: =SUM(G21:G22) -> 0 | H20: =SUM(H21:H22) -> 0 | I20: =SUM(I21:I22) -> 0 | J20: =SUM(J21:J22) -> 0 | K20: =SUM(K21:K22) -> 0 | L20: =SUM(L21:L22) -> 0 | M20: =SUM(M21:M22) -> 0 | N20: =SUM(N21:N22) -> 0 | ... R20: =SUM(R21:R22) -> 0
A21: z tego: - rata kapitałowa | D21: x | E21: =SUM(G21:R21) -> 0 | F21: x
A22: - odsetki | D22: x | E22: x | F22: =SUM(G22:R22) -> 0
A23: 5. | B23: ………………………………...(.................zł) | D23: =E24+F25 -> 0 | E23: x | F23: x | G23: =SUM(G24:G25) -> 0 | H23: =SUM(H24:H25) -> 0 | I23: =SUM(I24:I25) -> 0 | J23: =SUM(J24:J25) -> 0 | K23: =SUM(K24:K25) -> 0 | L23: =SUM(L24:L25) -> 0 | M23: =SUM(M24:M25) -> 0 | N23: =SUM(N24:N25) -> 0 | ... R23: =SUM(R24:R25) -> 0
A24: z tego: - rata kapitałowa | D24: x | E24: =SUM(G24:R24) -> 0 | F24: x
A25: - odsetki | D25: x | E25: x | F25: =SUM(G25:R25) -> 0
A26: 6. | B26: ………………………………...(.................zł) | D26: =E27+F28 -> 0 | E26: x | F26: x | G26: =SUM(G27:G28) -> 0 | H26: =SUM(H27:H28) -> 0 | I26: =SUM(I27:I28) -> 0 | J26: =SUM(J27:J28) -> 0 | K26: =SUM(K27:K28) -> 0 | L26: =SUM(L27:L28) -> 0 | M26: =SUM(M27:M28) -> 0 | N26: =SUM(N27:N28) -> 0 | ... R26: =SUM(R27:R28) -> 0
A27: z tego: - rata kapitałowa | D27: x | E27: =SUM(G27:R27) -> 0 | F27: x
A28: - odsetki | D28: x | E28: x | F28: =SUM(G28:R28) -> 0
A29: 7. | B29: ………………………………...(.................zł) | D29: =E30+F31 -> 0 | E29: x | F29: x | G29: =SUM(G30:G31) -> 0 | H29: =SUM(H30:H31) -> 0 | I29: =SUM(I30:I31) -> 0 | J29: =SUM(J30:J31) -> 0 | K29: =SUM(K30:K31) -> 0 | L29: =SUM(L30:L31) -> 0 | M29: =SUM(M30:M31) -> 0 | N29: =SUM(N30:N31) -> 0 | ... R29: =SUM(R30:R31) -> 0
A30: z tego: - rata kapitałowa | D30: x | E30: =SUM(G30:R30) -> 0 | F30: x
A31: - odsetki | D31: x | E31: x | F31: =SUM(G31:R31) -> 0
A32: 8. | B32: ………………………………...(.................zł) | D32: =E33+F34 -> 0 | E32: x | F32: x | G32: =SUM(G33:G34) -> 0 | H32: =SUM(H33:H34) -> 0 | I32: =SUM(I33:I34) -> 0 | J32: =SUM(J33:J34) -> 0 | K32: =SUM(K33:K34) -> 0 | L32: =SUM(L33:L34) -> 0 | M32: =SUM(M33:M34) -> 0 | N32: =SUM(N33:N34) -> 0 | ... R32: =SUM(R33:R34) -> 0
A33: z tego: - rata kapitałowa | D33: x | E33: =SUM(G33:R33) -> 0 | F33: x
A34: - odsetki | D34: x | E34: x | F34: =SUM(G34:R34) -> 0
A35: 9. | B35: ………………………………...(.................zł) | D35: =E36+F37 -> 0 | E35: x | F35: x | G35: =SUM(G36:G37) -> 0 | H35: =SUM(H36:H37) -> 0 | I35: =SUM(I36:I37) -> 0 | J35: =SUM(J36:J37) -> 0 | K35: =SUM(K36:K37) -> 0 | L35: =SUM(L36:L37) -> 0 | M35: =SUM(M36:M37) -> 0 | N35: =SUM(N36:N37) -> 0 | ... R35: =SUM(R36:R37) -> 0
A36: z tego: - rata kapitałowa | D36: x | E36: =SUM(G36:R36) -> 0 | F36: x
A37: - odsetki | D37: x | E37: x | F37: =SUM(G37:R37) -> 0
A38: 10. | B38: ………………………………...(.................zł) | D38: =E39+F40 -> 0 | E38: x | F38: x | G38: =SUM(G39:G40) -> 0 | H38: =SUM(H39:H40) -> 0 | I38: =SUM(I39:I40) -> 0 | J38: =SUM(J39:J40) -> 0 | K38: =SUM(K39:K40) -> 0 | L38: =SUM(L39:L40) -> 0 | M38: =SUM(M39:M40) -> 0 | N38: =SUM(N39:N40) -> 0 | ... R38: =SUM(R39:R40) -> 0
A39: z tego: - rata kapitałowa | D39: x | E39: =SUM(G39:R39) -> 0 | F39: x
A40: - odsetki | D40: x | E40: x | F40: =SUM(G40:R40) -> 0
...

Sheet INNE
B1: Zobowiązania finansowe jednostki samorządu terytorialnego z tytułu zaciągniętych innych zobowiązań* | S1: x
G2: stan aktualny na dzień: | I2: ='DANE ZBIORCZO'!B6 -> 30.06.2020 r.
A3: TERYT i Nazwa JST | D3: ='DANE ZBIORCZO'!B8 -> 0 | E3: ='DANE ZBIORCZO'!B7 -> Lista j.s.t.
A4: Zaciągnięte INNE zobowiązania (art. 72 ust 1a ufp): - Należy podać nazwę instytucji, wobec której j.s.t. ma zobowiązanie - Kwota zobowiązania wynikająca z umowy | C4: Uwagi o zobowiązaniu: - Data zawarcia umowy, - Data ewentualnych aneksów, | D4: ="niespłacone zobowiązania na dzień "&TEXT('DANE ZBIORCZO'!B6,"dd.mm.rrrr")&" r. (4+5+6+…+15)" -> niespłacone zobowiązania na dzień 30.06.2020 r. r. (4+5+6+…+15)
G5: II półrocze 2020 r. | H5: 2021 r. | I5: 2022 r. | J5: 2023 r. | K5: 2024 r. | L5: 2025 r. | M5: 2026 r. | N5: 2027 r. | O5: 2028 r. | P5: 2029 r. | Q5: 2030 r. | R5: 2031 r.
A6: 1 | C6: 2 | D6: 3 | G6: 4 | H6: 5 | I6: 6 | J6: 7 | K6: 8 | L6: 9 | M6: 10 | N6: 11 | O6: 12 | P6: 13 | Q6: 14 | R6: 15
A7: INNE
A8: R A Z E M (1+2+...+10 itd), z tego: | D8: =SUM(D11:D65536) -> 0 | E8: x | F8: x | G8: =SUM(G11,G14,G17,G20,G23,G26,G29,G32,G35,G38) -> 0 | H8: =SUM(H11,H14,H17,H20,H23,H26,H29,H32,H35,H38) -> 0 | I8: =SUM(I11,I14,I17,I20,I23,I26,I29,I32,I35,I38) -> 0 | J8: =SUM(J11,J14,J17,J20,J23,J26,J29,J32,J35,J38) -> 0 | K8: =SUM(K11,K14,K17,K20,K23,K26,K29,K32,K35,K38) -> 0 | L8: =SUM(L11,L14,L17,L20,L23,L26,L29,L32,L35,L38) -> 0 | M8: =SUM(M11,M14,M17,M20,M23,M26,M29,M32,M35,M38) -> 0 | N8: =SUM(N11,N14,N17,N20,N23,N26,N29,N32,N35,N38) -> 0 | ... R8: =SUM(R11,R14,R17,R20,R23,R26,R29,R32,R35,R38) -> 0
A9: - rata kapitałowa | D9: x | E9: =SUM(E11:E65536) -> 0 | F9: x | G9: =SUM(G12,G15,G18,G21,G24,G27,G30,G33,G36,G39) -> 0 | H9: =SUM(H12,H15,H18,H21,H24,H27,H30,H33,H36,H39) -> 0 | I9: =SUM(I12,I15,I18,I21,I24,I27,I30,I33,I36,I39) -> 0 | J9: =SUM(J12,J15,J18,J21,J24,J27,J30,J33,J36,J39) -> 0 | K9: =SUM(K12,K15,K18,K21,K24,K27,K30,K33,K36,K39) -> 0 | L9: =SUM(L12,L15,L18,L21,L24,L27,L30,L33,L36,L39) -> 0 | M9: =SUM(M12,M15,M18,M21,M24,M27,M30,M33,M36,M39) -> 0 | N9: =SUM(N12,N15,N18,N21,N24,N27,N30,N33,N36,N39) -> 0 | ... R9: =SUM(R12,R15,R18,R21,R24,R27,R30,R33,R36,R39) -> 0
A10: - odsetki | D10: x | E10: x | F10: =SUM(F11:F65536) -> 0 | G10: =SUM(G13,G16,G19,G22,G25,G28,G31,G34,G37,G40) -> 0 | H10: =SUM(H13,H16,H19,H22,H25,H28,H31,H34,H37,H40) -> 0 | I10: =SUM(I13,I16,I19,I22,I25,I28,I31,I34,I37,I40) -> 0 | J10: =SUM(J13,J16,J19,J22,J25,J28,J31,J34,J37,J40) -> 0 | K10: =SUM(K13,K16,K19,K22,K25,K28,K31,K34,K37,K40) -> 0 | L10: =SUM(L13,L16,L19,L22,L25,L28,L31,L34,L37,L40) -> 0 | M10: =SUM(M13,M16,M19,M22,M25,M28,M31,M34,M37,M40) -> 0 | N10: =SUM(N13,N16,N19,N22,N25,N28,N31,N34,N37,N40) -> 0 | ... R10: =SUM(R13,R16,R19,R22,R25,R28,R31,R34,R37,R40) -> 0
A11: 1. | B11: ………………………………...(.................zł) | D11: =E12+F13 -> 0 | E11: x | F11: x | G11: =SUM(G12:G13) -> 0 | H11: =SUM(H12:H13) -> 0 | I11: =SUM(I12:I13) -> 0 | J11: =SUM(J12:J13) -> 0 | K11: =SUM(K12:K13) -> 0 | L11: =SUM(L12:L13) -> 0 | M11: =SUM(M12:M13) -> 0 | N11: =SUM(N12:N13) -> 0 | ... R11: =SUM(R12:R13) -> 0
A12: z tego: - rata kapitałowa | D12: x | E12: =SUM(G12:R12) -> 0 | F12: x
A13: - odsetki | D13: x | E13: x | F13: =SUM(G13:R13) -> 0
A14: 2. | B14: ………………………………...(.................zł) | D14: =E15+F16 -> 0 | E14: x | F14: x | G14: =SUM(G15:G16) -> 0 | H14: =SUM(H15:H16) -> 0 | I14: =SUM(I15:I16) -> 0 | J14: =SUM(J15:J16) -> 0 | K14: =SUM(K15:K16) -> 0 | L14: =SUM(L15:L16) -> 0 | M14: =SUM(M15:M16) -> 0 | N14: =SUM(N15:N16) -> 0 | ... R14: =SUM(R15:R16) -> 0
A15: z tego: - rata kapitałowa | D15: x | E15: =SUM(G15:R15) -> 0 | F15: x
A16: - odsetki | D16: x | E16: x | F16: =SUM(G16:R16) -> 0
A17: 3. | B17: ………………………………...(.................zł) | D17: =E18+F19 -> 0 | E17: x | F17: x | G17: =SUM(G18:G19) -> 0 | H17: =SUM(H18:H19) -> 0 | I17: =SUM(I18:I19) -> 0 | J17: =SUM(J18:J19) -> 0 | K17: =SUM(K18:K19) -> 0 | L17: =SUM(L18:L19) -> 0 | M17: =SUM(M18:M19) -> 0 | N17: =SUM(N18:N19) -> 0 | ... R17: =SUM(R18:R19) -> 0
A18: z tego: - rata kapitałowa | D18: x | E18: =SUM(G18:R18) -> 0 | F18: x
A19: - odsetki | D19: x | E19: x | F19: =SUM(G19:R19) -> 0
A20: 4. | B20: ………………………………...(.................zł) | D20: =E21+F22 -> 0 | E20: x | F20: x | G20: =SUM(G21:G22) -> 0 | H20: =SUM(H21:H22) -> 0 | I20: =SUM(I21:I22) -> 0 | J20: =SUM(J21:J22) -> 0 | K20: =SUM(K21:K22) -> 0 | L20: =SUM(L21:L22) -> 0 | M20: =SUM(M21:M22) -> 0 | N20: =SUM(N21:N22) -> 0 | ... R20: =SUM(R21:R22) -> 0
A21: z tego: - rata kapitałowa | D21: x | E21: =SUM(G21:R21) -> 0 | F21: x
A22: - odsetki | D22: x | E22: x | F22: =SUM(G22:R22) -> 0
A23: 5. | B23: ………………………………...(.................zł) | D23: =E24+F25 -> 0 | E23: x | F23: x | G23: =SUM(G24:G25) -> 0 | H23: =SUM(H24:H25) -> 0 | I23: =SUM(I24:I25) -> 0 | J23: =SUM(J24:J25) -> 0 | K23: =SUM(K24:K25) -> 0 | L23: =SUM(L24:L25) -> 0 | M23: =SUM(M24:M25) -> 0 | N23: =SUM(N24:N25) -> 0 | ... R23: =SUM(R24:R25) -> 0
A24: z tego: - rata kapitałowa | D24: x | E24: =SUM(G24:R24) -> 0 | F24: x
A25: - odsetki | D25: x | E25: x | F25: =SUM(G25:R25) -> 0
A26: 6. | B26: ………………………………...(.................zł) | D26: =E27+F28 -> 0 | E26: x | F26: x | G26: =SUM(G27:G28) -> 0 | H26: =SUM(H27:H28) -> 0 | I26: =SUM(I27:I28) -> 0 | J26: =SUM(J27:J28) -> 0 | K26: =SUM(K27:K28) -> 0 | L26: =SUM(L27:L28) -> 0 | M26: =SUM(M27:M28) -> 0 | N26: =SUM(N27:N28) -> 0 | ... R26: =SUM(R27:R28) -> 0
A27: z tego: - rata kapitałowa | D27: x | E27: =SUM(G27:R27) -> 0 | F27: x
A28: - odsetki | D28: x | E28: x | F28: =SUM(G28:R28) -> 0
A29: 7. | B29: ………………………………...(.................zł) | D29: =E30+F31 -> 0 | E29: x | F29: x | G29: =SUM(G30:G31) -> 0 | H29: =SUM(H30:H31) -> 0 | I29: =SUM(I30:I31) -> 0 | J29: =SUM(J30:J31) -> 0 | K29: =SUM(K30:K31) -> 0 | L29: =SUM(L30:L31) -> 0 | M29: =SUM(M30:M31) -> 0 | N29: =SUM(N30:N31) -> 0 | ... R29: =SUM(R30:R31) -> 0
A30: z tego: - rata kapitałowa | D30: x | E30: =SUM(G30:R30) -> 0 | F30: x
A31: - odsetki | D31: x | E31: x | F31: =SUM(G31:R31) -> 0
A32: 8. | B32: ………………………………...(.................zł) | D32: =E33+F34 -> 0 | E32: x | F32: x | G32: =SUM(G33:G34) -> 0 | H32: =SUM(H33:H34) -> 0 | I32: =SUM(I33:I34) -> 0 | J32: =SUM(J33:J34) -> 0 | K32: =SUM(K33:K34) -> 0 | L32: =SUM(L33:L34) -> 0 | M32: =SUM(M33:M34) -> 0 | N32: =SUM(N33:N34) -> 0 | ... R32: =SUM(R33:R34) -> 0
A33: z tego: - rata kapitałowa | D33: x | E33: =SUM(G33:R33) -> 0 | F33: x
A34: - odsetki | D34: x | E34: x | F34: =SUM(G34:R34) -> 0
A35: 9. | B35: ………………………………...(.................zł) | D35: =E36+F37 -> 0 | E35: x | F35: x | G35: =SUM(G36:G37) -> 0 | H35: =SUM(H36:H37) -> 0 | I35: =SUM(I36:I37) -> 0 | J35: =SUM(J36:J37) -> 0 | K35: =SUM(K36:K37) -> 0 | L35: =SUM(L36:L37) -> 0 | M35: =SUM(M36:M37) -> 0 | N35: =SUM(N36:N37) -> 0 | ... R35: =SUM(R36:R37) -> 0
A36: z tego: - rata kapitałowa | D36: x | E36: =SUM(G36:R36) -> 0 | F36: x
A37: - odsetki | D37: x | E37: x | F37: =SUM(G37:R37) -> 0
A38: 10. | B38: ………………………………...(.................zł) | D38: =E39+F40 -> 0 | E38: x | F38: x | G38: =SUM(G39:G40) -> 0 | H38: =SUM(H39:H40) -> 0 | I38: =SUM(I39:I40) -> 0 | J38: =SUM(J39:J40) -> 0 | K38: =SUM(K39:K40) -> 0 | L38: =SUM(L39:L40) -> 0 | M38: =SUM(M39:M40) -> 0 | N38: =SUM(N39:N40) -> 0 | ... R38: =SUM(R39:R40) -> 0
A39: z tego: - rata kapitałowa | D39: x | E39: =SUM(G39:R39) -> 0 | F39: x
A40: - odsetki | D40: x | E40: x | F40: =SUM(G40:R40) -> 0
...

Sheet PORĘCZENIA
B1: Zobowiązania finansowe jednostki samorządu terytorialnego z tytułu udzielonych poręczeń | S1: x
G2: stan aktualny na dzień: | I2: ='DANE ZBIORCZO'!B6 -> 30.06.2020 r.
A3: TERYT i Nazwa JST | D3: ='DANE ZBIORCZO'!B8 -> 0 | E3: ='DANE ZBIORCZO'!B7 -> Lista j.s.t.
A4: Udzielone PORĘCZENIA: - Należy podać nazwę instytucji (bank, WFOŚiGW itp.), wobec której j.s.t. może mieć/ma zobowiązanie - Kwota zobowiązania wynikająca z umowy | C4: Uwagi o poręczeniu: - Nazwa podmiotu, któremu udzielono poręczenia - Data zawarcia umowy, - Data ewentualnych aneksów, | D4: ="niespłacone zobowiązania na dzień "&TEXT('DANE ZBIORCZO'!B6,"dd.mm.rrrr")&" r. (4+5+6+…+15)" -> niespłacone zobowiązania na dzień 30.06.2020 r. r. (4+5+6+…+15)
G5: II półrocze 2020 r. | H5: 2021 r. | I5: 2022 r. | J5: 2023 r. | K5: 2024 r. | L5: 2025 r. | M5: 2026 r. | N5: 2027 r. | O5: 2028 r. | P5: 2029 r. | Q5: 2030 r. | R5: 2031 r.
A6: 1 | C6: 2 | D6: 3 | G6: 4 | H6: 5 | I6: 6 | J6: 7 | K6: 8 | L6: 9 | M6: 10 | N6: 11 | O6: 12 | P6: 13 | Q6: 14 | R6: 15
A7: PORĘCZENIA
A8: R A Z E M (1+2+...+10 itd), z tego: | D8: =SUM(D11:D65536) -> 0 | E8: x | F8: x | G8: =SUM(G11,G14,G17,G20,G23) -> 0 | H8: =SUM(H11,H14,H17,H20,H23) -> 0 | I8: =SUM(I11,I14,I17,I20,I23) -> 0 | J8: =SUM(J11,J14,J17,J20,J23) -> 0 | K8: =SUM(K11,K14,K17,K20,K23) -> 0 | L8: =SUM(L11,L14,L17,L20,L23) -> 0 | M8: =SUM(M11,M14,M17,M20,M23) -> 0 | N8: =SUM(N11,N14,N17,N20,N23) -> 0 | ... R8: =SUM(R11,R14,R17,R20,R23) -> 0
A9: - rata kapitałowa | D9: x | E9: =SUM(E11:E65536) -> 0 | F9: x | G9: =SUM(G12,G15,G18,G21,G24) -> 0 | H9: =SUM(H12,H15,H18,H21,H24) -> 0 | I9: =SUM(I12,I15,I18,I21,I24) -> 0 | J9: =SUM(J12,J15,J18,J21,J24) -> 0 | K9: =SUM(K12,K15,K18,K21,K24) -> 0 | L9: =SUM(L12,L15,L18,L21,L24) -> 0 | M9: =SUM(M12,M15,M18,M21,M24) -> 0 | N9: =SUM(N12,N15,N18,N21,N24) -> 0 | ... R9: =SUM(R12,R15,R18,R21,R24) -> 0
A10: - odsetki | D10: x | E10: x | F10: =SUM(F11:F65536) -> 0 | G10: =SUM(G13,G16,G19,G22,G25) -> 0 | H10: =SUM(H13,H16,H19,H22,H25) -> 0 | I10: =SUM(I13,I16,I19,I22,I25) -> 0 | J10: =SUM(J13,J16,J19,J22,J25) -> 0 | K10: =SUM(K13,K16,K19,K22,K25) -> 0 | L10: =SUM(L13,L16,L19,L22,L25) -> 0 | M10: =SUM(M13,M16,M19,M22,M25) -> 0 | N10: =SUM(N13,N16,N19,N22,N25) -> 0 | ... R10: =SUM(R13,R16,R19,R22,R25) -> 0
A11: 1. | B11: ………………………………...(.................zł) | D11: =E12+F13 -> 0 | E11: x | F11: x | G11: =SUM(G12:G13) -> 0 | H11: =SUM(H12:H13) -> 0 | I11: =SUM(I12:I13) -> 0 | J11: =SUM(J12:J13) -> 0 | K11: =SUM(K12:K13) -> 0 | L11: =SUM(L12:L13) -> 0 | M11: =SUM(M12:M13) -> 0 | N11: =SUM(N12:N13) -> 0 | ... R11: =SUM(R12:R13) -> 0
A12: z tego: - rata kapitałowa | D12: x | E12: =SUM(G12:R12) -> 0 | F12: x
A13: - odsetki | D13: x | E13: x | F13: =SUM(G13:R13) -> 0
A14: 2. | B14: ………………………………...(.................zł) | D14: =E15+F16 -> 0 | E14: x | F14: x | G14: =SUM(G15:G16) -> 0 | H14: =SUM(H15:H16) -> 0 | I14: =SUM(I15:I16) -> 0 | J14: =SUM(J15:J16) -> 0 | K14: =SUM(K15:K16) -> 0 | L14: =SUM(L15:L16) -> 0 | M14: =SUM(M15:M16) -> 0 | N14: =SUM(N15:N16) -> 0 | ... R14: =SUM(R15:R16) -> 0
A15: z tego: - rata kapitałowa | D15: x | E15: =SUM(G15:R15) -> 0 | F15: x
A16: - odsetki | D16: x | E16: x | F16: =SUM(G16:R16) -> 0
A17: 3. | B17: ………………………………...(.................zł) | D17: =E18+F19 -> 0 | E17: x | F17: x | G17: =SUM(G18:G19) -> 0 | H17: =SUM(H18:H19) -> 0 | I17: =SUM(I18:I19) -> 0 | J17: =SUM(J18:J19) -> 0 | K17: =SUM(K18:K19) -> 0 | L17: =SUM(L18:L19) -> 0 | M17: =SUM(M18:M19) -> 0 | N17: =SUM(N18:N19) -> 0 | ... R17: =SUM(R18:R19) -> 0
A18: z tego: - rata kapitałowa | D18: x | E18: =SUM(G18:R18) -> 0 | F18: x
A19: - odsetki | D19: x | E19: x | F19: =SUM(G19:R19) -> 0
A20: 4. | B20: ………………………………...(.................zł) | D20: =E21+F22 -> 0 | E20: x | F20: x | G20: =SUM(G21:G22) -> 0 | H20: =SUM(H21:H22) -> 0 | I20: =SUM(I21:I22) -> 0 | J20: =SUM(J21:J22) -> 0 | K20: =SUM(K21:K22) -> 0 | L20: =SUM(L21:L22) -> 0 | M20: =SUM(M21:M22) -> 0 | N20: =SUM(N21:N22) -> 0 | ... R20: =SUM(R21:R22) -> 0
A21: z tego: - rata kapitałowa | D21: x | E21: =SUM(G21:R21) -> 0 | F21: x
A22: - odsetki | D22: x | E22: x | F22: =SUM(G22:R22) -> 0
A23: 5. | B23: ………………………………...(.................zł) | D23: =E24+F25 -> 0 | E23: x | F23: x | G23: =SUM(G24:G25) -> 0 | H23: =SUM(H24:H25) -> 0 | I23: =SUM(I24:I25) -> 0 | J23: =SUM(J24:J25) -> 0 | K23: =SUM(K24:K25) -> 0 | L23: =SUM(L24:L25) -> 0 | M23: =SUM(M24:M25) -> 0 | N23: =SUM(N24:N25) -> 0 | ... R23: =SUM(R24:R25) -> 0
A24: z tego: - rata kapitałowa | D24: x | E24: =SUM(G24:R24) -> 0 | F24: x
A25: - odsetki | D25: x | E25: x | F25: =SUM(G25:R25) -> 0
B27: Data sporządzenia: | C27: ='DANE ZBIORCZO'!B25 -> 16.07.2020r. | K27: ='DANE ZBIORCZO'!C34 -> Tadeusz Goc
B28: Imię i nazwisko osoby sporządzającej: | C28: ='DANE ZBIORCZO'!B26 -> Katarzyna Szufla | K28: …………………………………………………………………….
B29: Tel. do osoby sporządzającej: | C29: ='DANE ZBIORCZO'!B27 -> 77 40 49 360 | K29: Podpis Przewodniczącego Zarządu

Sheet Pozostałe operacje finansowe
B1: Jeśli dane zjawisko nie występuje to w kol z kwotami wpisać 0, a w kol. opisowych wpisać "NIE DOTYCZY"
B3: Nazwa JST: | C3: =KREDYTY!E3 -> Lista j.s.t.
B4: Symbol TERYT: | C4: =KREDYTY!D3 -> 0
B6: I. Zobowiązania finansowe | C6: stan na dzień: | D6: ='DANE ZBIORCZO'!B6 -> 30.06.2020 r.
B7: W przypadku wystąpienia operacji finansowych, o których mowa w poniższej tabeli, należy w uwagach podać informacje zawierające datę zawarcia umowy, okres, na jaki została zawarta, strony umowy, kwotę operacji.
A8: Lp. | B8: Wyszczególnienie operacji finansowych dotyczących: | C8: Kwota | D8: Uwagi
A9: 1 | B9: finansowania w pozabankowych instytucjach finansowych (tj. firmach pożyczkowych, parabankach, które prowadzą działalność polegającą na gromadzeniu kapitału i obarczeniu go ryzykiem bez odpowiedniej licencji Komisji Nadzoru Finansowego)
A10: 2 | B10: leasingu finansowego
A11: 3 | B11: leasingu operacyjnego
A12: 4 | B12: leasingu zwrotnego nieruchomości
A13: 5 | B13: sprzedaży zwrotnej tj. transakcji, w których obecny właściciel przedmiotu (środka trwałego) sprzedaje go i jednocześnie zawiera z kupującym (teraz już leasingodawcą/ wydzierżawiającym/wynajmującym) umowę leasingu/ dzierzawy/najmu. Były właściciel, teraz leasingobiorca/dzierżawca/najemca, otrzymuje możliwość użytkowania przedmiotu leasingu/dzierżawy/najmu i często zapewnia sobie prawo odkupienia po wygaśnięciu umowy
A14: 6 | B14: finansowania z wykorzystaniem podmiotów trzecich przejmujących wierzytelności niewymagalne i oferujących zamianę harmonogramu ich spłaty na korzystniejszą dla samorządu
A15: 7 | B15: subrogacji wymagalnych wierzytelności od samorządu i ich zamiany na wierzytelności niewymagalne
A16: 8 | B16: sprzedaży przez samorząd papierów wartościowych lub innych praw własności (np. akcji/udziałów w spółkach komunalnych) z przyrzeczeniem ich odkupu (buy-sell-back)
A17: 9 | B17: zakupu przez samorząd własnych dłużnych papierów wartościowych z przyrzeczeniem ich odsprzedaży (sell-buy-back), np. w celu obniżenia zadłużenia na dzień sprawozdawczy
A18: 10 | B18: operacji krzyżowych wymiany papierów wartościowych, polegających na jednoczesnym przeprowadzeniu operacji buy-sell-back i sell-buy-back
A19: 11 | B19: transferu długu do spółek komunalnych, obejmowania udziałów w spółkach komunalnych i dopłat zwrotnych do spółek
A20: 12 | B20: finansowania z wykorzystaniem funduszy inwestycyjnych
... A22: 14 | B22: umów wsparcia, przez które należy rozumieć finansowe instrumenty wspierania przez j.s.t. inwestycji prowadzonych przez spółki z udziałem samorządu. W szczególności mogą one przybrać formę wieloletniego zobowiązania do wykupu/podwyższenia udziałów w spółkach bądź gwarantowania spłaty zobowiązań finansowych zaciągniętych przez spółki w tym celu
A23: 15 | B23: inne – opisać jakie | C23: 17722100 | D23: Umowa ustanowienia zastawu rejestrowego na udziałach w Spółce
B26: Data sporządzenia: | C26: ='DANE ZBIORCZO'!B25 -> 16.07.2020r.
B27: Imię i nazwisko osoby sporządzającej: | C27: ='DANE ZBIORCZO'!B26 -> Katarzyna Szufla
B28: Tel. do osoby sporządzającej: | C28: ='DANE ZBIORCZO'!B27 -> 77 40 49 360
E32: ='DANE ZBIORCZO'!C34 -> Tadeusz Goc
E33: …………………………………………………………………….
E34: Podpis Przewodniczącego Zarządu

Sheet Informacje dla KRRIO
C1: Należy wypełnić wszystkie pola z kolorowym tłem. Jeśli dane zjawisko nie występuje to w kol z kwotami wpisać 0, a w kol. opisowych wpisać "NIE DOTYCZY" | I1: VER. 2020-07-10
E2: Kod jednostki
C3: ='DANE ZBIORCZO'!B7 -> Lista j.s.t. | E3: =MID('DANE ZBIORCZO'!B8,1,2) -> 0 | F3: =MID('DANE ZBIORCZO'!B8,3,2) | G3: =MID('DANE ZBIORCZO'!B8,5,2) | H3: =MID('DANE ZBIORCZO'!B8,7,1)
C4: Nazwa JST | E4: WK | F4: PK | G4: GK | H4: GT
C7: ="A. Uszczegółowienie danych dot. zobowiązań wykazanych w cz. A, wierszu E.2. i E.2.1. sprawozdania Rb-Z [*] wg stanu na "&TEXT('DANE ZBIORCZO'!B6,"dd.mm.rrrr")&" (na podstawie § 10 ust. 6 rozp.)" -> A. Uszczegółowienie danych dot. zobowiązań wykazanych w cz. A, wierszu E.2. i E.2.1. sprawozdania Rb-Z [*] wg stanu na 30.06.2020 r. (na podstawie § 10 ust. 6 rozp.)
B9: Lp. | C9: Wyszczególnienie | D9: Kwota zobowiązań ogółem (poz. E2.) | E9: w tym: krótkoterminowe (poz. E2.1)
C10: Ogółem, w tym z tytułu: | D10: =+SUM(D11:D22) -> 12359032 | E10: =+SUM(E11:E22) -> 0
B11: 1 | C11: kredytów i pożyczek zaciągniętych w bankach krajowych lub w bankach zagranicznych (tych które działają w oparciu o prawo bankowe i mają zezwolenie KNF) | D11: 12199032
B12: =+B11+1 -> 2 | C12: kredytów i pożyczek zaciągniętych w zagranicznych instytucjach finansowych (nie będących bankami)
B13: =+B12+1 -> 3 | C13: pożyczek zaciągniętych w NFOŚiGW lub WFOŚiGW | D13: 160000
B14: =+B13+1 -> 4 | C14: pożyczek zaciągniętych z budżetu państwa
B15: =+B14+1 -> 5 | C15: pożyczek zaciągniętych w fundacjach i stowarzyszeniach np. EFRWP (Fundacja Europejski Fundusz Rozwoju Wsi Polskiej)
B16: =+B15+1 -> 6 | C16: kredytów i pożyczek zaciągniętych w podmiotach nie będących bankami (tj. takich, które NIE DZIAŁAJĄ w oparciu o Prawo bankowe i NIE MAJĄ zezwolenia KNF wydanego na podstawie ustawy Prawo bankowe)
B17: =+B16+1 -> 7 | C17: wyemitowanych papierów wartościowych, których zbywalność jest ograniczona | F17: =IF(SUM(D17:D22)=D29,"OK.","Suma pozycji od nr 7 do 12 powinna być zgodna z komórką B29 w części B.Ankieta MF. Proszę sprawdzić poprawność danych lub wyjaśnić różnicę") -> OK. | G17: =IF(F17="OK."," ","WYJAŚNIENIE:")
B18: =+B17+1 -> 8 | C18: umów o partnerstwie publiczno-prywatnym, które mają wpływ na poziom długu publicznego
B19: =+B18+1 -> 9 | C19: umów sprzedaży, w których cena jest płatna w ratach
B20: =+B19+1 -> 10 | C20: umów leasingu zawartych z producentem lub finansującym, w których ryzyko i korzyści z tytułu własności są przeniesione na korzystającego z rzeczy
B21: =+B20+1 -> 11 | C21: umów nienazwanych o terminie zapłaty dłuższym niż rok, związane z finansowaniem usług, dostaw, robót budowlanych, które wywołują skutki ekonomiczne podobne do umowy pożyczki lub kredytu
B22: =+B21+1 -> 12 | C22: inne (opisz jakie w uwagach)
C23: Uwagi:
C25: [*] W razie stwierdzenia konieczności uzupełnienia/poprawnienia kwot wykazanych w sprawozdaniu Rb-Z wg stanu na w/w okres sprawozdawczy prosimy o pilne przesłanie stosownych korekt systemem BeSTi@
C27: B. Ankieta MF
