Workbook
Name GK: JST!$F$11
Name GT: JST!$G$11
Name KodGUS_JST: ustawienia!$A$18
Name PK: JST!$E$11
Name WKOD: JST!$D$11

Sheet INSTRUKCJA 
A1: INSTRUKCJA | B1: ver. 2021-01-25b
A3: JEDNOSTKA SAMORZĄDU TERYTORIALNEGO
A5: W TABELI I Ujmuje się kwoty dotyczące ubytku dochodów, które jednostka utraciła w 2020 r. w wyniku podjętych działań dyskrecjonalnych*) w związku z COVID-19: • w kolumnie „Rozłożenie na raty, odroczenie płatności”– wykazuje się kwoty rat/odroczeń, których płatność pierwotnie przypadała na 2020 r, a została ustalona/przesunięta na kolejne lata i nie została faktycznie wniesiona w 2020 r. (w tej kolumnie nie wykazuje się rat/odroczeń, których płatność, pomimo przesunięcia terminu płatności na rok 2021 lub następne, nastąpiła w 2020 r.) przykład: w pozycji wpływy z tytułu użytkowania wieczystego wykaże się kwotę odroczonych na podstawie art. 15j ust. 1 i 3 opłat, bowiem zgodnie z tym przepisem opłatę za rok 2020 wnosi się w terminie do dnia 31 stycznia 2021 r., pod warunkiem, że kwota nie została wpłacona w 2020 r. • w kolumnie „Umorzenia, niedochodzenie należności” – wykazuje się wszystkie umorzenia należności 2020 r. oraz wszystkie kwoty niedochodzonych należności, których płatność przypadała na 2020 r. • w kolumnie „ Obniżenia stawek opłat i podatków” – wykazuje się skutki finansowe wynikające z obniżeń stawek w podatkach i opłatach wprowadzonych przepisami uchwał/decyzji właściwych organów jst; w pozycji tej wykazuje się kwoty stanowiące różnicę pomiędzy dochodami, jakie jst mogłaby uzyskać, stosując stawki wynikające ze stanu prawnego na dzień 2 marca 2020 r., a dochodami, jakie uzyskała, stosując niższe stawki wprowadzone w ramach działań związanych z przeciwdziałaniem społecznym i ekonomicznym skutkom pandemii – przykład: w związku z COVID-19 postanowiono obniżyć stawkę opłaty ze 100 zł do 80 zł, w kolumnie „Obniżenia(…)” wykażemy utracony dochód tj. 20 zł. • w kolumnie „Zwolnienia” – wykazuje się skutki finansowe wynikające ze zwolnień w podatkach i opłatach wprowadzonych przepisami uchwał/decyzji właściwych organów jst oraz dodatkowo (kolumna 6) - w odniesieniu do wpływów z podatku od nieruchomości - ze zwolnień dokonanych na podstawie art. 15 p ustawy z dnia 2 marca 2020 r. o szczególnych rozwiązaniach związanych z zapobieganiem, przeciwdziałaniem i zwalczaniem COVID-19, innych chorób zakaźnych oraz wywołanych nimi sytuacji kryzysowych. *) przez działania dyskrecjonalne należy rozumieć działania związane z walką ze skutkami COVID-19, w szczególności działania, które wprowadzają zmiany w obecnej polityce budżetowej, publicznie ogłoszone i procedowane, których skutek finansowy wynika bezpośrednio z wdrożenia działań nakierowanych na walkę ze skutkami COVID-19. Dane w Tabeli I powinny być zgodne z danymi z ewidencji księgowej, na podstawie której sporządzane jest sprawozdanie Rb-27S z wykonania planu dochodów budżetowych samorządowej jednostki budżetowej/jednostki samorządu terytorialnego.
A6: W TABELI II Ujmuje się kwoty wydatków budżetowych poniesionych bezpośrednio w związku z COVID-19, według wskazanych źródeł ich sfinansowania. Dane w Tabeli II powinny być zgodne z danymi ze sprawozdania Rb-28S z wykonania planu wydatków budżetowych samorządowej jednostki budżetowej/jednostki samorządu terytorialnego
A7: W TABELI III Ujmuje się kwoty wydatków z rachunku, o którym mowa w art. 223 ust. 1 ustawy o finansach publicznych. Dane w Tabeli III powinny być zgodne z danymi ze sprawozdania Rb-34S z wykonania dochodów i wydatków na rachunku, o którym mowa w art. 223 ust. 1 ustawy o finansach publicznych.
A9: SAMORZĄDOWY ZAKŁAD BUDŻETOWY
A11: W TABELI IV Ujmuje się kwoty dotyczące ubytku przychodów, które zakład utracił w 2020 r. w wyniku podjętych działań w związku z COVID-19: • w kolumnie „Rozłożenie na raty, odroczenie płatności”– wykazuje się kwoty rat/odroczeń, których płatność pierwotnie przypadała na 2020 r., a została ustalona/przesunięta na kolejne lata i nie została faktycznie wniesiona w 2020 r. (w tej kolumnie nie wykazuje się rat/odroczeń, których płatność, pomimo przesunięcia terminu płatności na rok 2021 lub następne, nastąpiła w 2020 r.) • w kolumnie „Umorzenia, niedochodzenie należności” – wykazuje się wszystkie umorzenia należności 2020 r. oraz wszystkie kwoty niedochodzonych należności, których płatność przypadała na 2020 r. • w kolumnie „Zwolnienia, obniżenia stawek opłat” – wykazuje się skutki finansowe wynikające ze zwolnień i/lub obniżeń stawek w opłatach wprowadzonych przepisami uchwał/decyzji właściwych organów jst; w pozycji tej wykazuje się kwoty stanowiące różnicę pomiędzy przychodami, jakie samorządowy zakład budżetowy mógłby uzyskać, stosując stawki wynikające ze stanu prawnego na dzień 2 marca 2020 r., a przychodami, jakie uzyskał, stosując niższe stawki wprowadzone w ramach działań związanych z przeciwdziałaniem społecznym i ekonomicznym skutkom pandemii. Dane w Tabeli IV powinny być zgodne z danymi z ewidencji księgowej, na podstawie której sporządzane jest sprawozdanie Rb-30S z wykonania planów finansowych samorządowych zakładów budżetowych.
A12: W TABELI V Ujmuje się kasowo poniesione w 2020 r. koszty w związku z COVID-19. Koszty poniesione kasowo oznaczają koszty opłacone w 2020 r. i powinny być zgodne z ewidencją księgową. W wierszu koszty bieżące wykazuje się koszty poniesione kasowo, tj. klasyfikowane w innych paragrafach niż wydatki majątkowe. W wierszu koszty inwestycyjne ujmuje się kwoty ujęte (zgodne) w kwocie poniesionych wydatków inwestycyjnych wykazywanych w sprawozdaniu Rb-30S z wykonania planów finansowych samorządowych zakładów budżetowych w części D Dane uzupełniające kod pozycji U symbol 100 – wydatki inwestycyjne.

Sheet JST
B3: Uwaga: Dla ZWIĄZKÓW JST przeznaczona jest odrębna wersja ankiety | K3: Uwaga: wypełniać wyłącznie pola z niebieskim tłem.
B4: Nazwa i adres jednostki: | D4: INFORMACJA O SKUTKACH FINANSOWYCH PONIESIONYCH PRZEZ JST W ZWIĄZKU Z COVID-19 1) 2) | I4: Adresat:
B6: Gmina Strzelce Opolskie Plac Myśliwca 1 47-100 Strzelce Opolskie | I6: =+"Regionalna Izba Obrachunkowa "&IF(OR(D12<>"",ISBLANK(D11)),"",VLOOKUP(D11,ustawienia!A1:C16,3,FALSE)) -> Regionalna Izba Obrachunkowa w Opolu
B9: Nazwa województwa | C9: =IF(D12<>"","nie ma takiego województwa",IF(OR(ISBLANK(D11),ISBLANK(E11),ISBLANK(F11),ISBLANK(G11)),"",VLOOKUP(D11,ustawienia!A1:B16,2,0))) -> opolskie | D9: SYMBOLE
B10: Nazwa powiatu | C10: =IF(OR(E12<>"",AND(E11<>"",ISERROR(VLOOKUP(ustawienia!A19,ustawienia!E1:J2999,6,0)))),"nie ma takiego powiatu",IF(OR(ISBLANK(D11),ISBLANK(E11),ISBLANK(F11),ISBLANK(G11),E11=0),"",VLOOKUP(ustawienia!A19,ustawienia!E1:J2999,6,0))) -> strzelecki | D10: WOJEW. | E10: POWIAT | F10: GMINA | G10: TYP GMINY / ZWIĄZKU | H10: Numer Rejestru MSWiA
B11: Nazwa gminy | C11: =IF(OR(D13<>"",F12<>"",AND(F11<>0,G11=0),AND(F11<>"",G11<>"",ISERROR(VLOOKUP(ustawienia!A18,ustawienia!E1:J2999,6,0)))),"nie ma takiej gminy",IF(OR(ISBLANK(D11),ISBLANK(E11),ISBLANK(F11),ISBLANK(G11),G11=0),"",VLOOKUP(ustawienia!A18,ustawienia!E1:J2999,6,0))) -> Strzelce Opolskie | D11: 16 | E11: 11 | F11: 5 | G11: 3
D12: =IF(ISBLANK(D11),"brak kodu",IF((ISERROR(VLOOKUP(D11,ustawienia!$A$1:$B$16,1,0))),"błędny kod","")) | E12: =IF(ISBLANK(E11),"brak kodu",IF(ISERROR(VLOOKUP(E11,ustawienia!F1:F3000,1,0)),"błędny kod","")) | F12: =IF(ISBLANK(F11),"brak kodu",IF(ISERROR(VLOOKUP(F11,ustawienia!F1:F3000,1,0)),"błędny kod","")) | G12: =IF(ISBLANK(G11),"brak kodu",IF(AND(G11>=0,G11<4),"","błędny typ gminy"))
D13: =IF(OR(F12<>"",G12<>"",H12<>"",I12<>"",AND(I11<>"",ISERROR(VLOOKUP(ustawienia!A18,ustawienia!E1:E2999,1,0)))),"nie ma takiej jednostki samorządu terytorialnego","")
B15: TABELA I. UBYTEK DOCHODÓW W 2020 r. WYNIKAJĄCY Z PRZECIWDZIAŁANIA COVID-19 (w pełnych złotych)
B16: WYSZCZEGÓLNIENIE | D16: WYKONANIE 2020 r.
D17: Rozłożenie na raty, odroczenie terminu płatności | E17: Umorzenia, niedochodzenie należności | F17: Obniżenie stawek opłat i podatków | G17: Zwolnienia
G18: Zwolnienia razem (łącznie z danymi z kolumny 6) | H18: Zwolnienia na podstawie art. 15p ustawy z dnia 2 marca 2020 r. o szczególnych rozwiązaniach związanych z zapobieganiem, przeciwdziałaniem i zwalczaniem COVID-19, innych chorób zakaźnych oraz wywołanych nimi sytuacji kryzysowych
B19: 1 | D19: 2 | E19: 3 | F19: 4 | G19: 5 | H19: 6
B20: Wpływy z podatku od nieruchomości | D20: 0 | E20: 5277 | F20: 0 | G20: 80586 | H20: 80586
B21: Wpływy z podatku rolnego | D21: 0 | E21: 0 | F21: 0 | G21: 0
B22: Wpływy z podatku leśnego | D22: 0 | E22: 0 | F22: 0 | G22: 0
B23: Wpływy z podatku od środków transportowych | D23: 0 | E23: 0 | F23: 0 | G23: 0
B24: Wpływy z tytułu opłat lokalnych | D24: 0 | E24: 0 | F24: 0 | G24: 0
B25: Wpływy z tytułu użytkowania wieczystego | D25: 0 | E25: 0 | F25: 0 | G25: 0
B26: Wpływy z najmu i dzierżawy | D26: 0 | E26: 38294 | F26: 0 | G26: 0
B27: Pozostałe wpływy razem | D27: 0 | E27: 237450 | F27: 0 | G27: 0
B28: OGÓŁEM | D28: =SUM(D20:D27) -> 0 | E28: =+SUM(E20:E27) -> 281021 | F28: =+SUM(F20:F27) -> 0 | G28: =+SUM(G20:G27) -> 80586 | H28: =H20 -> 80586
B30: TABELA II. WYDATKI PONIESIONE W 2020 r. NA PRZECIWDZIAŁANIE COVID-19 (w pełnych złotych)
B31: WYSZCZEGÓLNIENIE | D31: WYKONANIE 2020 r.
D32: Razem, z tego: | E32: finansowane środkami budżetu państwa | F32: finansowane środkami funduszu celowego z wyłączeniem Funduszu pracy | G32: finansowane środkami z Funduszu pracy | H32: finansowane ze środków unijnych i EFTA | I32: finansowane środkami z Funduszu Przeciwdziałania COVID-19 z wyłączeniem Rządowego Funduszu Inwestycji Lokalnych | J32: finansowane środkami z Rządowego Funduszu Inwestycji Lokalnych | K32: wydatki budżetowe finansowane ze źródeł innych niż wymienione w kol. od 3 do 8
B33: 1 | D33: 2 | E33: 3 | F33: 4 | G33: 5 | H33: 6 | I33: 7 | J33: 8 | K33: 9
B34: I. WYDATKI BIEŻĄCE, z tego: | D34: =+SUM(D35:D37) -> 786444 | E34: =+SUM(E35:E37) -> 149362 | F34: =+SUM(F35:F37) -> 0 | G34: =+SUM(G35:G37) -> 0 | H34: =+SUM(H35:H37) -> 183640 | I34: =+SUM(I35:I37) -> 0 | J34: =+SUM(J35:J37) -> 0 | K34: =+SUM(K35:K37) -> 453442
B35: dotacje na zadania bieżące | D35: =+SUM(E35:K35) -> 183640 | E35: 0 | F35: 0 | G35: 0 | H35: 183640 | I35: 0 | J35: 0 | K35: 0
B36: zakup materiałów i usług | D36: =+SUM(E36:K36) -> 474020 | E36: 42854 | F36: 0 | G36: 0 | H36: 0 | I36: 0 | J36: 0 | K36: 431166
B37: pozostałe wydatki bieżące | D37: =+SUM(E37:K37) -> 128784 | E37: 106508 | F37: 0 | G37: 0 | H37: 0 | I37: 0 | J37: 0 | K37: 22276
B38: II. WYDATKI MAJĄTKOWE, w tym: | D38: =+SUM(E38:K38) -> 17761 | E38: 0 | F38: 0 | G38: 0 | H38: 0 | I38: 0 | J38: 0 | K38: 17761
B39: WYDATKI INWESTYCYJNE | D39: =+SUM(E39:K39) -> 17761 | E39: 0 | F39: 0 | G39: 0 | H39: 0 | I39: 0 | J39: 0 | K39: 17761
B40: OGÓŁEM I i II | D40: =D34+D38 -> 804205 | E40: =E34+E38 -> 149362 | F40: =F34+F38 -> 0 | G40: =G34+G38 -> 0 | H40: =H34+H38 -> 183640 | I40: =I34+I38 -> 0 | J40: =J34+J38 -> 0 | K40: =K34+K38 -> 471203
D41: =+IF(D39>D38,"Wydatki inwestycyjne większe od majątkowych","") | E41: =+IF(E39>E38,"Wydatki inwestycyjne większe od majątkowych","") | F41: =+IF(F39>F38,"Wydatki inwestycyjne większe od majątkowych","") | G41: =+IF(G39>G38,"Wydatki inwestycyjne większe od majątkowych","") | H41: =+IF(H39>H38,"Wydatki inwestycyjne większe od majątkowych","") | I41: =+IF(I39>I38,"Wydatki inwestycyjne większe od majątkowych","") | J41: =+IF(J39>J38,"Wydatki inwestycyjne większe od majątkowych","") | K41: =+IF(K39>K38,"Wydatki inwestycyjne większe od majątkowych","")
B42: TABELA III. WYDATKI Z RACHUNKU, O KTÓRYM MOWA W ART. 223 UST. 1 USTAWY O FINANSACH PUBLICZNYCH PONOSZONE W ZWIĄZKU Z COVID-19 (w pełnych złotych)
B43: WYSZCZEGÓLNIENIE | D43: WYKONANIE 2020 r.
B44: 1 | D44: 2
B45: I. WYDATKI BIEŻĄCE | D45: 0
B46: II. WYDATKI MAJĄTKOWE, w tym: | D46: 0
B47: WYDATKI INWESTYCYJNE | D47: 0
...

Sheet SAMORZĄDOWY ZAKŁAD BUDŻETOWY
B1: Uwaga: Wypełniać wyłącznie pola z niebieskim tłem. Informacja o nazwie i adresie jednostki jest pobierana automatycznie z zakładki JST.
B2: Nazwa i adres jednostki: | D2: INFORMACJA O SKUTKACH FINANSOWYCH PONIESIONYCH PRZEZ SAMORZĄDOWY ZAKŁAD BUDŻETOWY W ZWIĄZKU Z COVID-19 1) 2) | H2: Adresat: Regionalna Izba Obrachunkowa ……………………………………
B4: =+IF(ISBLANK(JST!B6),"",JST!B6) -> Gmina Strzelce Opolskie Plac Myśliwca 1 47-100 Strzelce Opolskie | H4: =+JST!I6 -> Regionalna Izba Obrachunkowa w Opolu
B7: Nazwa województwa | C7: =+JST!C9 -> opolskie | D7: SYMBOLE
B8: Nazwa powiatu | C8: =+JST!C10 -> strzelecki | D8: WOJEWÓDZTWO | E8: POWIAT | F8: GMINA | G8: TYP GMINY/ZWIĄZEK
B9: Nazwa gminy | C9: =+JST!C11 -> Strzelce Opolskie | D9: =+IF(ISBLANK(WKOD),"",WKOD) -> 16 | E9: =+IF(ISBLANK(PK),"",PK) -> 11 | F9: =+IF(ISBLANK(GK),"",GK) -> 5 | G9: =+IF(ISBLANK(GT),"",GT) -> 3
B11: TABELA IV. PRZYCHODY UTRACONE W WYNIKU PRZECIWDZIAŁANIA COVID-19 (w pełnych złotych)
B12: WYSZCZEGÓLNIENIE | D12: WYKONANIE 2020 r.
D13: Rozłożenie na raty, odroczenie terminu płatności | E13: Umorzenia, niedochodzenie należności | F13: Zwolnienia, obniżenie stawek opłat
B14: 1 | D14: 2 | E14: 3 | F14: 4
B15: Wpływy z tytułu użytkowania wieczystego | D15: 0 | E15: 0 | F15: 0
B16: Wpływy z najmu i dzierżawy | D16: 0 | E16: 0 | F16: 812
B17: Pozostałe wpływy razem | D17: 0 | E17: 0 | F17: 0
B18: OGÓŁEM | D18: =SUM(D15:D17) -> 0 | E18: =SUM(E15:E17) -> 0 | F18: =SUM(F15:F17) -> 812
B20: TABELA V. KOSZTY PONIESIONE KASOWO W 2020 r. NA PRZECIWDZIAŁANIE COVID-19 (w pełnych złotych)
B21: WYSZCZEGÓLNIENIE | D21: WYKONANIE 2020 r.
B22: 1 | D22: 2
B23: I. KOSZTY BIEŻĄCE (tj. wykazywane w innych paragrafach niż wydatki majątkowe) | D23: 9217
B24: II. KOSZTY INWESTYCYJNE (ujmowane w pozycji U100 sprawozdania Rb-30S) | D24: 0
B25: OGÓŁEM I i II | D25: =D23+D24 -> 9217
B27: UWAGI (wypełniać tylko gdy istnieje taka potrzeba)
B30: 1) informację wypełniają jednostki samorządu terytorialnego na podstawie danych otrzymanych z zakładów budżetowych. Regionalne Izby Obrachunkowe sporządzają zbiorczo informację dla nadzorowanych jednostek samorządu terytorialnego i związków
B31: 2) w szczególności w związku z przepisami ustawy z dnia 2 marca 2020 r. o szczególnych rozwiązaniach związanych z zapobieganiem, przeciwdziałaniem i zwalczaniem COVID-19, innych chorób zakaźnych oraz wywołanych nimi sytuacji kryzysowych (Dz. U. poz. 374, z późn. zm.)
C34: Piotr Szuba | H34: Tadeusz Goc
C35: GŁÓWNY KSIĘGOWY/SKARBNIK Imię i nazwisko | H35: BURMISTRZ /WÓJT/ PREZYDENT MIASTA/ CZŁONEK ZARZĄDU JST Imię i nazwisko
B36: Imię i nazwisko sporządzającego | C36: Piotr Szuba
B37: Data sporządzenia: | C37: 17 lutego 2021 r.
B38: nr telefonu: | C38: 77 404 93 30

Sheet ustawienia
A1: 2 | B1: dolnośląskie | C1: we Wrocławiu | E1: =+TEXT(K1,"00")&TEXT(F1,"00")&TEXT(G1,"00")&TEXT(H1,"0") -> 0200000 | F1: 0 | G1: 0 | H1: 0 | I1: Województwo | J1: dolnośląskie | K1: 2
A2: 4 | B2: kujawsko-pomorskie | C2: w Bydgoszczy | E2: =+TEXT(K2,"00")&TEXT(F2,"00")&TEXT(G2,"00")&TEXT(H2,"0") -> 0201000 | F2: 1 | G2: 0 | H2: 0 | I2: Powiat | J2: bolesławiecki | K2: 2
A3: 6 | B3: lubelskie | C3: w Lublinie | E3: =+TEXT(K3,"00")&TEXT(F3,"00")&TEXT(G3,"00")&TEXT(H3,"0") -> 0201011 | F3: 1 | G3: 1 | H3: 1 | I3: Gmina | J3: Bolesławiec | K3: 2
A4: 8 | B4: lubuskie | C4: w Zielonej Górze | E4: =+TEXT(K4,"00")&TEXT(F4,"00")&TEXT(G4,"00")&TEXT(H4,"0") -> 0201022 | F4: 1 | G4: 2 | H4: 2 | I4: Gmina | J4: Bolesławiec | K4: 2
A5: 10 | B5: łódzkie | C5: w Łodzi | E5: =+TEXT(K5,"00")&TEXT(F5,"00")&TEXT(G5,"00")&TEXT(H5,"0") -> 0201032 | F5: 1 | G5: 3 | H5: 2 | I5: Gmina | J5: Gromadka | K5: 2
A6: 12 | B6: małopolskie | C6: w Krakowie | E6: =+TEXT(K6,"00")&TEXT(F6,"00")&TEXT(G6,"00")&TEXT(H6,"0") -> 0201043 | F6: 1 | G6: 4 | H6: 3 | I6: Gmina | J6: Nowogrodziec | K6: 2
A7: 14 | B7: mazowieckie | C7: w Warszawie | E7: =+TEXT(K7,"00")&TEXT(F7,"00")&TEXT(G7,"00")&TEXT(H7,"0") -> 0201052 | F7: 1 | G7: 5 | H7: 2 | I7: Gmina | J7: Osiecznica | K7: 2
A8: 16 | B8: opolskie | C8: w Opolu | E8: =+TEXT(K8,"00")&TEXT(F8,"00")&TEXT(G8,"00")&TEXT(H8,"0") -> 0201062 | F8: 1 | G8: 6 | H8: 2 | I8: Gmina | J8: Warta Bolesławiecka | K8: 2
A9: 18 | B9: podkarpackie | C9: w Rzeszowie | E9: =+TEXT(K9,"00")&TEXT(F9,"00")&TEXT(G9,"00")&TEXT(H9,"0") -> 0202000 | F9: 2 | G9: 0 | H9: 0 | I9: Powiat | J9: dzierżoniowski | K9: 2
A10: 20 | B10: podlaskie | C10: w Białymstoku | E10: =+TEXT(K10,"00")&TEXT(F10,"00")&TEXT(G10,"00")&TEXT(H10,"0") -> 0202011 | F10: 2 | G10: 1 | H10: 1 | I10: Gmina | J10: Bielawa | K10: 2
A11: 22 | B11: pomorskie | C11: w Gdańsku | E11: =+TEXT(K11,"00")&TEXT(F11,"00")&TEXT(G11,"00")&TEXT(H11,"0") -> 0202021 | F11: 2 | G11: 2 | H11: 1 | I11: Gmina | J11: Dzierżoniów | K11: 2
A12: 24 | B12: śląskie | C12: w Katowicach | E12: =+TEXT(K12,"00")&TEXT(F12,"00")&TEXT(G12,"00")&TEXT(H12,"0") -> 0202031 | F12: 2 | G12: 3 | H12: 1 | I12: Gmina | J12: Pieszyce | K12: 2
... A16: 32 | B16: zachodniopomorskie | C16: w Szczecinie | E16: =+TEXT(K16,"00")&TEXT(F16,"00")&TEXT(G16,"00")&TEXT(H16,"0") -> 0202073 | F16: 2 | G16: 7 | H16: 3 | I16: Gmina | J16: Niemcza | K16: 2
E17: =+TEXT(K17,"00")&TEXT(F17,"00")&TEXT(G17,"00")&TEXT(H17,"0") -> 0203000 | F17: 3 | G17: 0 | H17: 0 | I17: Powiat | J17: głogowski | K17: 2
A18: =+TEXT(WKOD,"00")&TEXT(PK,"00")&TEXT(GK,"00")&TEXT(GT,"0") -> 1611053 | E18: =+TEXT(K18,"00")&TEXT(F18,"00")&TEXT(G18,"00")&TEXT(H18,"0") -> 0203011 | F18: 3 | G18: 1 | H18: 1 | I18: Gmina | J18: Głogów | K18: 2
A19: =+TEXT(WKOD,"00")&TEXT(PK,"00")&"000" -> 1611000 | E19: =+TEXT(K19,"00")&TEXT(F19,"00")&TEXT(G19,"00")&TEXT(H19,"0") -> 0203022 | F19: 3 | G19: 2 | H19: 2 | I19: Gmina | J19: Głogów | K19: 2
E20: =+TEXT(K20,"00")&TEXT(F20,"00")&TEXT(G20,"00")&TEXT(H20,"0") -> 0203032 | F20: 3 | G20: 3 | H20: 2 | I20: Gmina | J20: Jerzmanowa | K20: 2
E21: =+TEXT(K21,"00")&TEXT(F21,"00")&TEXT(G21,"00")&TEXT(H21,"0") -> 0203042 | F21: 3 | G21: 4 | H21: 2 | I21: Gmina | J21: Kotla | K21: 2
E22: =+TEXT(K22,"00")&TEXT(F22,"00")&TEXT(G22,"00")&TEXT(H22,"0") -> 0203052 | F22: 3 | G22: 5 | H22: 2 | I22: Gmina | J22: Pęcław | K22: 2
E23: =+TEXT(K23,"00")&TEXT(F23,"00")&TEXT(G23,"00")&TEXT(H23,"0") -> 0203062 | F23: 3 | G23: 6 | H23: 2 | I23: Gmina | J23: Żukowice | K23: 2
E24: =+TEXT(K24,"00")&TEXT(F24,"00")&TEXT(G24,"00")&TEXT(H24,"0") -> 0204000 | F24: 4 | G24: 0 | H24: 0 | I24: Powiat | J24: górowski | K24: 2
B25: NIE SKŁADAM tego formularza | E25: =+TEXT(K25,"00")&TEXT(F25,"00")&TEXT(G25,"00")&TEXT(H25,"0") -> 0204013 | F25: 4 | G25: 1 | H25: 3 | I25: Gmina | J25: Góra | K25: 2
B26: SKŁADAM ten formularz | E26: =+TEXT(K26,"00")&TEXT(F26,"00")&TEXT(G26,"00")&TEXT(H26,"0") -> 0204022 | F26: 4 | G26: 2 | H26: 2 | I26: Gmina | J26: Jemielno | K26: 2
E27: =+TEXT(K27,"00")&TEXT(F27,"00")&TEXT(G27,"00")&TEXT(H27,"0") -> 0204032 | F27: 4 | G27: 3 | H27: 2 | I27: Gmina | J27: Niechlów | K27: 2
E28: =+TEXT(K28,"00")&TEXT(F28,"00")&TEXT(G28,"00")&TEXT(H28,"0") -> 0204043 | F28: 4 | G28: 4 | H28: 3 | I28: Gmina | J28: Wąsosz | K28: 2
E29: =+TEXT(K29,"00")&TEXT(F29,"00")&TEXT(G29,"00")&TEXT(H29,"0") -> 0205000 | F29: 5 | G29: 0 | H29: 0 | I29: Powiat | J29: jaworski | K29: 2
E30: =+TEXT(K30,"00")&TEXT(F30,"00")&TEXT(G30,"00")&TEXT(H30,"0") -> 0205011 | F30: 5 | G30: 1 | H30: 1 | I30: Gmina | J30: Jawor | K30: 2
E31: =+TEXT(K31,"00")&TEXT(F31,"00")&TEXT(G31,"00")&TEXT(H31,"0") -> 0205023 | F31: 5 | G31: 2 | H31: 3 | I31: Gmina | J31: Bolków | K31: 2
E32: =+TEXT(K32,"00")&TEXT(F32,"00")&TEXT(G32,"00")&TEXT(H32,"0") -> 0205032 | F32: 5 | G32: 3 | H32: 2 | I32: Gmina | J32: Męcinka | K32: 2
E33: =+TEXT(K33,"00")&TEXT(F33,"00")&TEXT(G33,"00")&TEXT(H33,"0") -> 0205042 | F33: 5 | G33: 4 | H33: 2 | I33: Gmina | J33: Mściwojów | K33: 2
E34: =+TEXT(K34,"00")&TEXT(F34,"00")&TEXT(G34,"00")&TEXT(H34,"0") -> 0205052 | F34: 5 | G34: 5 | H34: 2 | I34: Gmina | J34: Paszowice | K34: 2
E35: =+TEXT(K35,"00")&TEXT(F35,"00")&TEXT(G35,"00")&TEXT(H35,"0") -> 0205062 | F35: 5 | G35: 6 | H35: 2 | I35: Gmina | J35: Wądroże Wielkie | K35: 2
E36: =+TEXT(K36,"00")&TEXT(F36,"00")&TEXT(G36,"00")&TEXT(H36,"0") -> 0206000 | F36: 6 | G36: 0 | H36: 0 | I36: Powiat | J36: jeleniogórski | K36: 2
E37: =+TEXT(K37,"00")&TEXT(F37,"00")&TEXT(G37,"00")&TEXT(H37,"0") -> 0206011 | F37: 6 | G37: 1 | H37: 1 | I37: Gmina | J37: Karpacz | K37: 2
E38: =+TEXT(K38,"00")&TEXT(F38,"00")&TEXT(G38,"00")&TEXT(H38,"0") -> 0206021 | F38: 6 | G38: 2 | H38: 1 | I38: Gmina | J38: Kowary | K38: 2
... E2846: =+TEXT(K2846,"00")&TEXT(F2846,"00")&TEXT(G2846,"00")&TEXT(H2846,"0") -> 2609033 | F2846: 9 | G2846: 3 | H2846: 3 | I2846: Gmina | J2846: Klimontów | K2846: 26
