Workbook

Sheet START
B3: Gmina Strzelce Opolskie
B4: Plac Myśliwca 1
B5: 47-100 Strzelce Opolskie
B7: Budżet 2023 :: rejestr zmian
B9: Uchwała Nr LXI/491/2022 Rady Miejskiej w Strzelcach Opolskich z dnia 21 grudnia 2022 r.
B10: w sprawie uchwały budżetowej gminy Strzelce Opolskie na 2023 rok z późn. zm.
B13: Opracowanie: | D13: Piotr Szuba
D14: p.szuba@strzelceopolskie.eu
D15: Skarbnik Gminy
D17: Tel. +48 77 404 93 30 | Fax +48 77 461 44 22 | Tel. kom. +48 605 724 654
D19: FACEBOOK: https://www.facebook.com/szuba76 | TWITTER: https://twitter.com/piotr_szuba
D20: INSTAGRAM: https://www.instagram.com/szuba76
D22: #b23 #budzetso2023 #gminastrzelceopolskie #szuba76

Sheet Budżet 2023 - Dochody
A1: ZMIANY W DOCHODACH BUDŻETU GMINY STRZELCE OPOLSKIE W 2023 ROKU
A2: Dokument | B2: Data | C2: Kwota ogółem | D2: w tym:
D3: ZADANIA WŁASNE | E3: ZADANIA ZLECONE | F3: ZADANIA POWIERZONE
A4: 1 | B4: 2 | C4: 3 | D4: 4 | E4: 5 | F4: 6
A5: OGÓŁEM PO ZMIANACH | B5: x | C5: =SUM(C6:C100) -> 173100000 | D5: =SUM(D6:D100) -> 162395174 | E5: =SUM(E6:E100) -> 10665226 | F5: =SUM(F6:F100) -> 39600
A6: Uchwała RM LXI/491/2022 | B6: 44916 | C6: =SUM(D6:F6) -> 173100000 | D6: 162395174 | E6: 10665226 | F6: 39600
A7: Zarządzenie Nr ?/2023 | B7: XX.01.2023 | C7: =SUM(D7:F7) -> 0 | D7: 0 | E7: 0 | F7: 0
A8: Zarządzenie Nr ?/2023 | B8: XX.01.2023 | C8: =SUM(D8:F8) -> 0 | D8: 0 | E8: 0 | F8: 0

Sheet Budżet 2023 - Wydatki
A1: ZMIANY W WYDATKACH BUDŻETU GMINY STRZELCE OPOLSKIE W 2023 ROKU
A2: Dokument | B2: Data | C2: Kwota ogółem | D2: w tym:
D3: ZADANIA WŁASNE | E3: ZADANIA ZLECONE | F3: ZADANIA POWIERZONE
A4: 1 | B4: 2 | C4: 3 | D4: 4 | E4: 5 | F4: 6
A5: OGÓŁEM PO ZMIANACH | B5: x | C5: =SUM(C6:C100) -> 184475000 | D5: =SUM(D6:D100) -> 173675774 | E5: =SUM(E6:E100) -> 10665226 | F5: =SUM(F6:F100) -> 134000
A6: Uchwała RM LXI/491/2022 | B6: 44916 | C6: =SUM(D6:F6) -> 184475000 | D6: 173675774 | E6: 10665226 | F6: 134000
A7: Zarządzenie Nr 3/2023 | B7: 44929 | C7: =SUM(D7:F7) -> 0 | D7: 0 | E7: 0 | F7: 0
A8: Zarządzenie Nr ?/2023 | B8: XX.01.2023 | C8: =SUM(D8:F8) -> 0 | D8: 0 | E8: 0 | F8: 0

Sheet Budżet 2023 - po zmianach
CK1: w złotych
A2: Wyszczególnienie | B2: Budżet na 2023 rok wg URMSO Nr LXI/491/2022 z dnia 21.12.2022 r. | C2: Zarządzenie Nr 3/2023 BSO z dnia 3.01.2023 r. [ZmNr01] [W] WYS:202301?? UPO:202301?? | D2: -- | E2: -- | F2: -- | G2: -- | H2: -- | I2: -- | J2: -- | K2: -- | L2: -- | M2: -- | N2: -- | O2: -- | P2: -- | Q2: -- | R2: -- | S2: -- | T2: -- | U2: -- | V2: -- | W2: -- | X2: -- | Y2: -- | Z2: -- | AA2: -- | AB2: -- | AC2: -- | AD2: -- | AE2: -- | AF2: -- | AG2: -- | AH2: -- | AI2: -- | AJ2: -- | AK2: -- | AL2: -- | AM2: -- | AN2: -- | AO2: -- | AP2: -- | AQ2: -- | AR2: -- | AS2: -- | AT2: -- | AU2: -- | AV2: -- | AW2: -- | AX2: -- | AY2: -- | AZ2: -- | BA2: -- | BB2: -- | BC2: -- | BD2: -- | BE2: -- | BF2: -- | BG2: -- | BH2: -- | BI2: -- | BJ2: -- | BK2: -- | BL2: -- | BM2: -- | BN2: -- | BO2: -- | BP2: -- | BQ2: -- | BR2: -- | BS2: -- | BT2: -- | BU2: -- | BV2: -- | BW2: -- | BX2: -- | BY2: -- | BZ2: -- | CA2: -- | CB2: -- | CC2: -- | CD2: -- | CE2: -- | CF2: -- | CG2: -- | CH2: -- | CI2: -- | CJ2: -- | CK2: Budżet na 2023 r. stan na dzień 3.01.2023 r.
A3: DOCHODY | B3: =SUM(B5:B6) -> 173100000 | C3: =SUM(C5:C6) -> 0 | CK3: =SUM(CK5:CK6) -> 173100000
A4: z tego:
A5: - dochody bieżące | B5: 133645000 | C5: 0 | CK5: =SUM(B5:CJ5) -> 133645000
A6: - dochody majątkowe | B6: 39455000 | C6: 0 | CK6: =SUM(B6:CJ6) -> 39455000
A7: PRZYCHODY | B7: 14342000 | C7: 0 | CK7: =SUM(B7:CJ7) -> 14342000
A8: RAZEM | B8: =SUM(B3,B7) -> 187442000 | C8: =SUM(C3,C7) -> 0 | CK8: =SUM(CK3,CK7) -> 187442000
A9: WYDATKI | B9: =SUM(B11:B12) -> 184475000 | C9: =SUM(C11:C12) -> 0 | CK9: =SUM(CK11:CK12) -> 184475000
A10: z tego:
A11: - wydatki bieżące | B11: 141165000 | C11: 0 | CK11: =SUM(B11:CJ11) -> 141165000
A12: - wydatki majątkowe | B12: 43310000 | C12: 0 | CK12: =SUM(B12:CJ12) -> 43310000
A13: ROZCHODY | B13: 2967000 | C13: 0 | CK13: =SUM(B13:CJ13) -> 2967000
A14: RAZEM | B14: =SUM(B9,B13) -> 187442000 | C14: =SUM(C9,C13) -> 0 | CK14: =SUM(CK9,CK13) -> 187442000
A15: DEFICYT | B15: =+B3-B9 -> -11375000 | C15: =+C3-C9 -> 0 | CK15: =+CK3-CK9 -> -11375000
A16: REZERWY
A17: rezerwa ogólna | B17: =SUM(B19:B20) -> 1050000 | C17: =SUM(C19:C20) -> 0 | CK17: =SUM(CK19:CK20) -> 1050000
A18: z tego:
A19: - na wydatki bieżące [ROB - 758.75818.4810] | B19: 630000 | C19: 0 | CK19: =SUM(B19:CJ19) -> 630000
A20: - na wydatki i zakupy inwestycyjne [ROM - 758.75818.6800] | B20: 420000 | C20: 0 | CK20: =SUM(B20:CJ20) -> 420000
A21: rezerwy celowe | B21: =SUM(B23:B23) -> 400000 | C21: =SUM(C23:C23) -> 0 | CK21: =SUM(CK23:CK23) -> 400000
A22: z tego:
A23: - na realizację zadań z zakresu zarządzania kryzysowego [RCB - 758.75818.4810] | B23: 400000 | C23: 0 | CK23: =SUM(B23:CJ23) -> 400000
A26: BSO - Burmistrz Strzelec Opolskich
A27: ROB - rezerwa ogólna bieżąca
A28: ROM - rezerwa ogólna majątkowa
A29: RCB - rezerwa celowa bieżąca
A30: RCM - rezerwa celowa majątkowa

Sheet CHECKLIST
A3: Kwota ogółem (D) - Tab. Nr 1 | B3: =ROUND('Budżet 2023 - Dochody'!$C$5,2) -> 173100000
A4: Kwota ogółem (D) - Tab. Nr 3 | B4: =ROUND('Budżet 2023 - po zmianach'!$CK$3,2) -> 173100000
A5: Warunek spełniony? | B5: =IF((B3-B4)=0,"OK","Błąd!") -> OK
A7: Kwota ogółem (W) - Tab. Nr 2 | B7: ='Budżet 2023 - Wydatki'!$C$5 -> 184475000
A8: Kwota ogółem (W) - Tab. Nr 3 | B8: ='Budżet 2023 - po zmianach'!$CK$9 -> 184475000
A9: Warunek spełniony? | B9: =IF((B7-B8)=0,"OK","Błąd!") -> OK
A11: Kwota ogółem (D) [ZZ] - Tab. Nr 1 | B11: ='Budżet 2023 - Dochody'!$E$5 -> 10665226
A12: Kwota ogółem (W) [ZZ] - Tab. Nr 2 | B12: ='Budżet 2023 - Wydatki'!$E$5 -> 10665226
A13: Warunek spełniony? | B13: =IF((B11-B12)=0,"OK","Błąd!") -> OK
