Workbook

Sheet START
B3: Gmina Strzelce Opolskie
B4: Plac Myśliwca 1
B5: 47-100 Strzelce Opolskie
B7: Budżet 2023 :: rejestr zmian
B9: Uchwała Nr LXI/491/2022 Rady Miejskiej w Strzelcach Opolskich z dnia 21 grudnia 2022 r.
B10: w sprawie uchwały budżetowej gminy Strzelce Opolskie na 2023 rok z późn. zm.
B13: Opracowanie: | D13: Piotr Szuba
D14: p.szuba@strzelceopolskie.eu
D15: Skarbnik Gminy
D17: Tel. +48 77 404 93 30 | Fax +48 77 461 44 22 | Tel. kom. +48 605 724 654
D19: FACEBOOK: https://www.facebook.com/szuba76 | LINKEDIN: https://www.linkedin.com/in/szuba76
D20: TWITTER: https://twitter.com/piotr_szuba | INSTAGRAM: https://www.instagram.com/szuba76
D22: #b23 #budzetso2023 #gminastrzelceopolskie #szuba76

Sheet Budżet 2023 - Dochody
A1: ZMIANY W DOCHODACH BUDŻETU GMINY STRZELCE OPOLSKIE W 2023 ROKU
A2: Dokument | B2: Data | C2: Kwota ogółem | D2: w tym:
D3: ZADANIA WŁASNE | E3: ZADANIA ZLECONE | F3: ZADANIA POWIERZONE
A4: 1 | B4: 2 | C4: 3 | D4: 4 | E4: 5 | F4: 6
A5: OGÓŁEM PO ZMIANACH | B5: x | C5: =SUM(C6:C100) -> 1.8065369e+08 | D5: =SUM(D6:D100) -> 1.6851425e+08 | E5: =SUM(E6:E100) -> 12099836 | F5: =SUM(F6:F100) -> 39600
A6: Uchwała RM LXI/491/2022 | B6: 44916 | C6: =SUM(D6:F6) -> 173100000 | D6: 162395174 | E6: 10665226 | F6: 39600
A7: Zarządzenie Nr 23/2023 | B7: 44943 | C7: =SUM(D7:F7) -> 20009.4 | D7: 20009.4 | E7: 0 | F7: 0
A8: Zarządzenie Nr 29/2023 | B8: 44949 | C8: =SUM(D8:F8) -> 43768 | D8: 43768 | E8: 0 | F8: 0
A9: Zarządzenie Nr 30/2023 | B9: 44952 | C9: =SUM(D9:F9) -> 2296680 | D9: 2296680 | E9: 0 | F9: 0
A10: Zarządzenie Nr 31/2023 | B10: 44952 | C10: =SUM(D10:F10) -> 231568 | D10: 183000 | E10: 48568 | F10: 0
A11: Zarządzenie Nr 33/2023 | B11: 44953 | C11: =SUM(D11:F11) -> 47592 | D11: 47592 | E11: 0 | F11: 0
A12: Zarządzenie Nr 45/2023 | B12: 44964 | C12: =SUM(D12:F12) -> 13260.36 | D12: 13260.36 | E12: 0 | F12: 0
A13: Zarządzenie Nr 49/2023 | B13: 44972 | C13: =SUM(D13:F13) -> 213639 | D13: 213639 | E13: 0 | F13: 0
A14: Zarządzenie Nr 50/2023 | B14: 44978 | C14: =SUM(D14:F14) -> 31168 | D14: 31168 | E14: 0 | F14: 0
A15: Zarządzenie Nr 51/2023 | B15: 44980 | C15: =SUM(D15:F15) -> 696657.81 | D15: 696657.81 | E15: 0 | F15: 0
A16: Zarządzenie Nr 52/2023 | B16: 44980 | C16: =SUM(D16:F16) -> 12424 | D16: 0 | E16: 12424 | F16: 0
A17: Zarządzenie Nr 58/2023 | B17: 44985 | C17: =SUM(D17:F17) -> 218206 | D17: 218206 | E17: 0 | F17: 0
... A62: Zarządzenie Nr 250/2023 | B62: 45198 | C62: =SUM(D62:F62) -> -15192 | D62: 33763 | E62: -48955 | F62: 0

Sheet Budżet 2023 - Wydatki
A1: ZMIANY W WYDATKACH BUDŻETU GMINY STRZELCE OPOLSKIE W 2023 ROKU
A2: Dokument | B2: Data | C2: Kwota ogółem | D2: w tym:
D3: ZADANIA WŁASNE | E3: ZADANIA ZLECONE | F3: ZADANIA POWIERZONE
A4: 1 | B4: 2 | C4: 3 | D4: 4 | E4: 5 | F4: 6
A5: OGÓŁEM PO ZMIANACH | B5: x | C5: =SUM(C6:C100) -> 1.9282017e+08 | D5: =SUM(D6:D100) -> 1.8055634e+08 | E5: =SUM(E6:E100) -> 12099836 | F5: =SUM(F6:F100) -> 164000
A6: Uchwała RM LXI/491/2022 | B6: 44916 | C6: =SUM(D6:F6) -> 184475000 | D6: 173675774 | E6: 10665226 | F6: 134000
A7: Zarządzenie Nr 3/2023 | B7: 44929 | C7: =SUM(D7:F7) -> 0 | D7: 0 | E7: 0 | F7: 0
A8: Zarządzenie Nr 20/2023 | B8: 44936 | C8: =SUM(D8:F8) -> 0 | D8: 0 | E8: 0 | F8: 0
A9: Zarządzenie Nr 23/2023 | B9: 44943 | C9: =SUM(D9:F9) -> 20009.4 | D9: 20009.4 | E9: 0 | F9: 0
A10: Zarządzenie Nr 28/2023 | B10: 44949 | C10: =SUM(D10:F10) -> 0 | D10: 0 | E10: 0 | F10: 0
A11: Zarządzenie Nr 29/2023 | B11: 44949 | C11: =SUM(D11:F11) -> 43768 | D11: 43768 | E11: 0 | F11: 0
A12: Zarządzenie Nr 30/2023 | B12: 44952 | C12: =SUM(D12:F12) -> 2639780 | D12: 2639780 | E12: 0 | F12: 0
A13: Zarządzenie Nr 31/2023 | B13: 44952 | C13: =SUM(D13:F13) -> 231568 | D13: 183000 | E13: 48568 | F13: 0
A14: Zarządzenie Nr 33/2023 | B14: 44953 | C14: =SUM(D14:F14) -> 47592 | D14: 47592 | E14: 0 | F14: 0
A15: Zarządzenie Nr 44/2023 | B15: 44957 | C15: =SUM(D15:F15) -> 0 | D15: 0 | E15: 0 | F15: 0
A16: Zarządzenie Nr 45/2023 | B16: 44964 | C16: =SUM(D16:F16) -> 13260.36 | D16: 13260.36 | E16: 0 | F16: 0
A17: Zarządzenie Nr 46/2023 | B17: 44967 | C17: =SUM(D17:F17) -> 0 | D17: 0 | E17: 0 | F17: 0
... A85: Zarządzenie Nr 250/2023 | B85: 45198 | C85: =SUM(D85:F85) -> -15192 | D85: 33763 | E85: -48955 | F85: 0

Sheet Budżet 2023 - po zmianach
CK1: w złotych
A2: Wyszczególnienie | B2: Budżet na 2023 rok wg URMSO Nr LXI/491/2022 z dnia 21.12.2022 r. | C2: Zarządzenie Nr 3/2023 BSO z dnia 3.01.2023 r. [ZmNr01] [W] WYS:20230109 UPO:20230109 | D2: Zarządzenie Nr 20/2023 BSO z dnia 10.01.2023 r. [ZmNr02] [W] WYS:20230117 UPO:20230117 | E2: Zarządzenie Nr 23/2023 BSO z dnia 17.01.2023 r. [ZmNr03] [B] WYS:20230130 UPO:20230130 | F2: Zarządzenie Nr 28/2023 BSO z dnia 23.01.2023 r. [ZmNr04] [W] WYS:20230206 UPO:20230206 | G2: Zarządzenie Nr 29/2023 BSO z dnia 23.01.2023 r. [ZmNr05] [B] WYS:20230207 UPO:20230207 | H2: URMSO Nr LXIII/505/2023 z dnia 25.01.2023 r. [ZmNr06] | I2: Zarządzenie Nr 31/2023 BSO z dnia 26.01.2023 r. [ZmNr07] [D] WYS:20230213 UPO:20230213 | J2: Zarządzenie Nr 33/2023 BSO z dnia 27.01.2023 r. [ZmNr08] [B] WYS:20230215 UPO:20230215 | K2: Zarządzenie Nr 44/2023 BSO z dnia 31.01.2023 r. [ZmNr09] [W] WYS:20230223 UPO:20230223 | L2: Zarządzenie Nr 45/2023 BSO z dnia 7.02.2023 r. [ZmNr10] [B] WYS:20230228 UPO:20230228 | M2: Zarządzenie Nr 46/2023 BSO z dnia 10.02.2023 r. [ZmNr11] [W] WYS:20230301 UPO:20230301 | N2: Zarządzenie Nr 49/2023 BSO z dnia 15.02.2023 r. [ZmNr12] [B] WYS:20230303 UPO:20230303 | O2: Zarządzenie Nr 50/2023 BSO z dnia 21.02.2023 r. [ZmNr13] [B] WYS:20230309 UPO:20230309 | P2: URMSO Nr LXIV/514/2023 z dnia 22.02.2023 r. [ZmNr14] | Q2: Zarządzenie Nr 52/2023 BSO z dnia 23.02.2023 r. [ZmNr15] [D] WYS:20230312 UPO:20230312 | R2: Zarządzenie Nr 55/2023 BSO z dnia 24.02.2023 r. [ZmNr16] [W] WYS:20230316 UPO:20230316 | S2: Zarządzenie Nr 58/2023 BSO z dnia 28.02.2023 r. [ZmNr17] [B] WYS:20230320 UPO:20230320 | T2: Zarządzenie Nr 59/2023 BSO z dnia 28.02.2023 r. [ZmNr18] [W] WYS:20230510 UPO:20230510 | U2: Zarządzenie Nr 66/2023 BSO z dnia 13.03.2023 r. [ZmNr19] [W] WYS:20230511 UPO:20230511 | V2: Zarządzenie Nr 67/2023 BSO z dnia 15.03.2023 r. [ZmNr20] [B] WYS:20230515 UPO:20230515 | W2: Zarządzenie Nr 77/2023 BSO z dnia 29.03.2023 r. [ZmNr21] [B] WYS:20230523 UPO:20230523 | X2: URMSO Nr LXV/518/2023 z dnia 29.03.2023 r. [ZmNr22] | Y2: Zarządzenie Nr 79/2023 BSO z dnia 30.03.2023 r. [ZmNr23] [D] WYS:20230602 UPO:20230602 | Z2: Zarządzenie Nr 80/2023 BSO z dnia 30.03.2023 r. [ZmNr24] [W] WYS:20230605 UPO:20230605 | AA2: Zarządzenie Nr 91/2023 BSO z dnia 31.03.2023 r. [ZmNr25] [B] WYS:20230607 UPO:20230607 | AB2: Zarządzenie Nr 101/2023 BSO z dnia 18.04.2023 r. [ZmNr26] [B] WYS:20230703 UPO:20230703 | AC2: URMSO Nr LXVI/529/2023 z dnia 26.04.2023 r. [ZmNr27] | AD2: Zarządzenie Nr 104/2023 BSO z dnia 27.04.2023 r. [ZmNr28] [B] WYS:20230704 UPO:20230704 | AE2: Zarządzenie Nr 105/2023 BSO z dnia 27.04.2023 r. [ZmNr29] [W] WYS:20230706 UPO:20230706 | AF2: Zarządzenie Nr 106/2023 BSO z dnia 27.04.2023 r. [ZmNr30] [D] WYS:20230801 UPO:20230801 | AG2: Zarządzenie Nr 115/2023 BSO z dnia 5.05.2023 r. [ZmNr31] [B] WYS:20230802 UPO:20230802 | AH2: URMSO Nr LXVII/533/2023 z dnia 5.05.2023 r. [ZmNr32] | AI2: Zarządzenie Nr 118/2023 BSO z dnia 11.05.2023 r. [ZmNr33] [W] WYS:20230802 UPO:20230802 | AJ2: Zarządzenie Nr 129/2023 BSO z dnia 15.05.2023 r. [ZmNr34] [B] WYS:20230804 UPO:20230804 | AK2: Zarządzenie Nr 130/2023 BSO z dnia 23.05.2023 r. [ZmNr35] [B] WYS:20230807 UPO:20230807 | AL2: Zarządzenie Nr 131/2023 BSO z dnia 24.05.2023 r. [ZmNr36] [D] WYS:20230814 UPO:20230814 | AM2: Zarządzenie Nr 132/2023 BSO z dnia 24.05.2023 r. [ZmNr37] [W] WYS:20230814 UPO:20230814 | AN2: Zarządzenie Nr 133/2023 BSO z dnia 25.05.2023 r. [ZmNr38] [W] WYS:20230816 UPO:20230816 | AO2: Zarządzenie Nr 135/2023 BSO z dnia 29.05.2023 r. [ZmNr39] [B] WYS:20230817 UPO:20230817 | AP2: Zarządzenie Nr 137/2023 BSO z dnia 31.05.2023 r. [ZmNr40] [D] WYS:20230818 UPO:20230818 | AQ2: URMSO Nr LXVIII/537/2023 z dnia 31.05.2023 r. [ZmNr41] | AR2: Zarządzenie Nr 141/2023 BSO z dnia 5.06.2023 r. [ZmNr42] [B] WYS:20230821 UPO:20230821 | AS2: Zarządzenie Nr 144/2023 BSO z dnia 12.06.2023 r. [ZmNr43] [B] WYS:20230821 UPO:20230821 | AT2: Zarządzenie Nr 145/2023 BSO z dnia 12.06.2023 r. [ZmNr44] [W] WYS:20230822 UPO:20230822 | AU2: Zarządzenie Nr 160/2023 BSO z dnia 20.06.2023 r. [ZmNr45] [D] WYS:20230823 UPO:20230823 | AV2: Zarządzenie Nr 161/2023 BSO z dnia 20.06.2023 r. [ZmNr46] [B] WYS:20230824 UPO:20230824 | AW2: Zarządzenie Nr 162/2023 BSO z dnia 27.06.2023 r. [ZmNr47] [B] WYS:20230825 UPO:20230825 | AX2: Zarządzenie Nr 163/2023 BSO z dnia 27.06.2023 r. [ZmNr48] [W] WYS:20230828 UPO:20230828 | AY2: URMSO Nr LXX/558/2023 z dnia 28.06.2023 r. [ZmNr49] | AZ2: Zarządzenie Nr 166/2023 BSO z dnia 30.06.2023 r. [ZmNr50] [B] WYS:20230829 UPO:20230829 | BA2: Zarządzenie Nr 186/2023 BSO z dnia 7.07.2023 r. [ZmNr51] [D] WYS:20230831 UPO:20230831 | BB2: Zarządzenie Nr 187/2023 BSO z dnia 7.07.2023 r. [ZmNr52] [W] WYS:20230904 UPO:20230904 | BC2: Zarządzenie Nr 188/2023 BSO z dnia 11.07.2023 r. [ZmNr53] [B] WYS:20230905 UPO:20230905 | BD2: Zarządzenie Nr 190/2023 BSO z dnia 11.07.2023 r. [ZmNr54] [W] WYS:20230906 UPO:20230906 | BE2: Zarządzenie Nr 192/2023 BSO z dnia 18.07.2023 r. [ZmNr55] [B] WYS:20230906 UPO:20230906 | BF2: Zarządzenie Nr 196/2023 BSO z dnia 25.07.2023 r. [ZmNr56] [B] WYS:20230908 UPO:20230908 | BG2: URMSO Nr LXXI/573/2023 z dnia 26.07.2023 r. [ZmNr57] | BH2: Zarządzenie Nr 198/2023 BSO z dnia 27.07.2023 r. [ZmNr58] [W] WYS:20230911 UPO:20230911 | BI2: Zarządzenie Nr 199/2023 BSO z dnia 28.07.2023 r. [ZmNr59] [B] WYS:20231002 UPO:20231002 | BJ2: Zarządzenie Nr 200/2023 BSO z dnia 31.07.2023 r. [ZmNr60] [D] WYS:20231003 UPO:20231003 | BK2: Zarządzenie Nr 210/2023 BSO z dnia 8.08.2023 r. [ZmNr61] [B] WYS:20231004 UPO:20231004 | BL2: Zarządzenie Nr 211/2023 BSO z dnia 10.08.2023 r. [ZmNr62] [W] WYS:20231005 UPO:20231005 | BM2: Zarządzenie Nr 212/2023 BSO z dnia 10.08.2023 r. [ZmNr63] [R] WYS:20231006 UPO:20231006 | BN2: Zarządzenie Nr 213/2023 BSO z dnia 14.08.2023 r. [ZmNr64] [B] WYS:202308XX UPO:202308XX | BO2: Zarządzenie Nr 215/2023 BSO z dnia 16.08.2023 r. [ZmNr65] [D] WYS:202308XX UPO:202308XX | BP2: Zarządzenie Nr 217/2023 BSO z dnia 22.08.2023 r. [ZmNr66] [B] WYS:202308XX UPO:202308XX | BQ2: Zarządzenie Nr 225/2023 BSO z dnia 29.08.2023 r. [ZmNr67] [B] WYS:202308XX UPO:202308XX | BR2: Zarządzenie Nr 227/2023 BSO z dnia 30.08.2023 r. [ZmNr68] [W] WYS:202308XX UPO:202308XX | BS2: Zarządzenie Nr 228/2023 BSO z dnia 31.08.2023 r. [ZmNr69] [B] WYS:202308XX UPO:202308XX | BT2: Zarządzenie Nr 229/2023 BSO z dnia 31.08.2023 r. [ZmNr70] [D] WYS:202308XX UPO:202308XX | BU2: Zarządzenie Nr 231/2023 BSO z dnia 8.09.2023 r. [ZmNr71] [D] WYS:202309XX UPO:202309XX | BV2: Zarządzenie Nr 232/2023 BSO z dnia 11.09.2023 r. [ZmNr72] [W] WYS:202309XX UPO:202309XX | BW2: Zarządzenie Nr 239/2023 BSO z dnia 12.09.2023 r. [ZmNr73] [B] WYS:202309XX UPO:202309XX | BX2: Zarządzenie Nr 244/2023 BSO z dnia 19.09.2023 r. [ZmNr74] [B] WYS:202309XX UPO:202309XX | BY2: Zarządzenie Nr 246/2023 BSO z dnia 26.09.2023 r. [ZmNr75] [B] WYS:202309XX UPO:202309XX | BZ2: URMSO Nr LXXII/581/2023 z dnia 27.09.2023 r. [ZmNr76] | CA2: Zarządzenie Nr 248/2023 BSO z dnia 28.09.2023 r. [ZmNr77] [W] WYS:202309XX UPO:202309XX | CB2: Zarządzenie Nr 249/2023 BSO z dnia 29.09.2023 r. [ZmNr78] [B] WYS:202309XX UPO:202309XX | CC2: Zarządzenie Nr 250/2023 BSO z dnia 29.09.2023 r. [ZmNr79] [D] WYS:202309XX UPO:202309XX | CD2: -- | CE2: -- | CF2: -- | CG2: -- | CH2: -- | CI2: -- | CJ2: -- | CK2: Budżet na 2023 r. stan na dzień 30.09.2023 r.
A3: DOCHODY | B3: =SUM(B5:B6) -> 173100000 | C3: =SUM(C5:C6) -> 0 | D3: =SUM(D5:D6) -> 0 | E3: =SUM(E5:E6) -> 20009.4 | F3: =SUM(F5:F6) -> 0 | G3: =SUM(G5:G6) -> 43768 | H3: =SUM(H5:H6) -> 2296680 | I3: =SUM(I5:I6) -> 231568 | ... CC3: =SUM(CC5:CC6) -> -15192 | CK3: =SUM(CK5:CK6) -> 1.8065369e+08
A4: z tego:
A5: - dochody bieżące | B5: 133645000 | C5: 0 | D5: 0 | E5: 20009.4 | F5: 0 | G5: 43768 | H5: 2296680 | I5: 231568 | J5: 47592 | K5: 0 | L5: 13260.36 | M5: 0 | N5: 213639 | O5: 31168 | P5: 85055.7 | Q5: 12424 | R5: 0 | S5: 218206 | T5: 0 | U5: 0 | V5: 47305 | W5: 235896 | X5: 620692 | Y5: -17938.41 | Z5: 0 | AA5: 24560 | AB5: 42474.1 | AC5: 135000 | AD5: 229563 | AE5: 0 | AF5: 792052.2 | AG5: 15102.38 | AH5: 137656.76 | AI5: 0 | AJ5: 64200 | AK5: 6136 | AL5: 58500 | AM5: 0 | AN5: 0 | AO5: 187711 | AP5: 109483.36 | AQ5: 13449.88 | AR5: 12272 | AS5: 51869.45 | AT5: 0 | AU5: 72505.67 | AV5: 17600 | AW5: 194874 | AX5: 0 | AY5: 781000 | AZ5: 12440 | BA5: 277774.98 | BB5: 0 | BC5: 34889.52 | BD5: 0 | BE5: 28810 | BF5: 14376 | BG5: 130803 | BH5: 0 | BI5: 221878.3 | BJ5: 54131.4 | BK5: 21714.7 | BL5: 0 | BM5: 0 | BN5: 31301.11 | BO5: 100532.94 | BP5: 3720 | BQ5: 22608 | BR5: 0 | BS5: 187722 | BT5: 95393 | BU5: -6251 | BV5: 0 | BW5: 48042.72 | BX5: 16480 | BY5: 20976 | BZ5: 6780731.5 | CA5: 0 | CB5: 177541.06 | CC5: -15192 | CK5: =SUM(B5:CJ5) -> 1.4895076e+08
A6: - dochody majątkowe | B6: 39455000 | C6: 0 | D6: 0 | E6: 0 | F6: 0 | G6: 0 | H6: 0 | I6: 0 | J6: 0 | K6: 0 | L6: 0 | M6: 0 | N6: 0 | O6: 0 | P6: 611602.11 | Q6: 0 | R6: 0 | S6: 0 | T6: 0 | U6: 0 | V6: 0 | W6: 0 | X6: 370813 | Y6: 0 | Z6: 0 | AA6: 0 | AB6: 0 | AC6: 0 | AD6: 0 | AE6: 0 | AF6: 0 | AG6: 0 | AH6: 0 | AI6: 0 | AJ6: 0 | AK6: 0 | AL6: 0 | AM6: 0 | AN6: 0 | AO6: 0 | AP6: 0 | AQ6: -9549449.9 | AR6: 0 | AS6: 0 | AT6: 0 | AU6: 0 | AV6: 0 | AW6: 0 | AX6: 0 | AY6: 49000 | AZ6: 0 | BA6: 0 | BB6: 0 | BC6: 0 | BD6: 0 | BE6: 0 | BF6: 0 | BG6: 757697 | BH6: 0 | BI6: 0 | BJ6: 0 | BK6: 0 | BL6: 0 | BM6: 0 | BN6: 0 | BO6: 0 | BP6: 0 | BQ6: 0 | BR6: 0 | BS6: 0 | BT6: 0 | BU6: 0 | BV6: 0 | BW6: 0 | BX6: 0 | BY6: 0 | BZ6: 8268.47 | CA6: 0 | CB6: 0 | CC6: 0 | CK6: =SUM(B6:CJ6) -> 31702931
A7: PRZYCHODY | B7: 14342000 | C7: 0 | D7: 0 | E7: 0 | F7: 0 | G7: 0 | H7: 343100 | I7: 0 | J7: 0 | K7: 0 | L7: 0 | M7: 0 | N7: 0 | O7: 0 | P7: 0 | Q7: 0 | R7: 0 | S7: 0 | T7: 0 | U7: 0 | V7: 0 | W7: 0 | X7: 0 | Y7: 0 | Z7: 0 | AA7: 0 | AB7: 0 | AC7: 700000 | AD7: 0 | AE7: 0 | AF7: 0 | AG7: 0 | AH7: 0 | AI7: 0 | AJ7: 0 | AK7: 0 | AL7: 0 | AM7: 0 | AN7: 0 | AO7: 0 | AP7: 0 | AQ7: 1426384 | AR7: 0 | AS7: 0 | AT7: 0 | AU7: 0 | AV7: 0 | AW7: 0 | AX7: 0 | AY7: 1540000 | AZ7: 0 | BA7: 0 | BB7: 0 | BC7: 0 | BD7: 0 | BE7: 0 | BF7: 0 | BG7: 1726000 | BH7: 0 | BI7: 0 | BJ7: 0 | BK7: 0 | BL7: 0 | BM7: 0 | BN7: 0 | BO7: 0 | BP7: 0 | BQ7: 0 | BR7: 0 | BS7: 0 | BT7: 0 | BU7: 0 | BV7: 0 | BW7: 0 | BX7: 0 | BY7: 0 | BZ7: -5244000 | CA7: 0 | CB7: 0 | CC7: 0 | CK7: =SUM(B7:CJ7) -> 14833484
A8: RAZEM | B8: =SUM(B3,B7) -> 187442000 | C8: =SUM(C3,C7) -> 0 | D8: =SUM(D3,D7) -> 0 | E8: =SUM(E3,E7) -> 20009.4 | F8: =SUM(F3,F7) -> 0 | G8: =SUM(G3,G7) -> 43768 | H8: =SUM(H3,H7) -> 2639780 | I8: =SUM(I3,I7) -> 231568 | ... CC8: =SUM(CC3,CC7) -> -15192 | CK8: =SUM(CK3,CK7) -> 1.9548717e+08
A9: WYDATKI | B9: =SUM(B11:B12) -> 184475000 | C9: =SUM(C11:C12) -> 0 | D9: =SUM(D11:D12) -> 0 | E9: =SUM(E11:E12) -> 20009.4 | F9: =SUM(F11:F12) -> 0 | G9: =SUM(G11:G12) -> 43768 | H9: =SUM(H11:H12) -> 2639780 | I9: =SUM(I11:I12) -> 231568 | ... CC9: =SUM(CC11:CC12) -> -15192 | CK9: =SUM(CK11:CK12) -> 1.9282017e+08
A10: z tego:
A11: - wydatki bieżące | B11: 141165000 | C11: 0 | D11: -125000 | E11: 20009.4 | F11: 0 | G11: 43768 | H11: 2519680 | I11: 231568 | J11: 47592 | K11: 0 | L11: 13260.36 | M11: 0 | N11: 213639 | O11: 31168 | P11: 85055.7 | Q11: 12424 | R11: -22000 | S11: 218206 | T11: 0 | U11: 0 | V11: 47305 | W11: 235896 | X11: 616505 | Y11: -17938.41 | Z11: -21000 | AA11: 24560 | AB11: 42474.1 | AC11: 830000 | AD11: 229563 | AE11: 0 | AF11: 792052.2 | AG11: 15102.38 | AH11: 37656.76 | AI11: 0 | AJ11: 64200 | AK11: 6136 | AL11: 58500 | AM11: 0 | AN11: 43076.15 | AO11: 187711 | AP11: 109483.36 | AQ11: 546884 | AR11: 12272 | AS11: 51869.45 | AT11: 0 | AU11: 72505.67 | AV11: 17600 | AW11: 194874 | AX11: 1545.5 | AY11: 1890000 | AZ11: 12440 | BA11: 277774.98 | BB11: -16454 | BC11: 34889.52 | BD11: -11202.53 | BE11: 28810 | BF11: 14376 | BG11: 1765000 | BH11: 0 | BI11: 221878.3 | BJ11: 54131.4 | BK11: 21714.7 | BL11: -52500 | BM11: 0 | BN11: 31301.11 | BO11: 100532.94 | BP11: 3720 | BQ11: 22608 | BR11: -20000 | BS11: 187722 | BT11: 95393 | BU11: -6251 | BV11: 0 | BW11: 48042.72 | BX11: 16480 | BY11: 20976 | BZ11: 1213000 | CA11: 0 | CB11: 177541.06 | CC11: -15192 | CK11: =SUM(B11:CJ11) -> 1.5476994e+08
A12: - wydatki majątkowe | B12: 43310000 | C12: 0 | D12: 125000 | E12: 0 | F12: 0 | G12: 0 | H12: 120100 | I12: 0 | J12: 0 | K12: 0 | L12: 0 | M12: 0 | N12: 0 | O12: 0 | P12: 611602.11 | Q12: 0 | R12: 22000 | S12: 0 | T12: 0 | U12: 0 | V12: 0 | W12: 0 | X12: 375000 | Y12: 0 | Z12: 21000 | AA12: 0 | AB12: 0 | AC12: 305000 | AD12: 0 | AE12: 0 | AF12: 0 | AG12: 0 | AH12: 100000 | AI12: 0 | AJ12: 0 | AK12: 0 | AL12: 0 | AM12: 0 | AN12: -43076.15 | AO12: 0 | AP12: 0 | AQ12: -8656500 | AR12: 0 | AS12: 0 | AT12: 0 | AU12: 0 | AV12: 0 | AW12: 0 | AX12: -1545.5 | AY12: 480000 | AZ12: 0 | BA12: 0 | BB12: 16454 | BC12: 0 | BD12: 11202.53 | BE12: 0 | BF12: 0 | BG12: 849500 | BH12: 0 | BI12: 0 | BJ12: 0 | BK12: 0 | BL12: 52500 | BM12: 0 | BN12: 0 | BO12: 0 | BP12: 0 | BQ12: 0 | BR12: 20000 | BS12: 0 | BT12: 0 | BU12: 0 | BV12: 0 | BW12: 0 | BX12: 0 | BY12: 0 | BZ12: 332000 | CA12: 0 | CB12: 0 | CC12: 0 | CK12: =SUM(B12:CJ12) -> 38050237
A13: ROZCHODY | B13: 2967000 | C13: 0 | D13: 0 | E13: 0 | F13: 0 | G13: 0 | H13: 0 | I13: 0 | J13: 0 | K13: 0 | L13: 0 | M13: 0 | N13: 0 | O13: 0 | P13: 0 | Q13: 0 | R13: 0 | S13: 0 | T13: 0 | U13: 0 | V13: 0 | W13: 0 | X13: 0 | Y13: 0 | Z13: 0 | AA13: 0 | AB13: 0 | AC13: -300000 | AD13: 0 | AE13: 0 | AF13: 0 | AG13: 0 | AH13: 0 | AI13: 0 | AJ13: 0 | AK13: 0 | AL13: 0 | AM13: 0 | AN13: 0 | AO13: 0 | AP13: 0 | AQ13: 0 | AR13: 0 | AS13: 0 | AT13: 0 | AU13: 0 | AV13: 0 | AW13: 0 | AX13: 0 | AY13: 0 | AZ13: 0 | BA13: 0 | BB13: 0 | BC13: 0 | BD13: 0 | BE13: 0 | BF13: 0 | BG13: 0 | BH13: 0 | BI13: 0 | BJ13: 0 | BK13: 0 | BL13: 0 | BM13: 0 | BN13: 0 | BO13: 0 | BP13: 0 | BQ13: 0 | BR13: 0 | BS13: 0 | BT13: 0 | BU13: 0 | BV13: 0 | BW13: 0 | BX13: 0 | BY13: 0 | BZ13: 0 | CA13: 0 | CB13: 0 | CC13: 0 | CK13: =SUM(B13:CJ13) -> 2667000
A14: RAZEM | B14: =SUM(B9,B13) -> 187442000 | C14: =SUM(C9,C13) -> 0 | D14: =SUM(D9,D13) -> 0 | E14: =SUM(E9,E13) -> 20009.4 | F14: =SUM(F9,F13) -> 0 | G14: =SUM(G9,G13) -> 43768 | H14: =SUM(H9,H13) -> 2639780 | I14: =SUM(I9,I13) -> 231568 | ... CC14: =SUM(CC9,CC13) -> -15192 | CK14: =SUM(CK9,CK13) -> 1.9548717e+08
A15: DEFICYT | B15: =+B3-B9 -> -11375000 | C15: =+C3-C9 -> 0 | D15: =+D3-D9 -> 0 | E15: =+E3-E9 -> 0 | F15: =+F3-F9 -> 0 | G15: =+G3-G9 -> 0 | H15: =+H3-H9 -> -343100 | I15: =+I3-I9 -> 0 | ... CC15: =+CC3-CC9 -> 0 | CK15: =+CK3-CK9 -> -12166484
A16: REZERWY
A17: rezerwa ogólna | B17: =SUM(B19:B20) -> 1050000 | C17: =SUM(C19:C20) -> 0 | D17: =SUM(D19:D20) -> 0 | E17: =SUM(E19:E20) -> 0 | F17: =SUM(F19:F20) -> 0 | G17: =SUM(G19:G20) -> 0 | H17: =SUM(H19:H20) -> 0 | I17: =SUM(I19:I20) -> 0 | ... CC17: =SUM(CC19:CC20) -> 0 | CK17: =SUM(CK19:CK20) -> 895000
A18: z tego:
A19: - na wydatki bieżące [ROB - 758.75818.4810] | B19: 630000 | C19: 0 | D19: 0 | E19: 0 | F19: 0 | G19: 0 | H19: 0 | I19: 0 | J19: 0 | K19: 0 | L19: 0 | M19: 0 | N19: 0 | O19: 0 | P19: 0 | Q19: 0 | R19: 0 | S19: 0 | T19: 0 | U19: 0 | V19: 0 | W19: 0 | X19: 0 | Y19: 0 | Z19: 0 | AA19: 0 | AB19: 0 | AC19: 0 | AD19: 0 | AE19: 0 | AF19: 0 | AG19: 0 | AH19: 0 | AI19: 0 | AJ19: 0 | AK19: 0 | AL19: 0 | AM19: 0 | AN19: 0 | AO19: 0 | AP19: 0 | AQ19: 0 | AR19: 0 | AS19: 0 | AT19: 0 | AU19: 0 | AV19: 0 | AW19: 0 | AX19: 0 | AY19: 0 | AZ19: 0 | BA19: 0 | BB19: 0 | BC19: 0 | BD19: 0 | BE19: 0 | BF19: 0 | BG19: 0 | BH19: 0 | BI19: 0 | BJ19: 0 | BK19: 0 | BL19: 0 | BM19: -155000 | BN19: 0 | BO19: 0 | BP19: 0 | BQ19: 0 | BR19: 0 | BS19: 0 | BT19: 0 | BU19: 0 | BV19: 0 | BW19: 0 | BX19: 0 | BY19: 0 | BZ19: 0 | CA19: 0 | CB19: 0 | CC19: 0 | CK19: =SUM(B19:CJ19) -> 475000
A20: - na wydatki i zakupy inwestycyjne [ROM - 758.75818.6800] | B20: 420000 | C20: 0 | D20: 0 | E20: 0 | F20: 0 | G20: 0 | H20: 0 | I20: 0 | J20: 0 | K20: 0 | L20: 0 | M20: 0 | N20: 0 | O20: 0 | P20: 0 | Q20: 0 | R20: 0 | S20: 0 | T20: 0 | U20: 0 | V20: 0 | W20: 0 | X20: 0 | Y20: 0 | Z20: 0 | AA20: 0 | AB20: 0 | AC20: 0 | AD20: 0 | AE20: 0 | AF20: 0 | AG20: 0 | AH20: 0 | AI20: 0 | AJ20: 0 | AK20: 0 | AL20: 0 | AM20: 0 | AN20: 0 | AO20: 0 | AP20: 0 | AQ20: 0 | AR20: 0 | AS20: 0 | AT20: 0 | AU20: 0 | AV20: 0 | AW20: 0 | AX20: 0 | AY20: 0 | AZ20: 0 | BA20: 0 | BB20: 0 | BC20: 0 | BD20: 0 | BE20: 0 | BF20: 0 | BG20: 0 | BH20: 0 | BI20: 0 | BJ20: 0 | BK20: 0 | BL20: 0 | BM20: 0 | BN20: 0 | BO20: 0 | BP20: 0 | BQ20: 0 | BR20: 0 | BS20: 0 | BT20: 0 | BU20: 0 | BV20: 0 | BW20: 0 | BX20: 0 | BY20: 0 | BZ20: 0 | CA20: 0 | CB20: 0 | CC20: 0 | CK20: =SUM(B20:CJ20) -> 420000
A21: rezerwy celowe | B21: =SUM(B23:B23) -> 400000 | C21: =SUM(C23:C23) -> 0 | D21: =SUM(D23:D23) -> 0 | E21: =SUM(E23:E23) -> 0 | F21: =SUM(F23:F23) -> 0 | G21: =SUM(G23:G23) -> 0 | H21: =SUM(H23:H23) -> 0 | I21: =SUM(I23:I23) -> 0 | ... CC21: =SUM(CC23:CC23) -> 0 | CK21: =SUM(CK23:CK23) -> 400000
A22: z tego:
A23: - na realizację zadań z zakresu zarządzania kryzysowego [RCB - 758.75818.4810] | B23: 400000 | C23: 0 | D23: 0 | E23: 0 | F23: 0 | G23: 0 | H23: 0 | I23: 0 | J23: 0 | K23: 0 | L23: 0 | M23: 0 | N23: 0 | O23: 0 | P23: 0 | Q23: 0 | R23: 0 | S23: 0 | T23: 0 | U23: 0 | V23: 0 | W23: 0 | X23: 0 | Y23: 0 | Z23: 0 | AA23: 0 | AB23: 0 | AC23: 0 | AD23: 0 | AE23: 0 | AF23: 0 | AG23: 0 | AH23: 0 | AI23: 0 | AJ23: 0 | AK23: 0 | AL23: 0 | AM23: 0 | AN23: 0 | AO23: 0 | AP23: 0 | AQ23: 0 | AR23: 0 | AS23: 0 | AT23: 0 | AU23: 0 | AV23: 0 | AW23: 0 | AX23: 0 | AY23: 0 | AZ23: 0 | BA23: 0 | BB23: 0 | BC23: 0 | BD23: 0 | BE23: 0 | BF23: 0 | BG23: 0 | BH23: 0 | BI23: 0 | BJ23: 0 | BK23: 0 | BL23: 0 | BM23: 0 | BN23: 0 | BO23: 0 | BP23: 0 | BQ23: 0 | BR23: 0 | BS23: 0 | BT23: 0 | BU23: 0 | BV23: 0 | BW23: 0 | BX23: 0 | BY23: 0 | BZ23: 0 | CA23: 0 | CB23: 0 | CC23: 0 | CK23: =SUM(B23:CJ23) -> 400000
A26: BSO - Burmistrz Strzelec Opolskich
A27: ROB - rezerwa ogólna bieżąca
A28: ROM - rezerwa ogólna majątkowa
A29: RCB - rezerwa celowa bieżąca
A30: RCM - rezerwa celowa majątkowa

Sheet CHECKLIST
A3: Kwota ogółem (D) - Tab. Nr 1 | B3: =ROUND('Budżet 2023 - Dochody'!$C$5,2) -> 1.8065369e+08
A4: Kwota ogółem (D) - Tab. Nr 3 | B4: =ROUND('Budżet 2023 - po zmianach'!$CK$3,2) -> 1.8065369e+08
A5: Warunek spełniony? | B5: =IF((B3-B4)=0,"OK","Błąd!") -> OK
A7: Kwota ogółem (W) - Tab. Nr 2 | B7: =ROUND('Budżet 2023 - Wydatki'!$C$5,2) -> 1.9282017e+08
A8: Kwota ogółem (W) - Tab. Nr 3 | B8: =ROUND('Budżet 2023 - po zmianach'!$CK$9,2) -> 1.9282017e+08
A9: Warunek spełniony? | B9: =IF((B7-B8)=0,"OK","Błąd!") -> OK
A11: Kwota ogółem (D) [ZZ] - Tab. Nr 1 | B11: ='Budżet 2023 - Dochody'!$E$5 -> 12099836
A12: Kwota ogółem (W) [ZZ] - Tab. Nr 2 | B12: ='Budżet 2023 - Wydatki'!$E$5 -> 12099836
A13: Warunek spełniony? | B13: =IF((B11-B12)=0,"OK","Błąd!") -> OK
