Workbook

Sheet START
B3: Gmina Strzelce Opolskie
B4: Plac Myśliwca 1
B5: 47-100 Strzelce Opolskie
B7: Budżet 2024 :: rejestr zmian
B9: Uchwała Nr LXXV/617/2023 Rady Miejskiej w Strzelcach Opolskich z dnia 20 grudnia 2023 r.
B10: w sprawie uchwały budżetowej gminy Strzelce Opolskie na 2024 rok z późn. zm.
B13: Opracowanie: | D13: Piotr Szuba, Joanna Smyła
D14: p.szuba@strzelceopolskie.eu, j.smyla@strzelceopolskie.eu
D15: Skarbnik Gminy, Zastępca Skarbnika Gminy
D17: Tel. +48 77 404 93 30 | Fax +48 77 461 44 22 | Tel. kom. +48 605 724 654
D19: FACEBOOK: https://www.facebook.com/szuba76 | LINKEDIN: https://www.linkedin.com/in/szuba76
D20: X (TWITTER): https://twitter.com/piotr_szuba | INSTAGRAM: https://www.instagram.com/szuba76
D22: #b24 #budzetso2024 #gminastrzelceopolskie #szuba76

Sheet Budżet 2024 - Dochody
A1: ZMIANY W DOCHODACH BUDŻETU GMINY STRZELCE OPOLSKIE W 2024 ROKU
A2: Dokument | B2: Data | C2: Kwota ogółem | D2: w tym:
D3: ZADANIA WŁASNE | E3: ZADANIA ZLECONE | F3: ZADANIA POWIERZONE
A4: 1 | B4: 2 | C4: 3 | D4: 4 | E4: 5 | F4: 6
A5: OGÓŁEM PO ZMIANACH | B5: x | C5: =SUM(C6:C200) -> 1.9659157e+08 | D5: =SUM(D6:D200) -> 1.849513e+08 | E5: =SUM(E6:E200) -> 11558053 | F5: =SUM(F6:F200) -> 82212
A6: Uchwała RM LXXV/617/2023 | B6: 45280 | C6: =SUM(D6:F6) -> 184865000 | D6: 173481813 | E6: 11300975 | F6: 82212
A7: Zarządzenie Nr 19/2024 | B7: 45309 | C7: =SUM(D7:F7) -> 89550.07 | D7: 89550.07 | E7: 0 | F7: 0
A8: Zarządzenie Nr 28/2024 | B8: 45321 | C8: =SUM(D8:F8) -> 192346 | D8: 192346 | E8: 0 | F8: 0
A9: Zarządzenie Nr 29/2024 | B9: 45321 | C9: =SUM(D9:F9) -> 4123.71 | D9: 0 | E9: 4123.71 | F9: 0
A10: Zarządzenie Nr 30/2024 | B10: 45322 | C10: =SUM(D10:F10) -> 185100 | D10: 185100 | E10: 0 | F10: 0
A11: Zarządzenie Nr 39/2024 | B11: 45328 | C11: =SUM(D11:F11) -> 7405.32 | D11: 7405.32 | E11: 0 | F11: 0
A12: Zarządzenie Nr 41/2024 | B12: 45334 | C12: =SUM(D12:F12) -> 146707 | D12: 0 | E12: 146707 | F12: 0
A13: Zarządzenie Nr 44/2024 | B13: 45335 | C13: =SUM(D13:F13) -> 53023 | D13: 53023 | E13: 0 | F13: 0
A14: Zarządzenie Nr 49/2024 | B14: 45344 | C14: =SUM(D14:F14) -> 36960 | D14: 36960 | E14: 0 | F14: 0
A15: Zarządzenie Nr 55/2024 | B15: 45351 | C15: =SUM(D15:F15) -> 10757443 | D15: 10757443 | E15: 0 | F15: 0
A16: Zarządzenie Nr 56/2024 | B16: 45351 | C16: =SUM(D16:F16) -> 147661.92 | D16: 147661.92 | E16: 0 | F16: 0
A17: Zarządzenie Nr 57/2024 | B17: 45351 | C17: =SUM(D17:F17) -> 106247.7 | D17: 0 | E17: 106247.7 | F17: 0

Sheet Budżet 2024 - Wydatki
A1: ZMIANY W WYDATKACH BUDŻETU GMINY STRZELCE OPOLSKIE W 2024 ROKU
A2: Dokument | B2: Data | C2: Kwota ogółem | D2: w tym:
D3: ZADANIA WŁASNE | E3: ZADANIA ZLECONE | F3: ZADANIA POWIERZONE
A4: 1 | B4: 2 | C4: 3 | D4: 4 | E4: 5 | F4: 6
A5: OGÓŁEM PO ZMIANACH | B5: x | C5: =SUM(C6:C200) -> 2.2348263e+08 | D5: =SUM(D6:D200) -> 2.1176458e+08 | E5: =SUM(E6:E200) -> 11558053 | F5: =SUM(F6:F200) -> 160000
A6: Uchwała RM LXXV/617/2023 | B6: 45280 | C6: =SUM(D6:F6) -> 202620000 | D6: 191159025 | E6: 11300975 | F6: 160000
A7: Zarządzenie Nr 8/2024 | B7: 45296 | C7: =SUM(D7:F7) -> 0 | D7: 0 | E7: 0 | F7: 0
A8: Zarządzenie Nr 19/2024 | B8: 45309 | C8: =SUM(D8:F8) -> 89550.07 | D8: 89550.07 | E8: 0 | F8: 0
A9: Zarządzenie Nr 26/2024 | B9: 45317 | C9: =SUM(D9:F9) -> 0 | D9: 0 | E9: 0 | F9: 0
A10: Zarządzenie Nr 28/2024 | B10: 45321 | C10: =SUM(D10:F10) -> 192346 | D10: 192346 | E10: 0 | F10: 0
A11: Zarządzenie Nr 29/2024 | B11: 45321 | C11: =SUM(D11:F11) -> 4123.71 | D11: 0 | E11: 4123.71 | F11: 0
A12: Zarządzenie Nr 30/2024 | B12: 45322 | C12: =SUM(D12:F12) -> 9321164 | D12: 9321164 | E12: 0 | F12: 0
A13: Zarządzenie Nr 36/2024 | B13: 45327 | C13: =SUM(D13:F13) -> 0 | D13: 0 | E13: 0 | F13: 0
A14: Zarządzenie Nr 39/2024 | B14: 45328 | C14: =SUM(D14:F14) -> 7405.32 | D14: 7405.32 | E14: 0 | F14: 0
A15: Zarządzenie Nr 41/2024 | B15: 45334 | C15: =SUM(D15:F15) -> 146707 | D15: 0 | E15: 146707 | F15: 0
A16: Zarządzenie Nr 44/2024 | B16: 45335 | C16: =SUM(D16:F16) -> 53023 | D16: 53023 | E16: 0 | F16: 0
A17: Zarządzenie Nr 47/2024 | B17: 45342 | C17: =SUM(D17:F17) -> 0 | D17: 0 | E17: 0 | F17: 0
... A22: Zarządzenie Nr 58/2024 | B22: 45351 | C22: =SUM(D22:F22) -> 0 | D22: 0 | E22: 0 | F22: 0

Sheet Budżet 2024 - po zmianach
DH1: w złotych
A2: Wyszczególnienie | B2: Budżet na 2024 rok wg URMSO Nr LXXV/617/2023 z dnia 20.12.2023 r. | C2: Zarządzenie Nr 8/2024 BSO z dnia 5.01.2024 r. [ZmNr01] [W] WYS:20240111 UPO:20240111 | D2: Zarządzenie Nr 19/2024 BSO z dnia 18.01.2024 r. [ZmNr02] [B] WYS:20240124 UPO:20240124 | E2: Zarządzenie Nr 26/2024 BSO z dnia 26.01.2024 r. [ZmNr03] [W] WYS:20240201 UPO:20240201 | F2: Zarządzenie Nr 28/2024 BSO z dnia 30.01.2024 r. [ZmNr04] [B] WYS:20240205 UPO:20240205 | G2: Zarządzenie Nr 29/2024 BSO z dnia 30.01.2024 r. [ZmNr05] [D] WYS:20240206 UPO:20240206 | H2: URMSO Nr LXXVII/633/2024 z dnia 31.01.2024 r. [ZmNr06] | I2: Zarządzenie Nr 36/2024 BSO z dnia 5.02.2024 r. [ZmNr07] [W] WYS:20240212 UPO:20240212 | J2: Zarządzenie Nr 39/2024 BSO z dnia 6.02.2024 r. [ZmNr08] [B] WYS:20240213 UPO:20240213 | K2: Zarządzenie Nr 41/2024 BSO z dnia 12.02.2024 r. [ZmNr09] [D] WYS:20240216 UPO:20240216 | L2: Zarządzenie Nr 44/2024 BSO z dnia 13.02.2024 r. [ZmNr10] [B] WYS:20240220 UPO:20240220 | M2: Zarządzenie Nr 47/2024 BSO z dnia 20.02.2024 r. [ZmNr11] [W] WYS:20240225 UPO:20240225 | N2: Zarządzenie Nr 49/2024 BSO z dnia 22.02.2024 r. [ZmNr12] [B] WYS:20240225 UPO:20240225 | O2: URMSO Nr LXXVIII/640/2024 z dnia 28.02.2024 r. [ZmNr13] | P2: Zarządzenie Nr 56/2024 BSO z dnia 29.02.2024 r. [ZmNr14] [B] WYS:20240306 UPO:20240306 | Q2: Zarządzenie Nr 57/2024 BSO z dnia 29.02.2024 r. [ZmNr15] [D] WYS:20240306 UPO:20240306 | R2: Zarządzenie Nr 58/2024 BSO z dnia 29.02.2024 r. [ZmNr16] [W] WYS:20240307 UPO:20240307 | S2: - | T2: - | U2: - | V2: - | W2: - | X2: - | Y2: - | Z2: - | AA2: - | AB2: - | AC2: - | AD2: - | AE2: - | AF2: - | AG2: - | AH2: - | AI2: - | AJ2: - | AK2: - | AL2: - | AM2: - | AN2: - | AO2: - | AP2: - | AQ2: - | AR2: - | AS2: - | AT2: - | AU2: - | AV2: - | AW2: - | AX2: - | AY2: - | AZ2: - | BA2: - | BB2: - | BC2: - | BD2: - | BE2: - | BF2: - | BG2: - | BH2: - | BI2: - | BJ2: - | BK2: - | BL2: - | BM2: - | BN2: - | BO2: - | BP2: - | BQ2: - | BR2: - | BS2: - | BT2: - | BU2: - | BV2: - | BW2: - | BX2: - | BY2: - | BZ2: - | CA2: - | CB2: - | CC2: - | CD2: - | CE2: - | CF2: - | CG2: - | CH2: - | CI2: - | CJ2: - | CK2: - | CL2: - | CM2: - | CN2: - | CO2: - | CP2: - | CQ2: - | CR2: - | CS2: - | CT2: - | CU2: - | CV2: - | CW2: - | CX2: - | CY2: - | CZ2: - | DA2: - | DB2: - | DC2: - | DD2: - | DE2: - | DF2: - | DG2: - | DH2: Budżet na 2024 r. stan na dzień 29.02.2024 r.
A3: DOCHODY | B3: =SUM(B5:B6) -> 184865000 | C3: =SUM(C5:C6) -> 0 | D3: =SUM(D5:D6) -> 89550.07 | E3: =SUM(E5:E6) -> 0 | F3: =SUM(F5:F6) -> 192346 | G3: =SUM(G5:G6) -> 4123.71 | H3: =SUM(H5:H6) -> 185100 | I3: =SUM(I5:I6) -> 0 | ... R3: =SUM(R5:R6) -> 0 | DH3: =SUM(DH5:DH6) -> 1.9659157e+08
A4: z tego:
A5: - dochody bieżące | B5: 153397610 | C5: 0 | D5: 89550.07 | E5: 0 | F5: 192346 | G5: 4123.71 | H5: 5100 | I5: 0 | J5: 7405.32 | K5: 146707 | L5: 53023 | M5: 0 | N5: 36960 | O5: 7439491 | P5: 147661.92 | Q5: 106247.7 | R5: 0 | DH5: =SUM(B5:DG5) -> 1.6162623e+08
A6: - dochody majątkowe | B6: 31467390 | C6: 0 | D6: 0 | E6: 0 | F6: 0 | G6: 0 | H6: 180000 | I6: 0 | J6: 0 | K6: 0 | L6: 0 | M6: 0 | N6: 0 | O6: 3317952 | P6: 0 | Q6: 0 | R6: 0 | DH6: =SUM(B6:DG6) -> 34965342
A7: PRZYCHODY | B7: 20775000 | C7: 0 | D7: 0 | E7: 0 | F7: 0 | G7: 0 | H7: 9136064 | I7: 0 | J7: 0 | K7: 0 | L7: 0 | M7: 0 | N7: 0 | O7: 0 | P7: 0 | Q7: 0 | R7: 0 | DH7: =SUM(B7:DG7) -> 29911064
A8: RAZEM | B8: =SUM(B3,B7) -> 205640000 | C8: =SUM(C3,C7) -> 0 | D8: =SUM(D3,D7) -> 89550.07 | E8: =SUM(E3,E7) -> 0 | F8: =SUM(F3,F7) -> 192346 | G8: =SUM(G3,G7) -> 4123.71 | H8: =SUM(H3,H7) -> 9321164 | I8: =SUM(I3,I7) -> 0 | ... R8: =SUM(R3,R7) -> 0 | DH8: =SUM(DH3,DH7) -> 2.2650263e+08
A9: WYDATKI | B9: =SUM(B11:B12) -> 202620000 | C9: =SUM(C11:C12) -> 0 | D9: =SUM(D11:D12) -> 89550.07 | E9: =SUM(E11:E12) -> 0 | F9: =SUM(F11:F12) -> 192346 | G9: =SUM(G11:G12) -> 4123.71 | H9: =SUM(H11:H12) -> 9321164 | I9: =SUM(I11:I12) -> 0 | ... R9: =SUM(R11:R12) -> 0 | DH9: =SUM(DH11:DH12) -> 2.2348263e+08
A10: z tego:
A11: - wydatki bieżące | B11: 154865000 | C11: 0 | D11: 89550.07 | E11: -10100 | F11: 192346 | G11: 4123.71 | H11: -22899.7 | I11: 0 | J11: 7405.32 | K11: 146707 | L11: 53023 | M11: -50000 | N11: 36960 | O11: 6795003 | P11: 147661.92 | Q11: 106247.7 | R11: 0 | DH11: =SUM(B11:DG11) -> 1.6236103e+08
A12: - wydatki majątkowe | B12: 47755000 | C12: 0 | D12: 0 | E12: 10100 | F12: 0 | G12: 0 | H12: 9344063.7 | I12: 0 | J12: 0 | K12: 0 | L12: 0 | M12: 50000 | N12: 0 | O12: 3962440 | P12: 0 | Q12: 0 | R12: 0 | DH12: =SUM(B12:DG12) -> 61121604
A13: ROZCHODY | B13: 3020000 | C13: 0 | D13: 0 | E13: 0 | F13: 0 | G13: 0 | H13: 0 | I13: 0 | J13: 0 | K13: 0 | L13: 0 | M13: 0 | N13: 0 | O13: 0 | P13: 0 | Q13: 0 | R13: 0 | DH13: =SUM(B13:DG13) -> 3020000
A14: RAZEM | B14: =SUM(B9,B13) -> 205640000 | C14: =SUM(C9,C13) -> 0 | D14: =SUM(D9,D13) -> 89550.07 | E14: =SUM(E9,E13) -> 0 | F14: =SUM(F9,F13) -> 192346 | G14: =SUM(G9,G13) -> 4123.71 | H14: =SUM(H9,H13) -> 9321164 | I14: =SUM(I9,I13) -> 0 | ... R14: =SUM(R9,R13) -> 0 | DH14: =SUM(DH9,DH13) -> 2.2650263e+08
A15: DEFICYT | B15: =+B3-B9 -> -17755000 | C15: =+C3-C9 -> 0 | D15: =+D3-D9 -> 0 | E15: =+E3-E9 -> 0 | F15: =+F3-F9 -> 0 | G15: =+G3-G9 -> 0 | H15: =+H3-H9 -> -9136064 | I15: =+I3-I9 -> 0 | ... R15: =+R3-R9 -> 0 | DH15: =+DH3-DH9 -> -26891064
A16: REZERWY
A17: rezerwa ogólna | B17: =SUM(B19:B20) -> 1200000 | C17: =SUM(C19:C20) -> 0 | D17: =SUM(D19:D20) -> 0 | E17: =SUM(E19:E20) -> 0 | F17: =SUM(F19:F20) -> 0 | G17: =SUM(G19:G20) -> 0 | H17: =SUM(H19:H20) -> 0 | I17: =SUM(I19:I20) -> 0 | ... R17: =SUM(R19:R20) -> 0 | DH17: =SUM(DH19:DH20) -> 1200000
A18: z tego:
A19: - na wydatki bieżące [ROB - 758.75818.4810] | B19: 770000 | C19: 0 | D19: 0 | E19: 0 | F19: 0 | G19: 0 | H19: 0 | I19: 0 | J19: 0 | K19: 0 | L19: 0 | M19: 0 | N19: 0 | O19: 0 | P19: 0 | Q19: 0 | R19: 0 | DH19: =SUM(B19:DG19) -> 770000
A20: - na wydatki i zakupy inwestycyjne [ROM - 758.75818.6800] | B20: 430000 | C20: 0 | D20: 0 | E20: 0 | F20: 0 | G20: 0 | H20: 0 | I20: 0 | J20: 0 | K20: 0 | L20: 0 | M20: 0 | N20: 0 | O20: 0 | P20: 0 | Q20: 0 | R20: 0 | DH20: =SUM(B20:DG20) -> 430000
A21: rezerwy celowe | B21: =SUM(B23:B23) -> 400000 | C21: =SUM(C23:C23) -> 0 | D21: =SUM(D23:D23) -> 0 | E21: =SUM(E23:E23) -> 0 | F21: =SUM(F23:F23) -> 0 | G21: =SUM(G23:G23) -> 0 | H21: =SUM(H23:H23) -> 0 | I21: =SUM(I23:I23) -> 0 | ... R21: =SUM(R23:R23) -> 0 | DH21: =SUM(DH23:DH23) -> 400000
A22: z tego:
A23: - na realizację zadań z zakresu zarządzania kryzysowego [RCB - 758.75818.4810] | B23: 400000 | C23: 0 | D23: 0 | E23: 0 | F23: 0 | G23: 0 | H23: 0 | I23: 0 | J23: 0 | K23: 0 | L23: 0 | M23: 0 | N23: 0 | O23: 0 | P23: 0 | Q23: 0 | R23: 0 | DH23: =SUM(B23:DG23) -> 400000
A26: BSO - Burmistrz Strzelec Opolskich
A27: ROB - rezerwa ogólna bieżąca
A28: ROM - rezerwa ogólna majątkowa
A29: RCB - rezerwa celowa bieżąca
A30: RCM - rezerwa celowa majątkowa

Sheet CHECKLIST
A3: Kwota ogółem (D) - Tab. Nr 1 | B3: =ROUND('Budżet 2024 - Dochody'!$C$5,2) -> 1.9659157e+08
A4: Kwota ogółem (D) - Tab. Nr 3 | B4: =ROUND('Budżet 2024 - po zmianach'!$DH$3,2) -> 1.9659157e+08
A5: Warunek spełniony? | B5: =IF((B3-B4)=0,"OK","Błąd!") -> OK
A7: Kwota ogółem (W) - Tab. Nr 2 | B7: =ROUND('Budżet 2024 - Wydatki'!$C$5,2) -> 2.2348263e+08
A8: Kwota ogółem (W) - Tab. Nr 3 | B8: =ROUND('Budżet 2024 - po zmianach'!$DH$9,2) -> 2.2348263e+08
A9: Warunek spełniony? | B9: =IF((B7-B8)=0,"OK","Błąd!") -> OK
A11: Kwota ogółem (D) [ZZ] - Tab. Nr 1 | B11: ='Budżet 2024 - Dochody'!$E$5 -> 11558053
A12: Kwota ogółem (W) [ZZ] - Tab. Nr 2 | B12: ='Budżet 2024 - Wydatki'!$E$5 -> 11558053
A13: Warunek spełniony? | B13: =IF((B11-B12)=0,"OK","Błąd!") -> OK
