Workbook
Name xxx: #REF!

Sheet INSTRUKCJA
A1: Instrukcja wypełniania informacji o zobowiązaniach
A4: We wszystkich zakładkach należy wypełnić TYLKO pola oznaczone niebieskim tłem
A7: W celu prawidłowej weryfikacji wprowadzonych danych, niniejszą informację o zobowiązaniach należy wypełnić przy pomocy programu MS Excel.
A8: 1. W zakładce DANE ZBIORCZO należy:
A9: a) | B9: Wybrać nazwę j.s.t. z listy rozwijanej
A10: b) | B10: Uzupełnić datę sporządzenia, imię i nazwisko osoby sporządzającej i nr telefonu
A11: c) | B11: Uzupełnić dane przewodniczącego zarządu
A13: 2. W kolejnych zakładkach należy podać informacje dotyczące zobowiązań, w tym m.in.:
A14: a) | B14: nazwę instytucji, wobec której zaciągnięto zobowiązanie
A15: b) | B15: kwotę zobowiązania wynikającą z umowy
A16: c) | B16: datę zawarcia umowy i aneksów,
A17: d) | B17: kwoty zobowiązań przypadające do spłaty w poszczególnych latach
A19: 3. W zakładce INNE należy podać wszystkie inne zobowiązania wpływające na dług (art. 72 ust. 1a ufp), np.
A20: a) | B20: Umowy zakupu na raty np. telefonów, sprzętu komputerowego, nieruchomości
A21: b) | B21: Faktoring
A22: c) | B22: Leasing finansowy
A23: d) | B23: Zrestrukturyzowane zobowiązania wymagalne powyżej roku
A24: e) | B24: Umowy nienazwane o terminie zapłaty dłużym niż rok, związane z finansowaniem usług, dostaw, robót budowlanych, które wywołują skutki ekonomiczne podobne do umowy pożyczki lub kredytu
A25: f) | B25: Umowy o partnerstwie publiczno-prywatnym oraz umowy o poprawę efektywności energetycznej, w przypadku gdy umowy te mają wpływ na poziom długu publicznego
A27: 4. W przypadku braku odpowiedniej liczby KOLUMN przy okresie spłaty zobowiązania, należy skopiować ostatnią kolumnę i wkleić nową jako przedostatnią
A29: 5. W przypadku braku odpowiedniej liczby WIERSZY, należy rozszerzyć ilość pozycji poprzez wciśnięcie numeru 2 w górnej części lewej strony arkusza lub kliknięcie na krzyżyk przy wierszu 101.
A31: 6. Zweryfikować wpowadzone do pliku informacje.
A33: 7. Do RIO wysłać wyłącznie wypełniony plik programu Excel wraz z plikiem podpisu elektronicznego na adres sprawozdania@rio.opole.pl

Sheet DANE ZBIORCZO
X1: 59
A2: Wybierz nazwę j.s.t. z listy
A3: Uzupełnij dane w niebieskich polach pod tabelą. Dane w tabeli zostaną uzupełnione automatycznie po wypełnieniu kolejnych zakładek (arkuszy).
A5: Zestawienie zbiorcze: | D5: VER. 2024-07-01
A6: Stan na dzień: | B6: 30.06.2024 r.
A7: Nazwa JST | B7: =VLOOKUP($X$1,jednostki!$A$2:$C$92,2,FALSE) -> Gmina Strzelce Opolskie
A8: Kod TERYT | B8: =VLOOKUP($X$1,jednostki!$A$2:$C$92,3,FALSE) -> 1611053
A10: Nazwa zobowiązania | B10: Rata kapitałowa | C10: Odsetki | D10: Razem
A11: Kredyty | B11: =KREDYTY!E9 -> 20150022 | C11: =KREDYTY!F10 -> 3725994 | D11: =KREDYTY!D8 -> 23876016
A12: Pożyczki | B12: =POŻYCZKI!E9 -> 80000 | C12: =POŻYCZKI!F10 -> 3665.33 | D12: =POŻYCZKI!D8 -> 83665.33
A13: Papiery wartościowe, których zbywalność nie jest ograniczona (tzn. istnieje dla nich płynny rynek wtórny) | B13: ='PAP.WART. - płynny rynek wtórny'!E9 -> 0 | C13: ='PAP.WART. - płynny rynek wtórny'!F10 -> 0 | D13: ='PAP.WART. - płynny rynek wtórny'!D8 -> 0
A14: Papiery wartościowe, których zbywalność jest ograniczona (tzn. nie istnieje dla nich płynny rynek wtórny) | B14: ='PAP.WART-brak płynnego rynku wt'!E9 -> 0 | C14: ='PAP.WART-brak płynnego rynku wt'!F10 -> 0 | D14: ='PAP.WART-brak płynnego rynku wt'!D8 -> 0
A15: Inne umowy | B15: =INNE!E9 -> 0 | C15: =INNE!F10 -> 0 | D15: =INNE!D8 -> 0
A16: RAZEM: | B16: =SUM(B11:B15) -> 20230022 | C16: =SUM(C11:C15) -> 3729659.3 | D16: =SUM(D11:D15) -> 23959681
A18: Łączna kwota poręczeń | B18: =PORĘCZENIA!E9 -> 0 | C18: =PORĘCZENIA!F10 -> 0 | D18: =PORĘCZENIA!D8 -> 0
A20: Łączna kwota zobowiązań z tytułu zawartych umów wsparcia | D20: ='Pozostałe operacje finansowe'!$C$22 -> 0
A25: Data sporządzenia: | B25: 23.07.2024r.
A26: Imię i nazwisko osoby sporządzającej: | B26: Katarzyna Szufla
A27: Tel. do osoby sporządzającej: | B27: 77 40 49 328
C34: Jan Wróblewski
C35: …………………………………………………………………….
C36: Podpis Przewodniczącego Zarządu

Sheet KREDYTY
B1: Zobowiązania finansowe jednostki samorządu terytorialnego z tytułu zaciągniętych kredytów | S1: x
G2: stan aktualny na dzień: | I2: ='DANE ZBIORCZO'!B6 -> 30.06.2024 r.
A3: TERYT i Nazwa JST | D3: ='DANE ZBIORCZO'!B8 -> 1611053 | E3: ='DANE ZBIORCZO'!B7 -> Gmina Strzelce Opolskie
A4: Zaciągnięte KREDYTY: - Należy podać nazwę instytucji, wobec której j.s.t. ma zobowiązanie - Kwota zobowiązania wynikająca z umowy | C4: Uwagi o zobowiązaniu: - Data zawarcia umowy, - Data ewentualnych aneksów, | D4: ="niespłacone zobowiązania na dzień "&TEXT('DANE ZBIORCZO'!B6,"dd.mm.rrrr")&" (4+5+6+…+15)" -> niespłacone zobowiązania na dzień 30.06.2024 r. (4+5+6+…+15)
G5: II półrocze 2024 r. | H5: 2025 r. | I5: 2026 r. | J5: 2027 r. | K5: 2028 r. | L5: 2029 r. | M5: 2030 r. | N5: 2031 r. | O5: 2032 r. | P5: 2033 r. | Q5: 2034 r. | R5: 2035 r.
A6: 1 | C6: 2 | D6: 3 | G6: 4 | H6: 5 | I6: 6 | J6: 7 | K6: 8 | L6: 9 | M6: 10 | N6: 11 | O6: 12 | P6: 13 | Q6: 14 | R6: 15
A7: KREDYTY
A8: R A Z E M (1+2+...+10 itd), z tego: | D8: =SUM(D11:D65536) -> 23876016 | E8: x | F8: x | G8: =SUM(G11,G14,G17,G20,G23,G26,G29,G32,G35,G38,G41,G44,G47,G50,G53,G56,G59,G62,G65,G68,G71,G74,G77,G80,G83,G86,G89,G92,G95,G98) -> 2236331.8 | H8: =SUM(H11,H14,H17,H20,H23,H26,H29,H32,H35,H38,H41,H44,H47,H50,H53,H56,H59,H62,H65,H68,H71,H74,H77,H80,H83,H86,H89,H92,H95,H98) -> 3622054.8 | I8: =SUM(I11,I14,I17,I20,I23,I26,I29,I32,I35,I38,I41,I44,I47,I50,I53,I56,I59,I62,I65,I68,I71,I74,I77,I80,I83,I86,I89,I92,I95,I98) -> 3515280.9 | J8: =SUM(J11,J14,J17,J20,J23,J26,J29,J32,J35,J38,J41,J44,J47,J50,J53,J56,J59,J62,J65,J68,J71,J74,J77,J80,J83,J86,J89,J92,J95,J98) -> 3408505.3 | K8: =SUM(K11,K14,K17,K20,K23,K26,K29,K32,K35,K38,K41,K44,K47,K50,K53,K56,K59,K62,K65,K68,K71,K74,K77,K80,K83,K86,K89,K92,K95,K98) -> 3302094.9 | L8: =SUM(L11,L14,L17,L20,L23,L26,L29,L32,L35,L38,L41,L44,L47,L50,L53,L56,L59,L62,L65,L68,L71,L74,L77,L80,L83,L86,L89,L92,L95,L98) -> 2947504.6 | M8: =SUM(M11,M14,M17,M20,M23,M26,M29,M32,M35,M38,M41,M44,M47,M50,M53,M56,M59,M62,M65,M68,M71,M74,M77,M80,M83,M86,M89,M92,M95,M98) -> 1955492.5 | N8: =SUM(N11,N14,N17,N20,N23,N26,N29,N32,N35,N38,N41,N44,N47,N50,N53,N56,N59,N62,N65,N68,N71,N74,N77,N80,N83,N86,N89,N92,N95,N98) -> 1625160.5 | ... R8: =SUM(R11,R14,R17,R20,R23,R26,R29,R32,R35,R38,R41,R44,R47,R50,R53,R56,R59,R62,R65,R68,R71,R74,R77,R80,R83,R86,R89,R92,R95,R98) -> 0
A9: - rata kapitałowa | D9: x | E9: =SUM(E11:E65536) -> 20150022 | F9: x | G9: =SUM(G12,G15,G18,G21,G24,G27,G30,G33,G36,G39,G42,G45,G48,G51,G54,G57,G60,G63,G66,G69,G72,G75,G78,G81,G84,G87,G90,G93,G96,G99) -> 1449998 | H9: =SUM(H12,H15,H18,H21,H24,H27,H30,H33,H36,H39,H42,H45,H48,H51,H54,H57,H60,H63,H66,H69,H72,H75,H78,H81,H84,H87,H90,H93,H96,H99) -> 2899996 | I9: =SUM(I12,I15,I18,I21,I24,I27,I30,I33,I36,I39,I42,I45,I48,I51,I54,I57,I60,I63,I66,I69,I72,I75,I78,I81,I84,I87,I90,I93,I96,I99) -> 2899996 | J9: =SUM(J12,J15,J18,J21,J24,J27,J30,J33,J36,J39,J42,J45,J48,J51,J54,J57,J60,J63,J66,J69,J72,J75,J78,J81,J84,J87,J90,J93,J96,J99) -> 2899996 | K9: =SUM(K12,K15,K18,K21,K24,K27,K30,K33,K36,K39,K42,K45,K48,K51,K54,K57,K60,K63,K66,K69,K72,K75,K78,K81,K84,K87,K90,K93,K96,K99) -> 2900036 | L9: =SUM(L12,L15,L18,L21,L24,L27,L30,L33,L36,L39,L42,L45,L48,L51,L54,L57,L60,L63,L66,L69,L72,L75,L78,L81,L84,L87,L90,L93,L96,L99) -> 2650000 | M9: =SUM(M12,M15,M18,M21,M24,M27,M30,M33,M36,M39,M42,M45,M48,M51,M54,M57,M60,M63,M66,M69,M72,M75,M78,M81,M84,M87,M90,M93,M96,M99) -> 1750000.4 | N9: =SUM(N12,N15,N18,N21,N24,N27,N30,N33,N36,N39,N42,N45,N48,N51,N54,N57,N60,N63,N66,N69,N72,N75,N78,N81,N84,N87,N90,N93,N96,N99) -> 1500000 | ... R9: =SUM(R12,R15,R18,R21,R24,R27,R30,R33,R36,R39,R42,R45,R48,R51,R54,R57,R60,R63,R66,R69,R72,R75,R78,R81,R84,R87,R90,R93,R96,R99) -> 0
A10: - odsetki | D10: x | E10: x | F10: =SUM(F11:F65536) -> 3725994 | G10: =SUM(G13,G16,G19,G22,G25,G28,G31,G34,G37,G40,G43,G46,G49,G52,G55,G58,G61,G64,G67,G70,G73,G76,G79,G82,G85,G88,G91,G94,G97,G100) -> 786333.78 | H10: =SUM(H13,H16,H19,H22,H25,H28,H31,H34,H37,H40,H43,H46,H49,H52,H55,H58,H61,H64,H67,H70,H73,H76,H79,H82,H85,H88,H91,H94,H97,H100) -> 722058.87 | I10: =SUM(I13,I16,I19,I22,I25,I28,I31,I34,I37,I40,I43,I46,I49,I52,I55,I58,I61,I64,I67,I70,I73,I76,I79,I82,I85,I88,I91,I94,I97,I100) -> 615284.91 | J10: =SUM(J13,J16,J19,J22,J25,J28,J31,J34,J37,J40,J43,J46,J49,J52,J55,J58,J61,J64,J67,J70,J73,J76,J79,J82,J85,J88,J91,J94,J97,J100) -> 508509.38 | K10: =SUM(K13,K16,K19,K22,K25,K28,K31,K34,K37,K40,K43,K46,K49,K52,K55,K58,K61,K64,K67,K70,K73,K76,K79,K82,K85,K88,K91,K94,K97,K100) -> 402058.97 | L10: =SUM(L13,L16,L19,L22,L25,L28,L31,L34,L37,L40,L43,L46,L49,L52,L55,L58,L61,L64,L67,L70,L73,L76,L79,L82,L85,L88,L91,L94,L97,L100) -> 297504.65 | M10: =SUM(M13,M16,M19,M22,M25,M28,M31,M34,M37,M40,M43,M46,M49,M52,M55,M58,M61,M64,M67,M70,M73,M76,M79,M82,M85,M88,M91,M94,M97,M100) -> 205492.11 | N10: =SUM(N13,N16,N19,N22,N25,N28,N31,N34,N37,N40,N43,N46,N49,N52,N55,N58,N61,N64,N67,N70,N73,N76,N79,N82,N85,N88,N91,N94,N97,N100) -> 125160.53 | ... R10: =SUM(R13,R16,R19,R22,R25,R28,R31,R34,R37,R40,R43,R46,R49,R52,R55,R58,R61,R64,R67,R70,R73,R76,R79,R82,R85,R88,R91,R94,R97,R100) -> 0
A11: 1. | B11: Bank Polskiej Spółdzielczości Warszawa umowa Nr 2724243/167/JST/POZ/18 (2.500.000,00zł) | C11: Umowa 08.11.2018r. Aneks do umowy 22.01.2019r. | D11: =E12+F13 -> 1216752.4 | E11: x | F11: x | G11: =SUM(G12:G13) -> 171403.41 | H11: =SUM(H12:H13) -> 269652.26 | I11: =SUM(I12:I13) -> 264102.26 | J11: =SUM(J12:J13) -> 258552.26 | K11: =SUM(K12:K13) -> 253042.26 | L11: =SUM(L12:L13) -> 0 | M11: =SUM(M12:M13) -> 0 | N11: =SUM(N12:N13) -> 0 | ... R11: =SUM(R12:R13) -> 0
A12: z tego: - rata kapitałowa | D12: x | E12: =SUM(G12:R12) -> 1125022 | F12: x | G12: 124998 | H12: 249996 | I12: 249996 | J12: 249996 | K12: 250036
A13: - odsetki | D13: x | E13: x | F13: =SUM(G13:R13) -> 91730.45 | G13: 46405.41 | H13: 19656.26 | I13: 14106.26 | J13: 8556.26 | K13: 3006.26
A14: 2. | B14: Bank Gospodarstwa Krajowego Region Opolski umowa Nr 19/5788 (9.000.000,00) | C14: 29.11.2019r. | D14: =E15+F16 -> 5404095.6 | E14: x | F14: x | G14: =SUM(G15:G16) -> 649039.22 | H14: =SUM(H15:H16) -> 991151.28 | I14: =SUM(I15:I16) -> 971081.28 | J14: =SUM(J15:J16) -> 951011.28 | K14: =SUM(K15:K16) -> 930941.28 | L14: =SUM(L15:L16) -> 910871.28 | M14: =SUM(M15:M16) -> 0 | N14: =SUM(N15:N16) -> 0 | ... R14: =SUM(R15:R16) -> 0
A15: z tego: - rata kapitałowa | D15: x | E15: =SUM(G15:R15) -> 4950000 | F15: x | G15: 450000 | H15: 900000 | I15: 900000 | J15: 900000 | K15: 900000 | L15: 900000
A16: - odsetki | D16: x | E16: x | F16: =SUM(G16:R16) -> 454095.62 | G16: 199039.22 | H16: 91151.28 | I16: 71081.28 | J16: 51011.28 | K16: 30941.28 | L16: 10871.28
A17: 3. | B17: Bank Spółdzielczy w Wołczynie umowa Nr 2/JST/20/2 (z umowy 12.500.000,00zł, faktyczna kwota otrzymanego kredytu 2.500.000,00zł) | C17: 17.11.2020r. | D17: =E18+F19 -> 1732467.2 | E17: x | F17: x | G17: =SUM(G18:G19) -> 190740.68 | H17: =SUM(H18:H19) -> 262510.75 | I17: =SUM(I18:I19) -> 260286.79 | J17: =SUM(J18:J19) -> 258061.27 | K17: =SUM(K18:K19) -> 255853.02 | L17: =SUM(L18:L19) -> 253612.79 | M17: =SUM(M18:M19) -> 251401.94 | N17: =SUM(N18:N19) -> 0 | ... R17: =SUM(R18:R19) -> 0
A18: z tego: - rata kapitałowa | D18: x | E18: =SUM(G18:R18) -> 1625000.1 | F18: x | G18: 124999.98 | H18: 249999.96 | I18: 249999.96 | J18: 249999.96 | K18: 249999.96 | L18: 249999.96 | M18: 250000.36
A19: - odsetki | D19: x | E19: x | F19: =SUM(G19:R19) -> 107467.1 | G19: 65740.7 | H19: 12510.79 | I19: 10286.83 | J19: 8061.31 | K19: 5853.06 | L19: 3612.83 | M19: 1401.58
A20: 4. | B20: Bank Spółdzielczy w Wołczynie umowa Nr 1/JST/21/2 (z umowy 9.000.000,00zł, faktyczna kwota otrzymanego kredytu 6.000.000,00zł) | C20: 29.10.2021r. | D20: =E21+F22 -> 5067033.7 | E20: x | F20: x | G20: =SUM(G21:G22) -> 484746.15 | H20: =SUM(H21:H22) -> 700872.5 | I20: =SUM(I21:I22) -> 685452.5 | J20: =SUM(J21:J22) -> 670032.5 | K20: =SUM(K21:K22) -> 654612.5 | L20: =SUM(L21:L22) -> 639192.5 | M20: =SUM(M21:M22) -> 623772.5 | N20: =SUM(N21:N22) -> 608352.5 | ... R20: =SUM(R21:R22) -> 0
A21: z tego: - rata kapitałowa | D21: x | E21: =SUM(G21:R21) -> 4500000 | F21: x | G21: 300000 | H21: 600000 | I21: 600000 | J21: 600000 | K21: 600000 | L21: 600000 | M21: 600000 | N21: 600000
A22: - odsetki | D22: x | E22: x | F22: =SUM(G22:R22) -> 567033.65 | G22: 184746.15 | H22: 100872.5 | I22: 85452.5 | J22: 70032.5 | K22: 54612.5 | L22: 39192.5 | M22: 23772.5 | N22: 8352.5
A23: 5. | B23: Krakowski Bank Spółdzielczy umowa Nr 009/22/19 (z umowy 9.000.000,00zł, faktyczna kwota otrzymanego kredytu 6.000.000,00zł) | C23: 05.12.2022r. | D23: =E24+F25 -> 6741097.5 | E23: x | F23: x | G23: =SUM(G24:G25) -> 501617.51 | H23: =SUM(H24:H25) -> 935755 | I23: =SUM(I24:I25) -> 891235 | J23: =SUM(J24:J25) -> 846715 | K23: =SUM(K24:K25) -> 802195 | L23: =SUM(L24:L25) -> 757675 | M23: =SUM(M24:M25) -> 713155 | N23: =SUM(N24:N25) -> 668635 | ... R23: =SUM(R24:R25) -> 0
A24: z tego: - rata kapitałowa | D24: x | E24: =SUM(G24:R24) -> 5100000 | F24: x | G24: 300000 | H24: 600000 | I24: 600000 | J24: 600000 | K24: 600000 | L24: 600000 | M24: 600000 | N24: 600000 | O24: 600000
A25: - odsetki | D25: x | E25: x | F25: =SUM(G25:R25) -> 1641097.5 | G25: 201617.51 | H25: 335755 | I25: 291235 | J25: 246715 | K25: 202195 | L25: 157675 | M25: 113155 | N25: 68635 | O25: 24115
A26: 6. | B26: Bank Spółdzielczy w Leśnicy umowa Nr 10019849/00532/JST/23 (z umowy 4.000.000,00zł, faktyczna kwota otrzymanego kredytu 3.000.000,00zł) | C26: 05.12.2023r. | D26: =E27+F28 -> 3714569.7 | E26: x | F26: x | G26: =SUM(G27:G28) -> 238784.79 | H26: =SUM(H27:H28) -> 462113.04 | I26: =SUM(I27:I28) -> 443123.04 | J26: =SUM(J27:J28) -> 424133.03 | K26: =SUM(K27:K28) -> 405450.87 | L26: =SUM(L27:L28) -> 386153.04 | M26: =SUM(M27:M28) -> 367163.03 | N26: =SUM(N27:N28) -> 348173.03 | ... R26: =SUM(R27:R28) -> 0
A27: z tego: - rata kapitałowa | D27: x | E27: =SUM(G27:R27) -> 2850000 | F27: x | G27: 150000 | H27: 300000 | I27: 300000 | J27: 300000 | K27: 300000 | L27: 300000 | M27: 300000 | N27: 300000 | O27: 300000 | P27: 300000
A28: - odsetki | D28: x | E28: x | F28: =SUM(G28:R28) -> 864569.66 | G28: 88784.79 | H28: 162113.04 | I28: 143123.04 | J28: 124133.03 | K28: 105450.87 | L28: 86153.04 | M28: 67163.03 | N28: 48173.03 | O28: 29282.75 | P28: 10193.04
A29: 7. | B29: ………………………………...(.................zł) | D29: =E30+F31 -> 0 | E29: x | F29: x | G29: =SUM(G30:G31) -> 0 | H29: =SUM(H30:H31) -> 0 | I29: =SUM(I30:I31) -> 0 | J29: =SUM(J30:J31) -> 0 | K29: =SUM(K30:K31) -> 0 | L29: =SUM(L30:L31) -> 0 | M29: =SUM(M30:M31) -> 0 | N29: =SUM(N30:N31) -> 0 | ... R29: =SUM(R30:R31) -> 0
A30: z tego: - rata kapitałowa | D30: x | E30: =SUM(G30:R30) -> 0 | F30: x
A31: - odsetki | D31: x | E31: x | F31: =SUM(G31:R31) -> 0
A32: 8. | B32: ………………………………...(.................zł) | D32: =E33+F34 -> 0 | E32: x | F32: x | G32: =SUM(G33:G34) -> 0 | H32: =SUM(H33:H34) -> 0 | I32: =SUM(I33:I34) -> 0 | J32: =SUM(J33:J34) -> 0 | K32: =SUM(K33:K34) -> 0 | L32: =SUM(L33:L34) -> 0 | M32: =SUM(M33:M34) -> 0 | N32: =SUM(N33:N34) -> 0 | ... R32: =SUM(R33:R34) -> 0
A33: z tego: - rata kapitałowa | D33: x | E33: =SUM(G33:R33) -> 0 | F33: x
A34: - odsetki | D34: x | E34: x | F34: =SUM(G34:R34) -> 0
A35: 9. | B35: ………………………………...(.................zł) | D35: =E36+F37 -> 0 | E35: x | F35: x | G35: =SUM(G36:G37) -> 0 | H35: =SUM(H36:H37) -> 0 | I35: =SUM(I36:I37) -> 0 | J35: =SUM(J36:J37) -> 0 | K35: =SUM(K36:K37) -> 0 | L35: =SUM(L36:L37) -> 0 | M35: =SUM(M36:M37) -> 0 | N35: =SUM(N36:N37) -> 0 | ... R35: =SUM(R36:R37) -> 0
A36: z tego: - rata kapitałowa | D36: x | E36: =SUM(G36:R36) -> 0 | F36: x
A37: - odsetki | D37: x | E37: x | F37: =SUM(G37:R37) -> 0
A38: 10. | B38: ………………………………...(.................zł) | D38: =E39+F40 -> 0 | E38: x | F38: x | G38: =SUM(G39:G40) -> 0 | H38: =SUM(H39:H40) -> 0 | I38: =SUM(I39:I40) -> 0 | J38: =SUM(J39:J40) -> 0 | K38: =SUM(K39:K40) -> 0 | L38: =SUM(L39:L40) -> 0 | M38: =SUM(M39:M40) -> 0 | N38: =SUM(N39:N40) -> 0 | ... R38: =SUM(R39:R40) -> 0
A39: z tego: - rata kapitałowa | D39: x | E39: =SUM(G39:R39) -> 0 | F39: x
A40: - odsetki | D40: x | E40: x | F40: =SUM(G40:R40) -> 0
A41: 11. | B41: ………………………………...(.................zł) | D41: =E42+F43 -> 0 | E41: x | F41: x | G41: =SUM(G42:G43) -> 0 | H41: =SUM(H42:H43) -> 0 | I41: =SUM(I42:I43) -> 0 | J41: =SUM(J42:J43) -> 0 | K41: =SUM(K42:K43) -> 0 | L41: =SUM(L42:L43) -> 0 | M41: =SUM(M42:M43) -> 0 | N41: =SUM(N42:N43) -> 0 | ... R41: =SUM(R42:R43) -> 0
A42: z tego: - rata kapitałowa | D42: x | E42: =SUM(G42:R42) -> 0 | F42: x
A43: - odsetki | D43: x | E43: x | F43: =SUM(G43:R43) -> 0
A44: 12. | B44: ………………………………...(.................zł) | D44: =E45+F46 -> 0 | E44: x | F44: x | G44: =SUM(G45:G46) -> 0 | H44: =SUM(H45:H46) -> 0 | I44: =SUM(I45:I46) -> 0 | J44: =SUM(J45:J46) -> 0 | K44: =SUM(K45:K46) -> 0 | L44: =SUM(L45:L46) -> 0 | M44: =SUM(M45:M46) -> 0 | N44: =SUM(N45:N46) -> 0 | ... R44: =SUM(R45:R46) -> 0
A45: z tego: - rata kapitałowa | D45: x | E45: =SUM(G45:R45) -> 0 | F45: x
A46: - odsetki | D46: x | E46: x | F46: =SUM(G46:R46) -> 0
A47: 13. | B47: ………………………………...(.................zł) | D47: =E48+F49 -> 0 | E47: x | F47: x | G47: =SUM(G48:G49) -> 0 | H47: =SUM(H48:H49) -> 0 | I47: =SUM(I48:I49) -> 0 | J47: =SUM(J48:J49) -> 0 | K47: =SUM(K48:K49) -> 0 | L47: =SUM(L48:L49) -> 0 | M47: =SUM(M48:M49) -> 0 | N47: =SUM(N48:N49) -> 0 | ... R47: =SUM(R48:R49) -> 0
A48: z tego: - rata kapitałowa | D48: x | E48: =SUM(G48:R48) -> 0 | F48: x
A49: - odsetki | D49: x | E49: x | F49: =SUM(G49:R49) -> 0
A50: 14. | B50: ………………………………...(.................zł) | D50: =E51+F52 -> 0 | E50: x | F50: x | G50: =SUM(G51:G52) -> 0 | H50: =SUM(H51:H52) -> 0 | I50: =SUM(I51:I52) -> 0 | J50: =SUM(J51:J52) -> 0 | K50: =SUM(K51:K52) -> 0 | L50: =SUM(L51:L52) -> 0 | M50: =SUM(M51:M52) -> 0 | N50: =SUM(N51:N52) -> 0 | ... R50: =SUM(R51:R52) -> 0
A51: z tego: - rata kapitałowa | D51: x | E51: =SUM(G51:R51) -> 0 | F51: x
A52: - odsetki | D52: x | E52: x | F52: =SUM(G52:R52) -> 0
A53: 15. | B53: ………………………………...(.................zł) | D53: =E54+F55 -> 0 | E53: x | F53: x | G53: =SUM(G54:G55) -> 0 | H53: =SUM(H54:H55) -> 0 | I53: =SUM(I54:I55) -> 0 | J53: =SUM(J54:J55) -> 0 | K53: =SUM(K54:K55) -> 0 | L53: =SUM(L54:L55) -> 0 | M53: =SUM(M54:M55) -> 0 | N53: =SUM(N54:N55) -> 0 | ... R53: =SUM(R54:R55) -> 0
A54: z tego: - rata kapitałowa | D54: x | E54: =SUM(G54:R54) -> 0 | F54: x
A55: - odsetki | D55: x | E55: x | F55: =SUM(G55:R55) -> 0
A56: 16. | B56: ………………………………...(.................zł) | D56: =E57+F58 -> 0 | E56: x | F56: x | G56: =SUM(G57:G58) -> 0 | H56: =SUM(H57:H58) -> 0 | I56: =SUM(I57:I58) -> 0 | J56: =SUM(J57:J58) -> 0 | K56: =SUM(K57:K58) -> 0 | L56: =SUM(L57:L58) -> 0 | M56: =SUM(M57:M58) -> 0 | N56: =SUM(N57:N58) -> 0 | ... R56: =SUM(R57:R58) -> 0
A57: z tego: - rata kapitałowa | D57: x | E57: =SUM(G57:R57) -> 0 | F57: x
A58: - odsetki | D58: x | E58: x | F58: =SUM(G58:R58) -> 0
A59: 17. | B59: ………………………………...(.................zł) | D59: =E60+F61 -> 0 | E59: x | F59: x | G59: =SUM(G60:G61) -> 0 | H59: =SUM(H60:H61) -> 0 | I59: =SUM(I60:I61) -> 0 | J59: =SUM(J60:J61) -> 0 | K59: =SUM(K60:K61) -> 0 | L59: =SUM(L60:L61) -> 0 | M59: =SUM(M60:M61) -> 0 | N59: =SUM(N60:N61) -> 0 | ... R59: =SUM(R60:R61) -> 0
A60: z tego: - rata kapitałowa | D60: x | E60: =SUM(G60:R60) -> 0 | F60: x
A61: - odsetki | D61: x | E61: x | F61: =SUM(G61:R61) -> 0
A62: 18. | B62: ………………………………...(.................zł) | D62: =E63+F64 -> 0 | E62: x | F62: x | G62: =SUM(G63:G64) -> 0 | H62: =SUM(H63:H64) -> 0 | I62: =SUM(I63:I64) -> 0 | J62: =SUM(J63:J64) -> 0 | K62: =SUM(K63:K64) -> 0 | L62: =SUM(L63:L64) -> 0 | M62: =SUM(M63:M64) -> 0 | N62: =SUM(N63:N64) -> 0 | ... R62: =SUM(R63:R64) -> 0
A63: z tego: - rata kapitałowa | D63: x | E63: =SUM(G63:R63) -> 0 | F63: x
A64: - odsetki | D64: x | E64: x | F64: =SUM(G64:R64) -> 0
A65: 19. | B65: ………………………………...(.................zł) | D65: =E66+F67 -> 0 | E65: x | F65: x | G65: =SUM(G66:G67) -> 0 | H65: =SUM(H66:H67) -> 0 | I65: =SUM(I66:I67) -> 0 | J65: =SUM(J66:J67) -> 0 | K65: =SUM(K66:K67) -> 0 | L65: =SUM(L66:L67) -> 0 | M65: =SUM(M66:M67) -> 0 | N65: =SUM(N66:N67) -> 0 | ... R65: =SUM(R66:R67) -> 0
A66: z tego: - rata kapitałowa | D66: x | E66: =SUM(G66:R66) -> 0 | F66: x
A67: - odsetki | D67: x | E67: x | F67: =SUM(G67:R67) -> 0
A68: 20. | B68: ………………………………...(.................zł) | D68: =E69+F70 -> 0 | E68: x | F68: x | G68: =SUM(G69:G70) -> 0 | H68: =SUM(H69:H70) -> 0 | I68: =SUM(I69:I70) -> 0 | J68: =SUM(J69:J70) -> 0 | K68: =SUM(K69:K70) -> 0 | L68: =SUM(L69:L70) -> 0 | M68: =SUM(M69:M70) -> 0 | N68: =SUM(N69:N70) -> 0 | ... R68: =SUM(R69:R70) -> 0
A69: z tego: - rata kapitałowa | D69: x | E69: =SUM(G69:R69) -> 0 | F69: x
A70: - odsetki | D70: x | E70: x | F70: =SUM(G70:R70) -> 0
A71: 21. | B71: ………………………………...(.................zł) | D71: =E72+F73 -> 0 | E71: x | F71: x | G71: =SUM(G72:G73) -> 0 | H71: =SUM(H72:H73) -> 0 | I71: =SUM(I72:I73) -> 0 | J71: =SUM(J72:J73) -> 0 | K71: =SUM(K72:K73) -> 0 | L71: =SUM(L72:L73) -> 0 | M71: =SUM(M72:M73) -> 0 | N71: =SUM(N72:N73) -> 0 | ... R71: =SUM(R72:R73) -> 0
A72: z tego: - rata kapitałowa | D72: x | E72: =SUM(G72:R72) -> 0 | F72: x
A73: - odsetki | D73: x | E73: x | F73: =SUM(G73:R73) -> 0
A74: 22. | B74: ………………………………...(.................zł) | D74: =E75+F76 -> 0 | E74: x | F74: x | G74: =SUM(G75:G76) -> 0 | H74: =SUM(H75:H76) -> 0 | I74: =SUM(I75:I76) -> 0 | J74: =SUM(J75:J76) -> 0 | K74: =SUM(K75:K76) -> 0 | L74: =SUM(L75:L76) -> 0 | M74: =SUM(M75:M76) -> 0 | N74: =SUM(N75:N76) -> 0 | ... R74: =SUM(R75:R76) -> 0
A75: z tego: - rata kapitałowa | D75: x | E75: =SUM(G75:R75) -> 0 | F75: x
A76: - odsetki | D76: x | E76: x | F76: =SUM(G76:R76) -> 0
A77: 23. | B77: ………………………………...(.................zł) | D77: =E78+F79 -> 0 | E77: x | F77: x | G77: =SUM(G78:G79) -> 0 | H77: =SUM(H78:H79) -> 0 | I77: =SUM(I78:I79) -> 0 | J77: =SUM(J78:J79) -> 0 | K77: =SUM(K78:K79) -> 0 | L77: =SUM(L78:L79) -> 0 | M77: =SUM(M78:M79) -> 0 | N77: =SUM(N78:N79) -> 0 | ... R77: =SUM(R78:R79) -> 0
A78: z tego: - rata kapitałowa | D78: x | E78: =SUM(G78:R78) -> 0 | F78: x
A79: - odsetki | D79: x | E79: x | F79: =SUM(G79:R79) -> 0
A80: 24. | B80: ………………………………...(.................zł) | D80: =E81+F82 -> 0 | E80: x | F80: x | G80: =SUM(G81:G82) -> 0 | H80: =SUM(H81:H82) -> 0 | I80: =SUM(I81:I82) -> 0 | J80: =SUM(J81:J82) -> 0 | K80: =SUM(K81:K82) -> 0 | L80: =SUM(L81:L82) -> 0 | M80: =SUM(M81:M82) -> 0 | N80: =SUM(N81:N82) -> 0 | ... R80: =SUM(R81:R82) -> 0
A81: z tego: - rata kapitałowa | D81: x | E81: =SUM(G81:R81) -> 0 | F81: x
A82: - odsetki | D82: x | E82: x | F82: =SUM(G82:R82) -> 0
A83: 25. | B83: ………………………………...(.................zł) | D83: =E84+F85 -> 0 | E83: x | F83: x | G83: =SUM(G84:G85) -> 0 | H83: =SUM(H84:H85) -> 0 | I83: =SUM(I84:I85) -> 0 | J83: =SUM(J84:J85) -> 0 | K83: =SUM(K84:K85) -> 0 | L83: =SUM(L84:L85) -> 0 | M83: =SUM(M84:M85) -> 0 | N83: =SUM(N84:N85) -> 0 | ... R83: =SUM(R84:R85) -> 0
A84: z tego: - rata kapitałowa | D84: x | E84: =SUM(G84:R84) -> 0 | F84: x
A85: - odsetki | D85: x | E85: x | F85: =SUM(G85:R85) -> 0
A86: 26. | B86: ………………………………...(.................zł) | D86: =E87+F88 -> 0 | E86: x | F86: x | G86: =SUM(G87:G88) -> 0 | H86: =SUM(H87:H88) -> 0 | I86: =SUM(I87:I88) -> 0 | J86: =SUM(J87:J88) -> 0 | K86: =SUM(K87:K88) -> 0 | L86: =SUM(L87:L88) -> 0 | M86: =SUM(M87:M88) -> 0 | N86: =SUM(N87:N88) -> 0 | ... R86: =SUM(R87:R88) -> 0
A87: z tego: - rata kapitałowa | D87: x | E87: =SUM(G87:R87) -> 0 | F87: x
A88: - odsetki | D88: x | E88: x | F88: =SUM(G88:R88) -> 0
A89: 27. | B89: ………………………………...(.................zł) | D89: =E90+F91 -> 0 | E89: x | F89: x | G89: =SUM(G90:G91) -> 0 | H89: =SUM(H90:H91) -> 0 | I89: =SUM(I90:I91) -> 0 | J89: =SUM(J90:J91) -> 0 | K89: =SUM(K90:K91) -> 0 | L89: =SUM(L90:L91) -> 0 | M89: =SUM(M90:M91) -> 0 | N89: =SUM(N90:N91) -> 0 | ... R89: =SUM(R90:R91) -> 0
A90: z tego: - rata kapitałowa | D90: x | E90: =SUM(G90:R90) -> 0 | F90: x
A91: - odsetki | D91: x | E91: x | F91: =SUM(G91:R91) -> 0
A92: 28. | B92: ………………………………...(.................zł) | D92: =E93+F94 -> 0 | E92: x | F92: x | G92: =SUM(G93:G94) -> 0 | H92: =SUM(H93:H94) -> 0 | I92: =SUM(I93:I94) -> 0 | J92: =SUM(J93:J94) -> 0 | K92: =SUM(K93:K94) -> 0 | L92: =SUM(L93:L94) -> 0 | M92: =SUM(M93:M94) -> 0 | N92: =SUM(N93:N94) -> 0 | ... R92: =SUM(R93:R94) -> 0
A93: z tego: - rata kapitałowa | D93: x | E93: =SUM(G93:R93) -> 0 | F93: x
A94: - odsetki | D94: x | E94: x | F94: =SUM(G94:R94) -> 0
A95: 29. | B95: ………………………………...(.................zł) | D95: =E96+F97 -> 0 | E95: x | F95: x | G95: =SUM(G96:G97) -> 0 | H95: =SUM(H96:H97) -> 0 | I95: =SUM(I96:I97) -> 0 | J95: =SUM(J96:J97) -> 0 | K95: =SUM(K96:K97) -> 0 | L95: =SUM(L96:L97) -> 0 | M95: =SUM(M96:M97) -> 0 | N95: =SUM(N96:N97) -> 0 | ... R95: =SUM(R96:R97) -> 0
A96: z tego: - rata kapitałowa | D96: x | E96: =SUM(G96:R96) -> 0 | F96: x
A97: - odsetki | D97: x | E97: x | F97: =SUM(G97:R97) -> 0
A98: 30. | B98: ………………………………...(.................zł) | D98: =E99+F100 -> 0 | E98: x | F98: x | G98: =SUM(G99:G100) -> 0 | H98: =SUM(H99:H100) -> 0 | I98: =SUM(I99:I100) -> 0 | J98: =SUM(J99:J100) -> 0 | K98: =SUM(K99:K100) -> 0 | L98: =SUM(L99:L100) -> 0 | M98: =SUM(M99:M100) -> 0 | N98: =SUM(N99:N100) -> 0 | ... R98: =SUM(R99:R100) -> 0
A99: z tego: - rata kapitałowa | D99: x | E99: =SUM(G99:R99) -> 0 | F99: x
A100: - odsetki | D100: x | E100: x | F100: =SUM(G100:R100) -> 0
...

Sheet POŻYCZKI
B1: Zobowiązania finansowe jednostki samorządu terytorialnego z tytułu zaciągniętych pożyczek | S1: x
G2: stan aktualny na dzień: | I2: ='DANE ZBIORCZO'!B6 -> 30.06.2024 r.
A3: TERYT i Nazwa JST | D3: ='DANE ZBIORCZO'!B8 -> 1611053 | E3: ='DANE ZBIORCZO'!B7 -> Gmina Strzelce Opolskie
A4: Zaciągnięte POŻYCZKI: - Należy podać nazwę instytucji, wobec której j.s.t. ma zobowiązanie - Kwota zobowiązania wynikająca z umowy | C4: Uwagi o zobowiązaniu: - Data zawarcia umowy, - Data ewentualnych aneksów, | D4: ="niespłacone zobowiązania na dzień "&TEXT('DANE ZBIORCZO'!B6,"dd.mm.rrrr")&" (4+5+6+…+15)" -> niespłacone zobowiązania na dzień 30.06.2024 r. (4+5+6+…+15)
G5: II półrocze 2024 r. | H5: 2025 r. | I5: 2026 r. | J5: 2027 r. | K5: 2028 r. | L5: 2029 r. | M5: 2030 r. | N5: 2031 r. | O5: 2032 r. | P5: 2033 r. | Q5: 2034 r. | R5: 2035 r.
A6: 1 | C6: 2 | D6: 3 | G6: 4 | H6: 5 | I6: 6 | J6: 7 | K6: 8 | L6: 9 | M6: 10 | N6: 11 | O6: 12 | P6: 13 | Q6: 14 | R6: 15
A7: POŻYCZKI
A8: R A Z E M (1+2+...+10 itd), z tego: | D8: =SUM(D11:D65536) -> 83665.33 | E8: x | F8: x | G8: =SUM(G11,G14,G17,G20,G23,G26,G29,G32,G35,G38,G41,G44,G47,G50,G53,G56,G59,G62,G65,G68,G71,G74,G77,G80,G83,G86,G89,G92,G95,G98) -> 11156.99 | H8: =SUM(H11,H14,H17,H20,H23,H26,H29,H32,H35,H38,H41,H44,H47,H50,H53,H56,H59,H62,H65,H68,H71,H74,H77,H80,H83,H86,H89,H92,H95,H98) -> 21216.67 | I8: =SUM(I11,I14,I17,I20,I23,I26,I29,I32,I35,I38,I41,I44,I47,I50,I53,I56,I59,I62,I65,I68,I71,I74,I77,I80,I83,I86,I89,I92,I95,I98) -> 20816.67 | J8: =SUM(J11,J14,J17,J20,J23,J26,J29,J32,J35,J38,J41,J44,J47,J50,J53,J56,J59,J62,J65,J68,J71,J74,J77,J80,J83,J86,J89,J92,J95,J98) -> 20416.67 | K8: =SUM(K11,K14,K17,K20,K23,K26,K29,K32,K35,K38,K41,K44,K47,K50,K53,K56,K59,K62,K65,K68,K71,K74,K77,K80,K83,K86,K89,K92,K95,K98) -> 10058.33 | L8: =SUM(L11,L14,L17,L20,L23,L26,L29,L32,L35,L38,L41,L44,L47,L50,L53,L56,L59,L62,L65,L68,L71,L74,L77,L80,L83,L86,L89,L92,L95,L98) -> 0 | M8: =SUM(M11,M14,M17,M20,M23,M26,M29,M32,M35,M38,M41,M44,M47,M50,M53,M56,M59,M62,M65,M68,M71,M74,M77,M80,M83,M86,M89,M92,M95,M98) -> 0 | N8: =SUM(N11,N14,N17,N20,N23,N26,N29,N32,N35,N38,N41,N44,N47,N50,N53,N56,N59,N62,N65,N68,N71,N74,N77,N80,N83,N86,N89,N92,N95,N98) -> 0 | ... R8: =SUM(R11,R14,R17,R20,R23,R26,R29,R32,R35,R38,R41,R44,R47,R50,R53,R56,R59,R62,R65,R68,R71,R74,R77,R80,R83,R86,R89,R92,R95,R98) -> 0
A9: - rata kapitałowa | D9: x | E9: =SUM(E11:E65536) -> 80000 | F9: x | G9: =SUM(G12,G15,G18,G21,G24,G27,G30,G33,G36,G39,G42,G45,G48,G51,G54,G57,G60,G63,G66,G69,G72,G75,G78,G81,G84,G87,G90,G93,G96,G99) -> 10000 | H9: =SUM(H12,H15,H18,H21,H24,H27,H30,H33,H36,H39,H42,H45,H48,H51,H54,H57,H60,H63,H66,H69,H72,H75,H78,H81,H84,H87,H90,H93,H96,H99) -> 20000 | I9: =SUM(I12,I15,I18,I21,I24,I27,I30,I33,I36,I39,I42,I45,I48,I51,I54,I57,I60,I63,I66,I69,I72,I75,I78,I81,I84,I87,I90,I93,I96,I99) -> 20000 | J9: =SUM(J12,J15,J18,J21,J24,J27,J30,J33,J36,J39,J42,J45,J48,J51,J54,J57,J60,J63,J66,J69,J72,J75,J78,J81,J84,J87,J90,J93,J96,J99) -> 20000 | K9: =SUM(K12,K15,K18,K21,K24,K27,K30,K33,K36,K39,K42,K45,K48,K51,K54,K57,K60,K63,K66,K69,K72,K75,K78,K81,K84,K87,K90,K93,K96,K99) -> 10000 | L9: =SUM(L12,L15,L18,L21,L24,L27,L30,L33,L36,L39,L42,L45,L48,L51,L54,L57,L60,L63,L66,L69,L72,L75,L78,L81,L84,L87,L90,L93,L96,L99) -> 0 | M9: =SUM(M12,M15,M18,M21,M24,M27,M30,M33,M36,M39,M42,M45,M48,M51,M54,M57,M60,M63,M66,M69,M72,M75,M78,M81,M84,M87,M90,M93,M96,M99) -> 0 | N9: =SUM(N12,N15,N18,N21,N24,N27,N30,N33,N36,N39,N42,N45,N48,N51,N54,N57,N60,N63,N66,N69,N72,N75,N78,N81,N84,N87,N90,N93,N96,N99) -> 0 | ... R9: =SUM(R12,R15,R18,R21,R24,R27,R30,R33,R36,R39,R42,R45,R48,R51,R54,R57,R60,R63,R66,R69,R72,R75,R78,R81,R84,R87,R90,R93,R96,R99) -> 0
A10: - odsetki | D10: x | E10: x | F10: =SUM(F11:F65536) -> 3665.33 | G10: =SUM(G13,G16,G19,G22,G25,G28,G31,G34,G37,G40,G43,G46,G49,G52,G55,G58,G61,G64,G67,G70,G73,G76,G79,G82,G85,G88,G91,G94,G97,G100) -> 1156.99 | H10: =SUM(H13,H16,H19,H22,H25,H28,H31,H34,H37,H40,H43,H46,H49,H52,H55,H58,H61,H64,H67,H70,H73,H76,H79,H82,H85,H88,H91,H94,H97,H100) -> 1216.67 | I10: =SUM(I13,I16,I19,I22,I25,I28,I31,I34,I37,I40,I43,I46,I49,I52,I55,I58,I61,I64,I67,I70,I73,I76,I79,I82,I85,I88,I91,I94,I97,I100) -> 816.67 | J10: =SUM(J13,J16,J19,J22,J25,J28,J31,J34,J37,J40,J43,J46,J49,J52,J55,J58,J61,J64,J67,J70,J73,J76,J79,J82,J85,J88,J91,J94,J97,J100) -> 416.67 | K10: =SUM(K13,K16,K19,K22,K25,K28,K31,K34,K37,K40,K43,K46,K49,K52,K55,K58,K61,K64,K67,K70,K73,K76,K79,K82,K85,K88,K91,K94,K97,K100) -> 58.33 | L10: =SUM(L13,L16,L19,L22,L25,L28,L31,L34,L37,L40,L43,L46,L49,L52,L55,L58,L61,L64,L67,L70,L73,L76,L79,L82,L85,L88,L91,L94,L97,L100) -> 0 | M10: =SUM(M13,M16,M19,M22,M25,M28,M31,M34,M37,M40,M43,M46,M49,M52,M55,M58,M61,M64,M67,M70,M73,M76,M79,M82,M85,M88,M91,M94,M97,M100) -> 0 | N10: =SUM(N13,N16,N19,N22,N25,N28,N31,N34,N37,N40,N43,N46,N49,N52,N55,N58,N61,N64,N67,N70,N73,N76,N79,N82,N85,N88,N91,N94,N97,N100) -> 0 | ... R10: =SUM(R13,R16,R19,R22,R25,R28,R31,R34,R37,R40,R43,R46,R49,R52,R55,R58,R61,R64,R67,R70,R73,R76,R79,R82,R85,R88,R91,R94,R97,R100) -> 0
A11: 1. | B11: Wojewódzki Fundusz Ochrony Środowiska i Gospodarki Wodnej w Opolu umowa Nr 25/2018/G-54/OA-OE3/P (699.100,00zł) | C11: 03.08.2018r. | D11: =E12+F13 -> 83665.33 | E11: x | F11: x | G11: =SUM(G12:G13) -> 11156.99 | H11: =SUM(H12:H13) -> 21216.67 | I11: =SUM(I12:I13) -> 20816.67 | J11: =SUM(J12:J13) -> 20416.67 | K11: =SUM(K12:K13) -> 10058.33 | L11: =SUM(L12:L13) -> 0 | M11: =SUM(M12:M13) -> 0 | N11: =SUM(N12:N13) -> 0 | ... R11: =SUM(R12:R13) -> 0
A12: z tego: - rata kapitałowa | D12: x | E12: =SUM(G12:R12) -> 80000 | F12: x | G12: 10000 | H12: 20000 | I12: 20000 | J12: 20000 | K12: 10000
A13: - odsetki | D13: x | E13: x | F13: =SUM(G13:R13) -> 3665.33 | G13: 1156.99 | H13: 1216.67 | I13: 816.67 | J13: 416.67 | K13: 58.33
A14: 2. | B14: ………………………………...(.................zł) | D14: =E15+F16 -> 0 | E14: x | F14: x | G14: =SUM(G15:G16) -> 0 | H14: =SUM(H15:H16) -> 0 | I14: =SUM(I15:I16) -> 0 | J14: =SUM(J15:J16) -> 0 | K14: =SUM(K15:K16) -> 0 | L14: =SUM(L15:L16) -> 0 | M14: =SUM(M15:M16) -> 0 | N14: =SUM(N15:N16) -> 0 | ... R14: =SUM(R15:R16) -> 0
A15: z tego: - rata kapitałowa | D15: x | E15: =SUM(G15:R15) -> 0 | F15: x
A16: - odsetki | D16: x | E16: x | F16: =SUM(G16:R16) -> 0
A17: 3. | B17: ………………………………...(.................zł) | D17: =E18+F19 -> 0 | E17: x | F17: x | G17: =SUM(G18:G19) -> 0 | H17: =SUM(H18:H19) -> 0 | I17: =SUM(I18:I19) -> 0 | J17: =SUM(J18:J19) -> 0 | K17: =SUM(K18:K19) -> 0 | L17: =SUM(L18:L19) -> 0 | M17: =SUM(M18:M19) -> 0 | N17: =SUM(N18:N19) -> 0 | ... R17: =SUM(R18:R19) -> 0
A18: z tego: - rata kapitałowa | D18: x | E18: =SUM(G18:R18) -> 0 | F18: x
A19: - odsetki | D19: x | E19: x | F19: =SUM(G19:R19) -> 0
A20: 4. | B20: ………………………………...(.................zł) | D20: =E21+F22 -> 0 | E20: x | F20: x | G20: =SUM(G21:G22) -> 0 | H20: =SUM(H21:H22) -> 0 | I20: =SUM(I21:I22) -> 0 | J20: =SUM(J21:J22) -> 0 | K20: =SUM(K21:K22) -> 0 | L20: =SUM(L21:L22) -> 0 | M20: =SUM(M21:M22) -> 0 | N20: =SUM(N21:N22) -> 0 | ... R20: =SUM(R21:R22) -> 0
A21: z tego: - rata kapitałowa | D21: x | E21: =SUM(G21:R21) -> 0 | F21: x
A22: - odsetki | D22: x | E22: x | F22: =SUM(G22:R22) -> 0
A23: 5. | B23: ………………………………...(.................zł) | D23: =E24+F25 -> 0 | E23: x | F23: x | G23: =SUM(G24:G25) -> 0 | H23: =SUM(H24:H25) -> 0 | I23: =SUM(I24:I25) -> 0 | J23: =SUM(J24:J25) -> 0 | K23: =SUM(K24:K25) -> 0 | L23: =SUM(L24:L25) -> 0 | M23: =SUM(M24:M25) -> 0 | N23: =SUM(N24:N25) -> 0 | ... R23: =SUM(R24:R25) -> 0
A24: z tego: - rata kapitałowa | D24: x | E24: =SUM(G24:R24) -> 0 | F24: x
A25: - odsetki | D25: x | E25: x | F25: =SUM(G25:R25) -> 0
A26: 6. | B26: ………………………………...(.................zł) | D26: =E27+F28 -> 0 | E26: x | F26: x | G26: =SUM(G27:G28) -> 0 | H26: =SUM(H27:H28) -> 0 | I26: =SUM(I27:I28) -> 0 | J26: =SUM(J27:J28) -> 0 | K26: =SUM(K27:K28) -> 0 | L26: =SUM(L27:L28) -> 0 | M26: =SUM(M27:M28) -> 0 | N26: =SUM(N27:N28) -> 0 | ... R26: =SUM(R27:R28) -> 0
A27: z tego: - rata kapitałowa | D27: x | E27: =SUM(G27:R27) -> 0 | F27: x
A28: - odsetki | D28: x | E28: x | F28: =SUM(G28:R28) -> 0
A29: 7. | B29: ………………………………...(.................zł) | D29: =E30+F31 -> 0 | E29: x | F29: x | G29: =SUM(G30:G31) -> 0 | H29: =SUM(H30:H31) -> 0 | I29: =SUM(I30:I31) -> 0 | J29: =SUM(J30:J31) -> 0 | K29: =SUM(K30:K31) -> 0 | L29: =SUM(L30:L31) -> 0 | M29: =SUM(M30:M31) -> 0 | N29: =SUM(N30:N31) -> 0 | ... R29: =SUM(R30:R31) -> 0
A30: z tego: - rata kapitałowa | D30: x | E30: =SUM(G30:R30) -> 0 | F30: x
A31: - odsetki | D31: x | E31: x | F31: =SUM(G31:R31) -> 0
A32: 8. | B32: ………………………………...(.................zł) | D32: =E33+F34 -> 0 | E32: x | F32: x | G32: =SUM(G33:G34) -> 0 | H32: =SUM(H33:H34) -> 0 | I32: =SUM(I33:I34) -> 0 | J32: =SUM(J33:J34) -> 0 | K32: =SUM(K33:K34) -> 0 | L32: =SUM(L33:L34) -> 0 | M32: =SUM(M33:M34) -> 0 | N32: =SUM(N33:N34) -> 0 | ... R32: =SUM(R33:R34) -> 0
A33: z tego: - rata kapitałowa | D33: x | E33: =SUM(G33:R33) -> 0 | F33: x
A34: - odsetki | D34: x | E34: x | F34: =SUM(G34:R34) -> 0
A35: 9. | B35: ………………………………...(.................zł) | D35: =E36+F37 -> 0 | E35: x | F35: x | G35: =SUM(G36:G37) -> 0 | H35: =SUM(H36:H37) -> 0 | I35: =SUM(I36:I37) -> 0 | J35: =SUM(J36:J37) -> 0 | K35: =SUM(K36:K37) -> 0 | L35: =SUM(L36:L37) -> 0 | M35: =SUM(M36:M37) -> 0 | N35: =SUM(N36:N37) -> 0 | ... R35: =SUM(R36:R37) -> 0
A36: z tego: - rata kapitałowa | D36: x | E36: =SUM(G36:R36) -> 0 | F36: x
A37: - odsetki | D37: x | E37: x | F37: =SUM(G37:R37) -> 0
A38: 10. | B38: ………………………………...(.................zł) | D38: =E39+F40 -> 0 | E38: x | F38: x | G38: =SUM(G39:G40) -> 0 | H38: =SUM(H39:H40) -> 0 | I38: =SUM(I39:I40) -> 0 | J38: =SUM(J39:J40) -> 0 | K38: =SUM(K39:K40) -> 0 | L38: =SUM(L39:L40) -> 0 | M38: =SUM(M39:M40) -> 0 | N38: =SUM(N39:N40) -> 0 | ... R38: =SUM(R39:R40) -> 0
A39: z tego: - rata kapitałowa | D39: x | E39: =SUM(G39:R39) -> 0 | F39: x
A40: - odsetki | D40: x | E40: x | F40: =SUM(G40:R40) -> 0
A41: 11. | B41: ………………………………...(.................zł) | D41: =E42+F43 -> 0 | E41: x | F41: x | G41: =SUM(G42:G43) -> 0 | H41: =SUM(H42:H43) -> 0 | I41: =SUM(I42:I43) -> 0 | J41: =SUM(J42:J43) -> 0 | K41: =SUM(K42:K43) -> 0 | L41: =SUM(L42:L43) -> 0 | M41: =SUM(M42:M43) -> 0 | N41: =SUM(N42:N43) -> 0 | ... R41: =SUM(R42:R43) -> 0
A42: z tego: - rata kapitałowa | D42: x | E42: =SUM(G42:R42) -> 0 | F42: x
A43: - odsetki | D43: x | E43: x | F43: =SUM(G43:R43) -> 0
A44: 12. | B44: ………………………………...(.................zł) | D44: =E45+F46 -> 0 | E44: x | F44: x | G44: =SUM(G45:G46) -> 0 | H44: =SUM(H45:H46) -> 0 | I44: =SUM(I45:I46) -> 0 | J44: =SUM(J45:J46) -> 0 | K44: =SUM(K45:K46) -> 0 | L44: =SUM(L45:L46) -> 0 | M44: =SUM(M45:M46) -> 0 | N44: =SUM(N45:N46) -> 0 | ... R44: =SUM(R45:R46) -> 0
A45: z tego: - rata kapitałowa | D45: x | E45: =SUM(G45:R45) -> 0 | F45: x
A46: - odsetki | D46: x | E46: x | F46: =SUM(G46:R46) -> 0
A47: 13. | B47: ………………………………...(.................zł) | D47: =E48+F49 -> 0 | E47: x | F47: x | G47: =SUM(G48:G49) -> 0 | H47: =SUM(H48:H49) -> 0 | I47: =SUM(I48:I49) -> 0 | J47: =SUM(J48:J49) -> 0 | K47: =SUM(K48:K49) -> 0 | L47: =SUM(L48:L49) -> 0 | M47: =SUM(M48:M49) -> 0 | N47: =SUM(N48:N49) -> 0 | ... R47: =SUM(R48:R49) -> 0
A48: z tego: - rata kapitałowa | D48: x | E48: =SUM(G48:R48) -> 0 | F48: x
A49: - odsetki | D49: x | E49: x | F49: =SUM(G49:R49) -> 0
A50: 14. | B50: ………………………………...(.................zł) | D50: =E51+F52 -> 0 | E50: x | F50: x | G50: =SUM(G51:G52) -> 0 | H50: =SUM(H51:H52) -> 0 | I50: =SUM(I51:I52) -> 0 | J50: =SUM(J51:J52) -> 0 | K50: =SUM(K51:K52) -> 0 | L50: =SUM(L51:L52) -> 0 | M50: =SUM(M51:M52) -> 0 | N50: =SUM(N51:N52) -> 0 | ... R50: =SUM(R51:R52) -> 0
A51: z tego: - rata kapitałowa | D51: x | E51: =SUM(G51:R51) -> 0 | F51: x
A52: - odsetki | D52: x | E52: x | F52: =SUM(G52:R52) -> 0
A53: 15. | B53: ………………………………...(.................zł) | D53: =E54+F55 -> 0 | E53: x | F53: x | G53: =SUM(G54:G55) -> 0 | H53: =SUM(H54:H55) -> 0 | I53: =SUM(I54:I55) -> 0 | J53: =SUM(J54:J55) -> 0 | K53: =SUM(K54:K55) -> 0 | L53: =SUM(L54:L55) -> 0 | M53: =SUM(M54:M55) -> 0 | N53: =SUM(N54:N55) -> 0 | ... R53: =SUM(R54:R55) -> 0
A54: z tego: - rata kapitałowa | D54: x | E54: =SUM(G54:R54) -> 0 | F54: x
A55: - odsetki | D55: x | E55: x | F55: =SUM(G55:R55) -> 0
A56: 16. | B56: ………………………………...(.................zł) | D56: =E57+F58 -> 0 | E56: x | F56: x | G56: =SUM(G57:G58) -> 0 | H56: =SUM(H57:H58) -> 0 | I56: =SUM(I57:I58) -> 0 | J56: =SUM(J57:J58) -> 0 | K56: =SUM(K57:K58) -> 0 | L56: =SUM(L57:L58) -> 0 | M56: =SUM(M57:M58) -> 0 | N56: =SUM(N57:N58) -> 0 | ... R56: =SUM(R57:R58) -> 0
A57: z tego: - rata kapitałowa | D57: x | E57: =SUM(G57:R57) -> 0 | F57: x
A58: - odsetki | D58: x | E58: x | F58: =SUM(G58:R58) -> 0
A59: 17. | B59: ………………………………...(.................zł) | D59: =E60+F61 -> 0 | E59: x | F59: x | G59: =SUM(G60:G61) -> 0 | H59: =SUM(H60:H61) -> 0 | I59: =SUM(I60:I61) -> 0 | J59: =SUM(J60:J61) -> 0 | K59: =SUM(K60:K61) -> 0 | L59: =SUM(L60:L61) -> 0 | M59: =SUM(M60:M61) -> 0 | N59: =SUM(N60:N61) -> 0 | ... R59: =SUM(R60:R61) -> 0
A60: z tego: - rata kapitałowa | D60: x | E60: =SUM(G60:R60) -> 0 | F60: x
A61: - odsetki | D61: x | E61: x | F61: =SUM(G61:R61) -> 0
A62: 18. | B62: ………………………………...(.................zł) | D62: =E63+F64 -> 0 | E62: x | F62: x | G62: =SUM(G63:G64) -> 0 | H62: =SUM(H63:H64) -> 0 | I62: =SUM(I63:I64) -> 0 | J62: =SUM(J63:J64) -> 0 | K62: =SUM(K63:K64) -> 0 | L62: =SUM(L63:L64) -> 0 | M62: =SUM(M63:M64) -> 0 | N62: =SUM(N63:N64) -> 0 | ... R62: =SUM(R63:R64) -> 0
A63: z tego: - rata kapitałowa | D63: x | E63: =SUM(G63:R63) -> 0 | F63: x
A64: - odsetki | D64: x | E64: x | F64: =SUM(G64:R64) -> 0
A65: 19. | B65: ………………………………...(.................zł) | D65: =E66+F67 -> 0 | E65: x | F65: x | G65: =SUM(G66:G67) -> 0 | H65: =SUM(H66:H67) -> 0 | I65: =SUM(I66:I67) -> 0 | J65: =SUM(J66:J67) -> 0 | K65: =SUM(K66:K67) -> 0 | L65: =SUM(L66:L67) -> 0 | M65: =SUM(M66:M67) -> 0 | N65: =SUM(N66:N67) -> 0 | ... R65: =SUM(R66:R67) -> 0
A66: z tego: - rata kapitałowa | D66: x | E66: =SUM(G66:R66) -> 0 | F66: x
A67: - odsetki | D67: x | E67: x | F67: =SUM(G67:R67) -> 0
A68: 20. | B68: ………………………………...(.................zł) | D68: =E69+F70 -> 0 | E68: x | F68: x | G68: =SUM(G69:G70) -> 0 | H68: =SUM(H69:H70) -> 0 | I68: =SUM(I69:I70) -> 0 | J68: =SUM(J69:J70) -> 0 | K68: =SUM(K69:K70) -> 0 | L68: =SUM(L69:L70) -> 0 | M68: =SUM(M69:M70) -> 0 | N68: =SUM(N69:N70) -> 0 | ... R68: =SUM(R69:R70) -> 0
A69: z tego: - rata kapitałowa | D69: x | E69: =SUM(G69:R69) -> 0 | F69: x
A70: - odsetki | D70: x | E70: x | F70: =SUM(G70:R70) -> 0
A71: 21. | B71: ………………………………...(.................zł) | D71: =E72+F73 -> 0 | E71: x | F71: x | G71: =SUM(G72:G73) -> 0 | H71: =SUM(H72:H73) -> 0 | I71: =SUM(I72:I73) -> 0 | J71: =SUM(J72:J73) -> 0 | K71: =SUM(K72:K73) -> 0 | L71: =SUM(L72:L73) -> 0 | M71: =SUM(M72:M73) -> 0 | N71: =SUM(N72:N73) -> 0 | ... R71: =SUM(R72:R73) -> 0
A72: z tego: - rata kapitałowa | D72: x | E72: =SUM(G72:R72) -> 0 | F72: x
A73: - odsetki | D73: x | E73: x | F73: =SUM(G73:R73) -> 0
A74: 22. | B74: ………………………………...(.................zł) | D74: =E75+F76 -> 0 | E74: x | F74: x | G74: =SUM(G75:G76) -> 0 | H74: =SUM(H75:H76) -> 0 | I74: =SUM(I75:I76) -> 0 | J74: =SUM(J75:J76) -> 0 | K74: =SUM(K75:K76) -> 0 | L74: =SUM(L75:L76) -> 0 | M74: =SUM(M75:M76) -> 0 | N74: =SUM(N75:N76) -> 0 | ... R74: =SUM(R75:R76) -> 0
A75: z tego: - rata kapitałowa | D75: x | E75: =SUM(G75:R75) -> 0 | F75: x
A76: - odsetki | D76: x | E76: x | F76: =SUM(G76:R76) -> 0
A77: 23. | B77: ………………………………...(.................zł) | D77: =E78+F79 -> 0 | E77: x | F77: x | G77: =SUM(G78:G79) -> 0 | H77: =SUM(H78:H79) -> 0 | I77: =SUM(I78:I79) -> 0 | J77: =SUM(J78:J79) -> 0 | K77: =SUM(K78:K79) -> 0 | L77: =SUM(L78:L79) -> 0 | M77: =SUM(M78:M79) -> 0 | N77: =SUM(N78:N79) -> 0 | ... R77: =SUM(R78:R79) -> 0
A78: z tego: - rata kapitałowa | D78: x | E78: =SUM(G78:R78) -> 0 | F78: x
A79: - odsetki | D79: x | E79: x | F79: =SUM(G79:R79) -> 0
A80: 24. | B80: ………………………………...(.................zł) | D80: =E81+F82 -> 0 | E80: x | F80: x | G80: =SUM(G81:G82) -> 0 | H80: =SUM(H81:H82) -> 0 | I80: =SUM(I81:I82) -> 0 | J80: =SUM(J81:J82) -> 0 | K80: =SUM(K81:K82) -> 0 | L80: =SUM(L81:L82) -> 0 | M80: =SUM(M81:M82) -> 0 | N80: =SUM(N81:N82) -> 0 | ... R80: =SUM(R81:R82) -> 0
A81: z tego: - rata kapitałowa | D81: x | E81: =SUM(G81:R81) -> 0 | F81: x
A82: - odsetki | D82: x | E82: x | F82: =SUM(G82:R82) -> 0
A83: 25. | B83: ………………………………...(.................zł) | D83: =E84+F85 -> 0 | E83: x | F83: x | G83: =SUM(G84:G85) -> 0 | H83: =SUM(H84:H85) -> 0 | I83: =SUM(I84:I85) -> 0 | J83: =SUM(J84:J85) -> 0 | K83: =SUM(K84:K85) -> 0 | L83: =SUM(L84:L85) -> 0 | M83: =SUM(M84:M85) -> 0 | N83: =SUM(N84:N85) -> 0 | ... R83: =SUM(R84:R85) -> 0
A84: z tego: - rata kapitałowa | D84: x | E84: =SUM(G84:R84) -> 0 | F84: x
A85: - odsetki | D85: x | E85: x | F85: =SUM(G85:R85) -> 0
A86: 26. | B86: ………………………………...(.................zł) | D86: =E87+F88 -> 0 | E86: x | F86: x | G86: =SUM(G87:G88) -> 0 | H86: =SUM(H87:H88) -> 0 | I86: =SUM(I87:I88) -> 0 | J86: =SUM(J87:J88) -> 0 | K86: =SUM(K87:K88) -> 0 | L86: =SUM(L87:L88) -> 0 | M86: =SUM(M87:M88) -> 0 | N86: =SUM(N87:N88) -> 0 | ... R86: =SUM(R87:R88) -> 0
A87: z tego: - rata kapitałowa | D87: x | E87: =SUM(G87:R87) -> 0 | F87: x
A88: - odsetki | D88: x | E88: x | F88: =SUM(G88:R88) -> 0
A89: 27. | B89: ………………………………...(.................zł) | D89: =E90+F91 -> 0 | E89: x | F89: x | G89: =SUM(G90:G91) -> 0 | H89: =SUM(H90:H91) -> 0 | I89: =SUM(I90:I91) -> 0 | J89: =SUM(J90:J91) -> 0 | K89: =SUM(K90:K91) -> 0 | L89: =SUM(L90:L91) -> 0 | M89: =SUM(M90:M91) -> 0 | N89: =SUM(N90:N91) -> 0 | ... R89: =SUM(R90:R91) -> 0
A90: z tego: - rata kapitałowa | D90: x | E90: =SUM(G90:R90) -> 0 | F90: x
A91: - odsetki | D91: x | E91: x | F91: =SUM(G91:R91) -> 0
A92: 28. | B92: ………………………………...(.................zł) | D92: =E93+F94 -> 0 | E92: x | F92: x | G92: =SUM(G93:G94) -> 0 | H92: =SUM(H93:H94) -> 0 | I92: =SUM(I93:I94) -> 0 | J92: =SUM(J93:J94) -> 0 | K92: =SUM(K93:K94) -> 0 | L92: =SUM(L93:L94) -> 0 | M92: =SUM(M93:M94) -> 0 | N92: =SUM(N93:N94) -> 0 | ... R92: =SUM(R93:R94) -> 0
A93: z tego: - rata kapitałowa | D93: x | E93: =SUM(G93:R93) -> 0 | F93: x
A94: - odsetki | D94: x | E94: x | F94: =SUM(G94:R94) -> 0
A95: 29. | B95: ………………………………...(.................zł) | D95: =E96+F97 -> 0 | E95: x | F95: x | G95: =SUM(G96:G97) -> 0 | H95: =SUM(H96:H97) -> 0 | I95: =SUM(I96:I97) -> 0 | J95: =SUM(J96:J97) -> 0 | K95: =SUM(K96:K97) -> 0 | L95: =SUM(L96:L97) -> 0 | M95: =SUM(M96:M97) -> 0 | N95: =SUM(N96:N97) -> 0 | ... R95: =SUM(R96:R97) -> 0
A96: z tego: - rata kapitałowa | D96: x | E96: =SUM(G96:R96) -> 0 | F96: x
A97: - odsetki | D97: x | E97: x | F97: =SUM(G97:R97) -> 0
A98: 30. | B98: ………………………………...(.................zł) | D98: =E99+F100 -> 0 | E98: x | F98: x | G98: =SUM(G99:G100) -> 0 | H98: =SUM(H99:H100) -> 0 | I98: =SUM(I99:I100) -> 0 | J98: =SUM(J99:J100) -> 0 | K98: =SUM(K99:K100) -> 0 | L98: =SUM(L99:L100) -> 0 | M98: =SUM(M99:M100) -> 0 | N98: =SUM(N99:N100) -> 0 | ... R98: =SUM(R99:R100) -> 0
A99: z tego: - rata kapitałowa | D99: x | E99: =SUM(G99:R99) -> 0 | F99: x
A100: - odsetki | D100: x | E100: x | F100: =SUM(G100:R100) -> 0
...

Sheet PAP.WART-brak płynnego rynku wt
B1: Zobowiązania finansowe jednostki samorządu terytorialnego z tytułu wyemitowanych papierów wartościowych, dla których zbywalność jest ograniczona | S1: x
G2: stan aktualny na dzień: | I2: ='DANE ZBIORCZO'!B6 -> 30.06.2024 r.
A3: TERYT i Nazwa JST | D3: ='DANE ZBIORCZO'!B8 -> 1611053 | E3: ='DANE ZBIORCZO'!B7 -> Gmina Strzelce Opolskie
A4: Wyemitowane PAPIERY WARTOŚCIOWE, dla których zbywalność jest ograniczona: - Należy podać nazwę instytucji, wobec której j.s.t. ma zobowiązanie - Kwota zobowiązania wynikająca z umowy | C4: Uwagi o zobowiązaniu: - Data zawarcia umowy, - Data ewentualnych aneksów, | D4: ="niespłacone zobowiązania na dzień "&TEXT('DANE ZBIORCZO'!B6,"dd.mm.rrrr")&" (4+5+6+…+15)" -> niespłacone zobowiązania na dzień 30.06.2024 r. (4+5+6+…+15)
G5: II półrocze 2024 r. | H5: 2025 r. | I5: 2026 r. | J5: 2027 r. | K5: 2028 r. | L5: 2029 r. | M5: 2030 r. | N5: 2031 r. | O5: 2032 r. | P5: 2033 r. | Q5: 2034 r. | R5: 2035 r.
A6: 1 | C6: 2 | D6: 3 | G6: 4 | H6: 5 | I6: 6 | J6: 7 | K6: 8 | L6: 9 | M6: 10 | N6: 11 | O6: 12 | P6: 13 | Q6: 14 | R6: 15
A7: PAPIERY WARTOŚCIOWE, dla których zbywalność jest ograniczona (tzn. nie istnieje dla nich płynny rynek wtórny)
A8: R A Z E M (1+2+...+10 itd), z tego: | D8: =SUM(D11:D65536) -> 0 | E8: x | F8: x | G8: =SUM(G11,G14,G17,G20,G23,G26,G29,G32,G35,G38) -> 0 | H8: =SUM(H11,H14,H17,H20,H23,H26,H29,H32,H35,H38) -> 0 | I8: =SUM(I11,I14,I17,I20,I23,I26,I29,I32,I35,I38) -> 0 | J8: =SUM(J11,J14,J17,J20,J23,J26,J29,J32,J35,J38) -> 0 | K8: =SUM(K11,K14,K17,K20,K23,K26,K29,K32,K35,K38) -> 0 | L8: =SUM(L11,L14,L17,L20,L23,L26,L29,L32,L35,L38) -> 0 | M8: =SUM(M11,M14,M17,M20,M23,M26,M29,M32,M35,M38) -> 0 | N8: =SUM(N11,N14,N17,N20,N23,N26,N29,N32,N35,N38) -> 0 | ... R8: =SUM(R11,R14,R17,R20,R23,R26,R29,R32,R35,R38) -> 0
A9: - rata kapitałowa | D9: x | E9: =SUM(E11:E65536) -> 0 | F9: x | G9: =SUM(G12,G15,G18,G21,G24,G27,G30,G33,G36,G39) -> 0 | H9: =SUM(H12,H15,H18,H21,H24,H27,H30,H33,H36,H39) -> 0 | I9: =SUM(I12,I15,I18,I21,I24,I27,I30,I33,I36,I39) -> 0 | J9: =SUM(J12,J15,J18,J21,J24,J27,J30,J33,J36,J39) -> 0 | K9: =SUM(K12,K15,K18,K21,K24,K27,K30,K33,K36,K39) -> 0 | L9: =SUM(L12,L15,L18,L21,L24,L27,L30,L33,L36,L39) -> 0 | M9: =SUM(M12,M15,M18,M21,M24,M27,M30,M33,M36,M39) -> 0 | N9: =SUM(N12,N15,N18,N21,N24,N27,N30,N33,N36,N39) -> 0 | ... R9: =SUM(R12,R15,R18,R21,R24,R27,R30,R33,R36,R39) -> 0
A10: - odsetki | D10: x | E10: x | F10: =SUM(F11:F65536) -> 0 | G10: =SUM(G13,G16,G19,G22,G25,G28,G31,G34,G37,G40) -> 0 | H10: =SUM(H13,H16,H19,H22,H25,H28,H31,H34,H37,H40) -> 0 | I10: =SUM(I13,I16,I19,I22,I25,I28,I31,I34,I37,I40) -> 0 | J10: =SUM(J13,J16,J19,J22,J25,J28,J31,J34,J37,J40) -> 0 | K10: =SUM(K13,K16,K19,K22,K25,K28,K31,K34,K37,K40) -> 0 | L10: =SUM(L13,L16,L19,L22,L25,L28,L31,L34,L37,L40) -> 0 | M10: =SUM(M13,M16,M19,M22,M25,M28,M31,M34,M37,M40) -> 0 | N10: =SUM(N13,N16,N19,N22,N25,N28,N31,N34,N37,N40) -> 0 | ... R10: =SUM(R13,R16,R19,R22,R25,R28,R31,R34,R37,R40) -> 0
A11: 1. | B11: ………………………………...(.................zł) | D11: =E12+F13 -> 0 | E11: x | F11: x | G11: =SUM(G12:G13) -> 0 | H11: =SUM(H12:H13) -> 0 | I11: =SUM(I12:I13) -> 0 | J11: =SUM(J12:J13) -> 0 | K11: =SUM(K12:K13) -> 0 | L11: =SUM(L12:L13) -> 0 | M11: =SUM(M12:M13) -> 0 | N11: =SUM(N12:N13) -> 0 | ... R11: =SUM(R12:R13) -> 0
A12: z tego: - rata kapitałowa | D12: x | E12: =SUM(G12:R12) -> 0 | F12: x
A13: - odsetki | D13: x | E13: x | F13: =SUM(G13:R13) -> 0
A14: 2. | B14: ………………………………...(.................zł) | D14: =E15+F16 -> 0 | E14: x | F14: x | G14: =SUM(G15:G16) -> 0 | H14: =SUM(H15:H16) -> 0 | I14: =SUM(I15:I16) -> 0 | J14: =SUM(J15:J16) -> 0 | K14: =SUM(K15:K16) -> 0 | L14: =SUM(L15:L16) -> 0 | M14: =SUM(M15:M16) -> 0 | N14: =SUM(N15:N16) -> 0 | ... R14: =SUM(R15:R16) -> 0
A15: z tego: - rata kapitałowa | D15: x | E15: =SUM(G15:R15) -> 0 | F15: x
A16: - odsetki | D16: x | E16: x | F16: =SUM(G16:R16) -> 0
A17: 3. | B17: ………………………………...(.................zł) | D17: =E18+F19 -> 0 | E17: x | F17: x | G17: 0 | H17: =SUM(H18:H19) -> 0 | I17: =SUM(I18:I19) -> 0 | J17: =SUM(J18:J19) -> 0 | K17: =SUM(K18:K19) -> 0 | L17: =SUM(L18:L19) -> 0 | M17: =SUM(M18:M19) -> 0 | N17: =SUM(N18:N19) -> 0 | O17: =SUM(O18:O19) -> 0 | ... R17: =SUM(R18:R19) -> 0
A18: z tego: - rata kapitałowa | D18: x | E18: =SUM(G18:R18) -> 0 | F18: x
A19: - odsetki | D19: x | E19: x | F19: =SUM(G19:R19) -> 0
A20: 4. | B20: ………………………………...(.................zł) | D20: =E21+F22 -> 0 | E20: x | F20: x | G20: 0 | H20: =SUM(H21:H22) -> 0 | I20: =SUM(I21:I22) -> 0 | J20: =SUM(J21:J22) -> 0 | K20: =SUM(K21:K22) -> 0 | L20: =SUM(L21:L22) -> 0 | M20: =SUM(M21:M22) -> 0 | N20: =SUM(N21:N22) -> 0 | O20: =SUM(O21:O22) -> 0 | ... R20: =SUM(R21:R22) -> 0
A21: z tego: - rata kapitałowa | D21: x | E21: =SUM(G21:R21) -> 0 | F21: x
A22: - odsetki | D22: x | E22: x | F22: =SUM(G22:R22) -> 0
A23: 5. | B23: ………………………………...(.................zł) | D23: =E24+F25 -> 0 | E23: x | F23: x | G23: =SUM(G24:G25) -> 0 | H23: =SUM(H24:H25) -> 0 | I23: =SUM(I24:I25) -> 0 | J23: =SUM(J24:J25) -> 0 | K23: =SUM(K24:K25) -> 0 | L23: =SUM(L24:L25) -> 0 | M23: =SUM(M24:M25) -> 0 | N23: =SUM(N24:N25) -> 0 | ... R23: =SUM(R24:R25) -> 0
A24: z tego: - rata kapitałowa | D24: x | E24: =SUM(G24:R24) -> 0 | F24: x
A25: - odsetki | D25: x | E25: x | F25: =SUM(G25:R25) -> 0
A26: 6. | B26: ………………………………...(.................zł) | D26: =E27+F28 -> 0 | E26: x | F26: x | G26: =SUM(G27:G28) -> 0 | H26: =SUM(H27:H28) -> 0 | I26: =SUM(I27:I28) -> 0 | J26: =SUM(J27:J28) -> 0 | K26: =SUM(K27:K28) -> 0 | L26: =SUM(L27:L28) -> 0 | M26: =SUM(M27:M28) -> 0 | N26: =SUM(N27:N28) -> 0 | ... R26: =SUM(R27:R28) -> 0
A27: z tego: - rata kapitałowa | D27: x | E27: =SUM(G27:R27) -> 0 | F27: x
A28: - odsetki | D28: x | E28: x | F28: =SUM(G28:R28) -> 0
A29: 7. | B29: ………………………………...(.................zł) | D29: =E30+F31 -> 0 | E29: x | F29: x | G29: =SUM(G30:G31) -> 0 | H29: =SUM(H30:H31) -> 0 | I29: =SUM(I30:I31) -> 0 | J29: =SUM(J30:J31) -> 0 | K29: =SUM(K30:K31) -> 0 | L29: =SUM(L30:L31) -> 0 | M29: =SUM(M30:M31) -> 0 | N29: =SUM(N30:N31) -> 0 | ... R29: =SUM(R30:R31) -> 0
A30: z tego: - rata kapitałowa | D30: x | E30: =SUM(G30:R30) -> 0 | F30: x
A31: - odsetki | D31: x | E31: x | F31: =SUM(G31:R31) -> 0
A32: 8. | B32: ………………………………...(.................zł) | D32: =E33+F34 -> 0 | E32: x | F32: x | G32: =SUM(G33:G34) -> 0 | H32: =SUM(H33:H34) -> 0 | I32: =SUM(I33:I34) -> 0 | J32: =SUM(J33:J34) -> 0 | K32: =SUM(K33:K34) -> 0 | L32: =SUM(L33:L34) -> 0 | M32: =SUM(M33:M34) -> 0 | N32: =SUM(N33:N34) -> 0 | ... R32: =SUM(R33:R34) -> 0
A33: z tego: - rata kapitałowa | D33: x | E33: =SUM(G33:R33) -> 0 | F33: x
A34: - odsetki | D34: x | E34: x | F34: =SUM(G34:R34) -> 0
A35: 9. | B35: ………………………………...(.................zł) | D35: =E36+F37 -> 0 | E35: x | F35: x | G35: =SUM(G36:G37) -> 0 | H35: =SUM(H36:H37) -> 0 | I35: =SUM(I36:I37) -> 0 | J35: =SUM(J36:J37) -> 0 | K35: =SUM(K36:K37) -> 0 | L35: =SUM(L36:L37) -> 0 | M35: =SUM(M36:M37) -> 0 | N35: =SUM(N36:N37) -> 0 | ... R35: =SUM(R36:R37) -> 0
A36: z tego: - rata kapitałowa | D36: x | E36: =SUM(G36:R36) -> 0 | F36: x
A37: - odsetki | D37: x | E37: x | F37: =SUM(G37:R37) -> 0
A38: 10. | B38: ………………………………...(.................zł) | D38: =E39+F40 -> 0 | E38: x | F38: x | G38: =SUM(G39:G40) -> 0 | H38: =SUM(H39:H40) -> 0 | I38: =SUM(I39:I40) -> 0 | J38: =SUM(J39:J40) -> 0 | K38: =SUM(K39:K40) -> 0 | L38: =SUM(L39:L40) -> 0 | M38: =SUM(M39:M40) -> 0 | N38: =SUM(N39:N40) -> 0 | ... R38: =SUM(R39:R40) -> 0
A39: z tego: - rata kapitałowa | D39: x | E39: =SUM(G39:R39) -> 0 | F39: x
A40: - odsetki | D40: x | E40: x | F40: =SUM(G40:R40) -> 0
B42: Data sporządzenia: | C42: ='DANE ZBIORCZO'!B25 -> 23.07.2024r. | K42: ='DANE ZBIORCZO'!C34 -> Jan Wróblewski
B43: Imię i nazwisko osoby sporządzającej: | C43: ='DANE ZBIORCZO'!B26 -> Katarzyna Szufla | K43: …………………………………………………………………….
B44: Tel. do osoby sporządzającej: | C44: ='DANE ZBIORCZO'!B27 -> 77 40 49 328 | K44: Podpis Przewodniczącego Zarządu

Sheet PAP.WART. - płynny rynek wtórny
B1: Zobowiązania finansowe jednostki samorządu terytorialnego z tytułu wyemitowanych papierów wartościowych, dla których zbywalność nie jest ograniczona | S1: x
G2: stan aktualny na dzień: | I2: ='DANE ZBIORCZO'!B6 -> 30.06.2024 r.
A3: TERYT i Nazwa JST | D3: ='DANE ZBIORCZO'!B8 -> 1611053 | E3: ='DANE ZBIORCZO'!B7 -> Gmina Strzelce Opolskie
A4: Wyemitowane PAPIERY WARTOŚCIOWE, dla których zbywalność nie jest ograniczona: - Należy podać nazwę instytucji, wobec której j.s.t. ma zobowiązanie - Kwota zobowiązania wynikająca z umowy | C4: Uwagi o zobowiązaniu: - Data zawarcia umowy, - Data ewentualnych aneksów, | D4: ="niespłacone zobowiązania na dzień "&TEXT('DANE ZBIORCZO'!B6,"dd.mm.rrrr")&" (4+5+6+…+15)" -> niespłacone zobowiązania na dzień 30.06.2024 r. (4+5+6+…+15)
G5: II półrocze 2024 r. | H5: 2025 r. | I5: 2026 r. | J5: 2027 r. | K5: 2028 r. | L5: 2029 r. | M5: 2030 r. | N5: 2031 r. | O5: 2032 r. | P5: 2033 r. | Q5: 2034 r. | R5: 2035 r.
A6: 1 | C6: 2 | D6: 3 | G6: 4 | H6: 5 | I6: 6 | J6: 7 | K6: 8 | L6: 9 | M6: 10 | N6: 11 | O6: 12 | P6: 13 | Q6: 14 | R6: 15
A7: PAPIERY WARTOŚCIOWE, dla których zbywalność nie jest ograniczona (tzn. istnieje dla nich płynny rynek wtórny)
A8: R A Z E M (1+2+...+10 itd), z tego: | D8: =SUM(D11:D65536) -> 0 | E8: x | F8: x | G8: =SUM(G11,G14,G17,G20,G23,G26,G29,G32,G35,G38) -> 0 | H8: =SUM(H11,H14,H17,H20,H23,H26,H29,H32,H35,H38) -> 0 | I8: =SUM(I11,I14,I17,I20,I23,I26,I29,I32,I35,I38) -> 0 | J8: =SUM(J11,J14,J17,J20,J23,J26,J29,J32,J35,J38) -> 0 | K8: =SUM(K11,K14,K17,K20,K23,K26,K29,K32,K35,K38) -> 0 | L8: =SUM(L11,L14,L17,L20,L23,L26,L29,L32,L35,L38) -> 0 | M8: =SUM(M11,M14,M17,M20,M23,M26,M29,M32,M35,M38) -> 0 | N8: =SUM(N11,N14,N17,N20,N23,N26,N29,N32,N35,N38) -> 0 | ... R8: =SUM(R11,R14,R17,R20,R23,R26,R29,R32,R35,R38) -> 0
A9: - rata kapitałowa | D9: x | E9: =SUM(E11:E65536) -> 0 | F9: x | G9: =SUM(G12,G15,G18,G21,G24,G27,G30,G33,G36,G39) -> 0 | H9: =SUM(H12,H15,H18,H21,H24,H27,H30,H33,H36,H39) -> 0 | I9: =SUM(I12,I15,I18,I21,I24,I27,I30,I33,I36,I39) -> 0 | J9: =SUM(J12,J15,J18,J21,J24,J27,J30,J33,J36,J39) -> 0 | K9: =SUM(K12,K15,K18,K21,K24,K27,K30,K33,K36,K39) -> 0 | L9: =SUM(L12,L15,L18,L21,L24,L27,L30,L33,L36,L39) -> 0 | M9: =SUM(M12,M15,M18,M21,M24,M27,M30,M33,M36,M39) -> 0 | N9: =SUM(N12,N15,N18,N21,N24,N27,N30,N33,N36,N39) -> 0 | ... R9: =SUM(R12,R15,R18,R21,R24,R27,R30,R33,R36,R39) -> 0
A10: - odsetki | D10: x | E10: x | F10: =SUM(F11:F65536) -> 0 | G10: =SUM(G13,G16,G19,G22,G25,G28,G31,G34,G37,G40) -> 0 | H10: =SUM(H13,H16,H19,H22,H25,H28,H31,H34,H37,H40) -> 0 | I10: =SUM(I13,I16,I19,I22,I25,I28,I31,I34,I37,I40) -> 0 | J10: =SUM(J13,J16,J19,J22,J25,J28,J31,J34,J37,J40) -> 0 | K10: =SUM(K13,K16,K19,K22,K25,K28,K31,K34,K37,K40) -> 0 | L10: =SUM(L13,L16,L19,L22,L25,L28,L31,L34,L37,L40) -> 0 | M10: =SUM(M13,M16,M19,M22,M25,M28,M31,M34,M37,M40) -> 0 | N10: =SUM(N13,N16,N19,N22,N25,N28,N31,N34,N37,N40) -> 0 | ... R10: =SUM(R13,R16,R19,R22,R25,R28,R31,R34,R37,R40) -> 0
A11: 1. | B11: ………………………………...(.................zł) | D11: =E12+F13 -> 0 | E11: x | F11: x | G11: =SUM(G12:G13) -> 0 | H11: =SUM(H12:H13) -> 0 | I11: =SUM(I12:I13) -> 0 | J11: =SUM(J12:J13) -> 0 | K11: =SUM(K12:K13) -> 0 | L11: =SUM(L12:L13) -> 0 | M11: =SUM(M12:M13) -> 0 | N11: =SUM(N12:N13) -> 0 | ... R11: =SUM(R12:R13) -> 0
A12: z tego: - rata kapitałowa | D12: x | E12: =SUM(G12:R12) -> 0 | F12: x
A13: - odsetki | D13: x | E13: x | F13: =SUM(G13:R13) -> 0
A14: 2. | B14: ………………………………...(.................zł) | D14: =E15+F16 -> 0 | E14: x | F14: x | G14: =SUM(G15:G16) -> 0 | H14: =SUM(H15:H16) -> 0 | I14: =SUM(I15:I16) -> 0 | J14: =SUM(J15:J16) -> 0 | K14: =SUM(K15:K16) -> 0 | L14: =SUM(L15:L16) -> 0 | M14: =SUM(M15:M16) -> 0 | N14: =SUM(N15:N16) -> 0 | ... R14: =SUM(R15:R16) -> 0
A15: z tego: - rata kapitałowa | D15: x | E15: =SUM(G15:R15) -> 0 | F15: x
A16: - odsetki | D16: x | E16: x | F16: =SUM(G16:R16) -> 0
A17: 3. | B17: ………………………………...(.................zł) | D17: =E18+F19 -> 0 | E17: x | F17: x | G17: =SUM(G18:G19) -> 0 | H17: =SUM(H18:H19) -> 0 | I17: =SUM(I18:I19) -> 0 | J17: =SUM(J18:J19) -> 0 | K17: =SUM(K18:K19) -> 0 | L17: =SUM(L18:L19) -> 0 | M17: =SUM(M18:M19) -> 0 | N17: =SUM(N18:N19) -> 0 | ... R17: =SUM(R18:R19) -> 0
A18: z tego: - rata kapitałowa | D18: x | E18: =SUM(G18:R18) -> 0 | F18: x
A19: - odsetki | D19: x | E19: x | F19: =SUM(G19:R19) -> 0
A20: 4. | B20: ………………………………...(.................zł) | D20: =E21+F22 -> 0 | E20: x | F20: x | G20: =SUM(G21:G22) -> 0 | H20: =SUM(H21:H22) -> 0 | I20: =SUM(I21:I22) -> 0 | J20: =SUM(J21:J22) -> 0 | K20: =SUM(K21:K22) -> 0 | L20: =SUM(L21:L22) -> 0 | M20: =SUM(M21:M22) -> 0 | N20: =SUM(N21:N22) -> 0 | ... R20: =SUM(R21:R22) -> 0
A21: z tego: - rata kapitałowa | D21: x | E21: =SUM(G21:R21) -> 0 | F21: x
A22: - odsetki | D22: x | E22: x | F22: =SUM(G22:R22) -> 0
A23: 5. | B23: ………………………………...(.................zł) | D23: =E24+F25 -> 0 | E23: x | F23: x | G23: =SUM(G24:G25) -> 0 | H23: =SUM(H24:H25) -> 0 | I23: =SUM(I24:I25) -> 0 | J23: =SUM(J24:J25) -> 0 | K23: =SUM(K24:K25) -> 0 | L23: =SUM(L24:L25) -> 0 | M23: =SUM(M24:M25) -> 0 | N23: =SUM(N24:N25) -> 0 | ... R23: =SUM(R24:R25) -> 0
A24: z tego: - rata kapitałowa | D24: x | E24: =SUM(G24:R24) -> 0 | F24: x
A25: - odsetki | D25: x | E25: x | F25: =SUM(G25:R25) -> 0
A26: 6. | B26: ………………………………...(.................zł) | D26: =E27+F28 -> 0 | E26: x | F26: x | G26: =SUM(G27:G28) -> 0 | H26: =SUM(H27:H28) -> 0 | I26: =SUM(I27:I28) -> 0 | J26: =SUM(J27:J28) -> 0 | K26: =SUM(K27:K28) -> 0 | L26: =SUM(L27:L28) -> 0 | M26: =SUM(M27:M28) -> 0 | N26: =SUM(N27:N28) -> 0 | ... R26: =SUM(R27:R28) -> 0
A27: z tego: - rata kapitałowa | D27: x | E27: =SUM(G27:R27) -> 0 | F27: x
A28: - odsetki | D28: x | E28: x | F28: =SUM(G28:R28) -> 0
A29: 7. | B29: ………………………………...(.................zł) | D29: =E30+F31 -> 0 | E29: x | F29: x | G29: =SUM(G30:G31) -> 0 | H29: =SUM(H30:H31) -> 0 | I29: =SUM(I30:I31) -> 0 | J29: =SUM(J30:J31) -> 0 | K29: =SUM(K30:K31) -> 0 | L29: =SUM(L30:L31) -> 0 | M29: =SUM(M30:M31) -> 0 | N29: =SUM(N30:N31) -> 0 | ... R29: =SUM(R30:R31) -> 0
A30: z tego: - rata kapitałowa | D30: x | E30: =SUM(G30:R30) -> 0 | F30: x
A31: - odsetki | D31: x | E31: x | F31: =SUM(G31:R31) -> 0
A32: 8. | B32: ………………………………...(.................zł) | D32: =E33+F34 -> 0 | E32: x | F32: x | G32: =SUM(G33:G34) -> 0 | H32: =SUM(H33:H34) -> 0 | I32: =SUM(I33:I34) -> 0 | J32: =SUM(J33:J34) -> 0 | K32: =SUM(K33:K34) -> 0 | L32: =SUM(L33:L34) -> 0 | M32: =SUM(M33:M34) -> 0 | N32: =SUM(N33:N34) -> 0 | ... R32: =SUM(R33:R34) -> 0
A33: z tego: - rata kapitałowa | D33: x | E33: =SUM(G33:R33) -> 0 | F33: x
A34: - odsetki | D34: x | E34: x | F34: =SUM(G34:R34) -> 0
A35: 9. | B35: ………………………………...(.................zł) | D35: =E36+F37 -> 0 | E35: x | F35: x | G35: =SUM(G36:G37) -> 0 | H35: =SUM(H36:H37) -> 0 | I35: =SUM(I36:I37) -> 0 | J35: =SUM(J36:J37) -> 0 | K35: =SUM(K36:K37) -> 0 | L35: =SUM(L36:L37) -> 0 | M35: =SUM(M36:M37) -> 0 | N35: =SUM(N36:N37) -> 0 | ... R35: =SUM(R36:R37) -> 0
A36: z tego: - rata kapitałowa | D36: x | E36: =SUM(G36:R36) -> 0 | F36: x
A37: - odsetki | D37: x | E37: x | F37: =SUM(G37:R37) -> 0
A38: 10. | B38: ………………………………...(.................zł) | D38: =E39+F40 -> 0 | E38: x | F38: x | G38: =SUM(G39:G40) -> 0 | H38: =SUM(H39:H40) -> 0 | I38: =SUM(I39:I40) -> 0 | J38: =SUM(J39:J40) -> 0 | K38: =SUM(K39:K40) -> 0 | L38: =SUM(L39:L40) -> 0 | M38: =SUM(M39:M40) -> 0 | N38: =SUM(N39:N40) -> 0 | ... R38: =SUM(R39:R40) -> 0
A39: z tego: - rata kapitałowa | D39: x | E39: =SUM(G39:R39) -> 0 | F39: x
A40: - odsetki | D40: x | E40: x | F40: =SUM(G40:R40) -> 0
B42: Data sporządzenia: | C42: ='DANE ZBIORCZO'!B25 -> 23.07.2024r. | K42: ='DANE ZBIORCZO'!C34 -> Jan Wróblewski
B43: Imię i nazwisko osoby sporządzającej: | C43: ='DANE ZBIORCZO'!B26 -> Katarzyna Szufla | K43: …………………………………………………………………….
B44: Tel. do osoby sporządzającej: | C44: ='DANE ZBIORCZO'!B27 -> 77 40 49 328 | K44: Podpis Przewodniczącego Zarządu

Sheet INNE
B1: Zobowiązania finansowe jednostki samorządu terytorialnego z tytułu zaciągniętych innych zobowiązań* | S1: x
G2: stan aktualny na dzień: | I2: ='DANE ZBIORCZO'!B6 -> 30.06.2024 r.
A3: TERYT i Nazwa JST | D3: ='DANE ZBIORCZO'!B8 -> 1611053 | E3: ='DANE ZBIORCZO'!B7 -> Gmina Strzelce Opolskie
A4: Zaciągnięte INNE zobowiązania (art. 72 ust 1a ufp): - Należy podać nazwę instytucji, wobec której j.s.t. ma zobowiązanie - Kwota zobowiązania wynikająca z umowy | C4: Uwagi o zobowiązaniu: - Data zawarcia umowy, - Data ewentualnych aneksów, | D4: ="niespłacone zobowiązania na dzień "&TEXT('DANE ZBIORCZO'!B6,"dd.mm.rrrr")&" (4+5+6+…+15)" -> niespłacone zobowiązania na dzień 30.06.2024 r. (4+5+6+…+15)
G5: II półrocze 2024 r. | H5: 2025 r. | I5: 2026 r. | J5: 2027 r. | K5: 2028 r. | L5: 2029 r. | M5: 2030 r. | N5: 2031 r. | O5: 2032 r. | P5: 2033 r. | Q5: 2034 r. | R5: 2035 r.
A6: 1 | C6: 2 | D6: 3 | G6: 4 | H6: 5 | I6: 6 | J6: 7 | K6: 8 | L6: 9 | M6: 10 | N6: 11 | O6: 12 | P6: 13 | Q6: 14 | R6: 15
A7: INNE
A8: R A Z E M (1+2+...+10 itd), z tego: | D8: =SUM(D11:D65536) -> 0 | E8: x | F8: x | G8: =SUM(G11,G14,G17,G20,G23,G26,G29,G32,G35,G38) -> 0 | H8: =SUM(H11,H14,H17,H20,H23,H26,H29,H32,H35,H38) -> 0 | I8: =SUM(I11,I14,I17,I20,I23,I26,I29,I32,I35,I38) -> 0 | J8: =SUM(J11,J14,J17,J20,J23,J26,J29,J32,J35,J38) -> 0 | K8: =SUM(K11,K14,K17,K20,K23,K26,K29,K32,K35,K38) -> 0 | L8: =SUM(L11,L14,L17,L20,L23,L26,L29,L32,L35,L38) -> 0 | M8: =SUM(M11,M14,M17,M20,M23,M26,M29,M32,M35,M38) -> 0 | N8: =SUM(N11,N14,N17,N20,N23,N26,N29,N32,N35,N38) -> 0 | ... R8: =SUM(R11,R14,R17,R20,R23,R26,R29,R32,R35,R38) -> 0
A9: - rata kapitałowa | D9: x | E9: =SUM(E11:E65536) -> 0 | F9: x | G9: =SUM(G12,G15,G18,G21,G24,G27,G30,G33,G36,G39) -> 0 | H9: =SUM(H12,H15,H18,H21,H24,H27,H30,H33,H36,H39) -> 0 | I9: =SUM(I12,I15,I18,I21,I24,I27,I30,I33,I36,I39) -> 0 | J9: =SUM(J12,J15,J18,J21,J24,J27,J30,J33,J36,J39) -> 0 | K9: =SUM(K12,K15,K18,K21,K24,K27,K30,K33,K36,K39) -> 0 | L9: =SUM(L12,L15,L18,L21,L24,L27,L30,L33,L36,L39) -> 0 | M9: =SUM(M12,M15,M18,M21,M24,M27,M30,M33,M36,M39) -> 0 | N9: =SUM(N12,N15,N18,N21,N24,N27,N30,N33,N36,N39) -> 0 | ... R9: =SUM(R12,R15,R18,R21,R24,R27,R30,R33,R36,R39) -> 0
A10: - odsetki | D10: x | E10: x | F10: =SUM(F11:F65536) -> 0 | G10: =SUM(G13,G16,G19,G22,G25,G28,G31,G34,G37,G40) -> 0 | H10: =SUM(H13,H16,H19,H22,H25,H28,H31,H34,H37,H40) -> 0 | I10: =SUM(I13,I16,I19,I22,I25,I28,I31,I34,I37,I40) -> 0 | J10: =SUM(J13,J16,J19,J22,J25,J28,J31,J34,J37,J40) -> 0 | K10: =SUM(K13,K16,K19,K22,K25,K28,K31,K34,K37,K40) -> 0 | L10: =SUM(L13,L16,L19,L22,L25,L28,L31,L34,L37,L40) -> 0 | M10: =SUM(M13,M16,M19,M22,M25,M28,M31,M34,M37,M40) -> 0 | N10: =SUM(N13,N16,N19,N22,N25,N28,N31,N34,N37,N40) -> 0 | ... R10: =SUM(R13,R16,R19,R22,R25,R28,R31,R34,R37,R40) -> 0
A11: 1. | B11: ………………………………...(.................zł) | D11: =E12+F13 -> 0 | E11: x | F11: x | G11: =SUM(G12:G13) -> 0 | H11: =SUM(H12:H13) -> 0 | I11: =SUM(I12:I13) -> 0 | J11: =SUM(J12:J13) -> 0 | K11: =SUM(K12:K13) -> 0 | L11: =SUM(L12:L13) -> 0 | M11: =SUM(M12:M13) -> 0 | N11: =SUM(N12:N13) -> 0 | ... R11: =SUM(R12:R13) -> 0
A12: z tego: - rata kapitałowa | D12: x | E12: =SUM(G12:R12) -> 0 | F12: x
A13: - odsetki | D13: x | E13: x | F13: =SUM(G13:R13) -> 0
A14: 2. | B14: ………………………………...(.................zł) | D14: =E15+F16 -> 0 | E14: x | F14: x | G14: =SUM(G15:G16) -> 0 | H14: =SUM(H15:H16) -> 0 | I14: =SUM(I15:I16) -> 0 | J14: =SUM(J15:J16) -> 0 | K14: =SUM(K15:K16) -> 0 | L14: =SUM(L15:L16) -> 0 | M14: =SUM(M15:M16) -> 0 | N14: =SUM(N15:N16) -> 0 | ... R14: =SUM(R15:R16) -> 0
A15: z tego: - rata kapitałowa | D15: x | E15: =SUM(G15:R15) -> 0 | F15: x
A16: - odsetki | D16: x | E16: x | F16: =SUM(G16:R16) -> 0
A17: 3. | B17: ………………………………...(.................zł) | D17: =E18+F19 -> 0 | E17: x | F17: x | G17: =SUM(G18:G19) -> 0 | H17: =SUM(H18:H19) -> 0 | I17: =SUM(I18:I19) -> 0 | J17: =SUM(J18:J19) -> 0 | K17: =SUM(K18:K19) -> 0 | L17: =SUM(L18:L19) -> 0 | M17: =SUM(M18:M19) -> 0 | N17: =SUM(N18:N19) -> 0 | ... R17: =SUM(R18:R19) -> 0
A18: z tego: - rata kapitałowa | D18: x | E18: =SUM(G18:R18) -> 0 | F18: x
A19: - odsetki | D19: x | E19: x | F19: =SUM(G19:R19) -> 0
A20: 4. | B20: ………………………………...(.................zł) | D20: =E21+F22 -> 0 | E20: x | F20: x | G20: =SUM(G21:G22) -> 0 | H20: =SUM(H21:H22) -> 0 | I20: =SUM(I21:I22) -> 0 | J20: =SUM(J21:J22) -> 0 | K20: =SUM(K21:K22) -> 0 | L20: =SUM(L21:L22) -> 0 | M20: =SUM(M21:M22) -> 0 | N20: =SUM(N21:N22) -> 0 | ... R20: =SUM(R21:R22) -> 0
A21: z tego: - rata kapitałowa | D21: x | E21: =SUM(G21:R21) -> 0 | F21: x
A22: - odsetki | D22: x | E22: x | F22: =SUM(G22:R22) -> 0
A23: 5. | B23: ………………………………...(.................zł) | D23: =E24+F25 -> 0 | E23: x | F23: x | G23: =SUM(G24:G25) -> 0 | H23: =SUM(H24:H25) -> 0 | I23: =SUM(I24:I25) -> 0 | J23: =SUM(J24:J25) -> 0 | K23: =SUM(K24:K25) -> 0 | L23: =SUM(L24:L25) -> 0 | M23: =SUM(M24:M25) -> 0 | N23: =SUM(N24:N25) -> 0 | ... R23: =SUM(R24:R25) -> 0
A24: z tego: - rata kapitałowa | D24: x | E24: =SUM(G24:R24) -> 0 | F24: x
A25: - odsetki | D25: x | E25: x | F25: =SUM(G25:R25) -> 0
A26: 6. | B26: ………………………………...(.................zł) | D26: =E27+F28 -> 0 | E26: x | F26: x | G26: =SUM(G27:G28) -> 0 | H26: =SUM(H27:H28) -> 0 | I26: =SUM(I27:I28) -> 0 | J26: =SUM(J27:J28) -> 0 | K26: =SUM(K27:K28) -> 0 | L26: =SUM(L27:L28) -> 0 | M26: =SUM(M27:M28) -> 0 | N26: =SUM(N27:N28) -> 0 | ... R26: =SUM(R27:R28) -> 0
A27: z tego: - rata kapitałowa | D27: x | E27: =SUM(G27:R27) -> 0 | F27: x
A28: - odsetki | D28: x | E28: x | F28: =SUM(G28:R28) -> 0
A29: 7. | B29: ………………………………...(.................zł) | D29: =E30+F31 -> 0 | E29: x | F29: x | G29: =SUM(G30:G31) -> 0 | H29: =SUM(H30:H31) -> 0 | I29: =SUM(I30:I31) -> 0 | J29: =SUM(J30:J31) -> 0 | K29: =SUM(K30:K31) -> 0 | L29: =SUM(L30:L31) -> 0 | M29: =SUM(M30:M31) -> 0 | N29: =SUM(N30:N31) -> 0 | ... R29: =SUM(R30:R31) -> 0
A30: z tego: - rata kapitałowa | D30: x | E30: =SUM(G30:R30) -> 0 | F30: x
A31: - odsetki | D31: x | E31: x | F31: =SUM(G31:R31) -> 0
A32: 8. | B32: ………………………………...(.................zł) | D32: =E33+F34 -> 0 | E32: x | F32: x | G32: =SUM(G33:G34) -> 0 | H32: =SUM(H33:H34) -> 0 | I32: =SUM(I33:I34) -> 0 | J32: =SUM(J33:J34) -> 0 | K32: =SUM(K33:K34) -> 0 | L32: =SUM(L33:L34) -> 0 | M32: =SUM(M33:M34) -> 0 | N32: =SUM(N33:N34) -> 0 | ... R32: =SUM(R33:R34) -> 0
A33: z tego: - rata kapitałowa | D33: x | E33: =SUM(G33:R33) -> 0 | F33: x
A34: - odsetki | D34: x | E34: x | F34: =SUM(G34:R34) -> 0
A35: 9. | B35: ………………………………...(.................zł) | D35: =E36+F37 -> 0 | E35: x | F35: x | G35: =SUM(G36:G37) -> 0 | H35: =SUM(H36:H37) -> 0 | I35: =SUM(I36:I37) -> 0 | J35: =SUM(J36:J37) -> 0 | K35: =SUM(K36:K37) -> 0 | L35: =SUM(L36:L37) -> 0 | M35: =SUM(M36:M37) -> 0 | N35: =SUM(N36:N37) -> 0 | ... R35: =SUM(R36:R37) -> 0
A36: z tego: - rata kapitałowa | D36: x | E36: =SUM(G36:R36) -> 0 | F36: x
A37: - odsetki | D37: x | E37: x | F37: =SUM(G37:R37) -> 0
A38: 10. | B38: ………………………………...(.................zł) | D38: =E39+F40 -> 0 | E38: x | F38: x | G38: =SUM(G39:G40) -> 0 | H38: =SUM(H39:H40) -> 0 | I38: =SUM(I39:I40) -> 0 | J38: =SUM(J39:J40) -> 0 | K38: =SUM(K39:K40) -> 0 | L38: =SUM(L39:L40) -> 0 | M38: =SUM(M39:M40) -> 0 | N38: =SUM(N39:N40) -> 0 | ... R38: =SUM(R39:R40) -> 0
A39: z tego: - rata kapitałowa | D39: x | E39: =SUM(G39:R39) -> 0 | F39: x
A40: - odsetki | D40: x | E40: x | F40: =SUM(G40:R40) -> 0
B41: * Art. 72 ust. 1a ustawy o finansach publicznych - (...) zobowiązania finansowe, które wywołują skutki ekonomiczne podobne do skutków wynikających z papierów wartościowych opiewających na wierzytelności pieniężne, umów kredytów i pożyczek oraz przyjętych depozytów.
B42: Według § 3 pkt 2 rozporządzenia Ministra Finansów z dnia 28 grudnia 2011 r. w sprawie szczegółowego sposobu klasyfikacji tytułów dłużnych zaliczanych do państwowego długu publicznego (t.j. Dz.U. z 2023 r., poz. 58) kredyty i pożyczki, przy czym do tej kategorii, oprócz umów kredytu i pożyczek, zalicza się również umowy o partnerstwie publiczno-prywatnym oraz umowy o poprawę efektywności energetycznej, które mają wpływ na poziom długu publicznego, dłużne papiery wartościowe, których zbywalność jest ograniczona, umowy sprzedaży, w których cena jest płatna w ratach, umowy leasingu zawarte z producentem lub finansującym, w których ryzyko i korzyści z tytułu własności są przeniesione na korzystającego z rzeczy, a także umowy nienazwane o terminie zapłaty dłuższym niż rok, związane z finansowaniem usług, dostaw, robót budowlanych, które wywołują skutki ekonomiczne podobne do umowy pożyczki lub kredytu. W tym arkuszu należy ująć te zobowiązania, których nie ujęto w arkuszach od 3 do 6.
B43: Data sporządzenia: | C43: ='DANE ZBIORCZO'!B25 -> 23.07.2024r. | K43: ='DANE ZBIORCZO'!C34 -> Jan Wróblewski
B44: Imię i nazwisko osoby sporządzającej: | C44: ='DANE ZBIORCZO'!B26 -> Katarzyna Szufla | K44: …………………………………………………………………….
B45: Tel. do osoby sporządzającej: | C45: ='DANE ZBIORCZO'!B27 -> 77 40 49 328 | K45: Podpis Przewodniczącego Zarządu

Sheet PORĘCZENIA
B1: Zobowiązania finansowe jednostki samorządu terytorialnego z tytułu udzielonych poręczeń | S1: x
G2: stan aktualny na dzień: | I2: ='DANE ZBIORCZO'!B6 -> 30.06.2024 r.
A3: TERYT i Nazwa JST | D3: ='DANE ZBIORCZO'!B8 -> 1611053 | E3: ='DANE ZBIORCZO'!B7 -> Gmina Strzelce Opolskie
A4: Udzielone PORĘCZENIA: - Należy podać nazwę instytucji (bank, WFOŚiGW itp.), wobec której j.s.t. może mieć/ma zobowiązanie - Kwota zobowiązania wynikająca z umowy | C4: Uwagi o poręczeniu: - Nazwa podmiotu, któremu udzielono poręczenia - Data zawarcia umowy, - Data ewentualnych aneksów, | D4: ="niespłacone zobowiązania na dzień "&TEXT('DANE ZBIORCZO'!B6,"dd.mm.rrrr")&" (4+5+6+…+15)" -> niespłacone zobowiązania na dzień 30.06.2024 r. (4+5+6+…+15)
G5: II półrocze 2024 r. | H5: 2025 r. | I5: 2026 r. | J5: 2027 r. | K5: 2028 r. | L5: 2029 r. | M5: 2030 r. | N5: 2031 r. | O5: 2032 r. | P5: 2033 r. | Q5: 2034 r. | R5: 2035 r.
A6: 1 | C6: 2 | D6: 3 | G6: 4 | H6: 5 | I6: 6 | J6: 7 | K6: 8 | L6: 9 | M6: 10 | N6: 11 | O6: 12 | P6: 13 | Q6: 14 | R6: 15
A7: PORĘCZENIA
A8: R A Z E M (1+2+...+10 itd), z tego: | D8: =SUM(D11:D65536) -> 0 | E8: x | F8: x | G8: =SUM(G11,G14,G17,G20,G23) -> 0 | H8: =SUM(H11,H14,H17,H20,H23) -> 0 | I8: =SUM(I11,I14,I17,I20,I23) -> 0 | J8: =SUM(J11,J14,J17,J20,J23) -> 0 | K8: =SUM(K11,K14,K17,K20,K23) -> 0 | L8: =SUM(L11,L14,L17,L20,L23) -> 0 | M8: =SUM(M11,M14,M17,M20,M23) -> 0 | N8: =SUM(N11,N14,N17,N20,N23) -> 0 | ... R8: =SUM(R11,R14,R17,R20,R23) -> 0
A9: - rata kapitałowa | D9: x | E9: =SUM(E11:E65536) -> 0 | F9: x | G9: =SUM(G12,G15,G18,G21,G24) -> 0 | H9: =SUM(H12,H15,H18,H21,H24) -> 0 | I9: =SUM(I12,I15,I18,I21,I24) -> 0 | J9: =SUM(J12,J15,J18,J21,J24) -> 0 | K9: =SUM(K12,K15,K18,K21,K24) -> 0 | L9: =SUM(L12,L15,L18,L21,L24) -> 0 | M9: =SUM(M12,M15,M18,M21,M24) -> 0 | N9: =SUM(N12,N15,N18,N21,N24) -> 0 | ... R9: =SUM(R12,R15,R18,R21,R24) -> 0
A10: - odsetki | D10: x | E10: x | F10: =SUM(F11:F65536) -> 0 | G10: =SUM(G13,G16,G19,G22,G25) -> 0 | H10: =SUM(H13,H16,H19,H22,H25) -> 0 | I10: =SUM(I13,I16,I19,I22,I25) -> 0 | J10: =SUM(J13,J16,J19,J22,J25) -> 0 | K10: =SUM(K13,K16,K19,K22,K25) -> 0 | L10: =SUM(L13,L16,L19,L22,L25) -> 0 | M10: =SUM(M13,M16,M19,M22,M25) -> 0 | N10: =SUM(N13,N16,N19,N22,N25) -> 0 | ... R10: =SUM(R13,R16,R19,R22,R25) -> 0
A11: 1. | B11: ………………………………...(.................zł) | D11: =E12+F13 -> 0 | E11: x | F11: x | G11: =SUM(G12:G13) -> 0 | H11: =SUM(H12:H13) -> 0 | I11: =SUM(I12:I13) -> 0 | J11: =SUM(J12:J13) -> 0 | K11: =SUM(K12:K13) -> 0 | L11: =SUM(L12:L13) -> 0 | M11: =SUM(M12:M13) -> 0 | N11: =SUM(N12:N13) -> 0 | ... R11: =SUM(R12:R13) -> 0
A12: z tego: - rata kapitałowa | D12: x | E12: =SUM(G12:R12) -> 0 | F12: x
A13: - odsetki | D13: x | E13: x | F13: =SUM(G13:R13) -> 0
A14: 2. | B14: ………………………………...(.................zł) | D14: =E15+F16 -> 0 | E14: x | F14: x | G14: =SUM(G15:G16) -> 0 | H14: =SUM(H15:H16) -> 0 | I14: =SUM(I15:I16) -> 0 | J14: =SUM(J15:J16) -> 0 | K14: =SUM(K15:K16) -> 0 | L14: =SUM(L15:L16) -> 0 | M14: =SUM(M15:M16) -> 0 | N14: =SUM(N15:N16) -> 0 | ... R14: =SUM(R15:R16) -> 0
A15: z tego: - rata kapitałowa | D15: x | E15: =SUM(G15:R15) -> 0 | F15: x
A16: - odsetki | D16: x | E16: x | F16: =SUM(G16:R16) -> 0
A17: 3. | B17: ………………………………...(.................zł) | D17: =E18+F19 -> 0 | E17: x | F17: x | G17: =SUM(G18:G19) -> 0 | H17: =SUM(H18:H19) -> 0 | I17: =SUM(I18:I19) -> 0 | J17: =SUM(J18:J19) -> 0 | K17: =SUM(K18:K19) -> 0 | L17: =SUM(L18:L19) -> 0 | M17: =SUM(M18:M19) -> 0 | N17: =SUM(N18:N19) -> 0 | ... R17: =SUM(R18:R19) -> 0
A18: z tego: - rata kapitałowa | D18: x | E18: =SUM(G18:R18) -> 0 | F18: x
A19: - odsetki | D19: x | E19: x | F19: =SUM(G19:R19) -> 0
A20: 4. | B20: ………………………………...(.................zł) | D20: =E21+F22 -> 0 | E20: x | F20: x | G20: =SUM(G21:G22) -> 0 | H20: =SUM(H21:H22) -> 0 | I20: =SUM(I21:I22) -> 0 | J20: =SUM(J21:J22) -> 0 | K20: =SUM(K21:K22) -> 0 | L20: =SUM(L21:L22) -> 0 | M20: =SUM(M21:M22) -> 0 | N20: =SUM(N21:N22) -> 0 | ... R20: =SUM(R21:R22) -> 0
A21: z tego: - rata kapitałowa | D21: x | E21: =SUM(G21:R21) -> 0 | F21: x
A22: - odsetki | D22: x | E22: x | F22: =SUM(G22:R22) -> 0
A23: 5. | B23: ………………………………...(.................zł) | D23: =E24+F25 -> 0 | E23: x | F23: x | G23: =SUM(G24:G25) -> 0 | H23: =SUM(H24:H25) -> 0 | I23: =SUM(I24:I25) -> 0 | J23: =SUM(J24:J25) -> 0 | K23: =SUM(K24:K25) -> 0 | L23: =SUM(L24:L25) -> 0 | M23: =SUM(M24:M25) -> 0 | N23: =SUM(N24:N25) -> 0 | ... R23: =SUM(R24:R25) -> 0
A24: z tego: - rata kapitałowa | D24: x | E24: =SUM(G24:R24) -> 0 | F24: x
A25: - odsetki | D25: x | E25: x | F25: =SUM(G25:R25) -> 0
B27: Data sporządzenia: | C27: ='DANE ZBIORCZO'!B25 -> 23.07.2024r. | K27: ='DANE ZBIORCZO'!C34 -> Jan Wróblewski
B28: Imię i nazwisko osoby sporządzającej: | C28: ='DANE ZBIORCZO'!B26 -> Katarzyna Szufla | K28: …………………………………………………………………….
B29: Tel. do osoby sporządzającej: | C29: ='DANE ZBIORCZO'!B27 -> 77 40 49 328 | K29: Podpis Przewodniczącego Zarządu

Sheet Pozostałe operacje finansowe
B1: Jeśli dane zjawisko nie występuje to w kol z kwotami wpisać 0, a w kol. opisowych wpisać "NIE DOTYCZY"
B3: Nazwa JST: | C3: =KREDYTY!E3 -> Gmina Strzelce Opolskie
B4: Symbol TERYT: | C4: =KREDYTY!D3 -> 1611053
B6: I. Zobowiązania finansowe | C6: stan na dzień: | D6: ='DANE ZBIORCZO'!B6 -> 30.06.2024 r.
B7: W przypadku wystąpienia operacji finansowych, o których mowa w poniższej tabeli, należy w uwagach podać informacje zawierające datę zawarcia umowy, okres, na jaki została zawarta, strony umowy, kwotę operacji.
A8: Lp. | B8: Wyszczególnienie operacji finansowych dotyczących: | C8: Kwota | D8: Uwagi
A9: 1 | B9: finansowania w pozabankowych instytucjach finansowych (tj. firmach pożyczkowych, parabankach, które prowadzą działalność polegającą na gromadzeniu kapitału i obarczeniu go ryzykiem bez odpowiedniej licencji Komisji Nadzoru Finansowego) | C9: 0 | D9: NIE DOTYCZY
A10: 2 | B10: leasingu finansowego | C10: 0 | D10: NIE DOTYCZY
A11: 3 | B11: leasingu operacyjnego | C11: 0 | D11: NIE DOTYCZY
A12: 4 | B12: leasingu zwrotnego nieruchomości | C12: 0 | D12: NIE DOTYCZY
A13: 5 | B13: sprzedaży zwrotnej tj. transakcji, w których obecny właściciel przedmiotu (środka trwałego) sprzedaje go i jednocześnie zawiera z kupującym (teraz już leasingodawcą/ wydzierżawiającym/wynajmującym) umowę leasingu/ dzierzawy/najmu. Były właściciel, teraz leasingobiorca/dzierżawca/najemca, otrzymuje możliwość użytkowania przedmiotu leasingu/dzierżawy/najmu i często zapewnia sobie prawo odkupienia po wygaśnięciu umowy | C13: 0 | D13: NIE DOTYCZY
A14: 6 | B14: finansowania z wykorzystaniem podmiotów trzecich przejmujących wierzytelności niewymagalne i oferujących zamianę harmonogramu ich spłaty na korzystniejszą dla samorządu | C14: 0 | D14: NIE DOTYCZY
A15: 7 | B15: subrogacji wymagalnych wierzytelności od samorządu i ich zamiany na wierzytelności niewymagalne | C15: 0 | D15: NIE DOTYCZY
A16: 8 | B16: sprzedaży przez samorząd papierów wartościowych lub innych praw własności (np. akcji/udziałów w spółkach komunalnych) z przyrzeczeniem ich odkupu (buy-sell-back) | C16: 0 | D16: NIE DOTYCZY
A17: 9 | B17: zakupu przez samorząd własnych dłużnych papierów wartościowych z przyrzeczeniem ich odsprzedaży (sell-buy-back), np. w celu obniżenia zadłużenia na dzień sprawozdawczy | C17: 0 | D17: NIE DOTYCZY
A18: 10 | B18: operacji krzyżowych wymiany papierów wartościowych, polegających na jednoczesnym przeprowadzeniu operacji buy-sell-back i sell-buy-back | C18: 0 | D18: NIE DOTYCZY
A19: 11 | B19: transferu długu do spółek komunalnych, obejmowania udziałów w spółkach komunalnych i dopłat zwrotnych do spółek | C19: 0 | D19: NIE DOTYCZY
A20: 12 | B20: finansowania z wykorzystaniem funduszy inwestycyjnych | C20: 0 | D20: NIE DOTYCZY
... A23: 15 | B23: inne – opisać jakie | C23: 23716550 | D23: Umowy ustanowienia zastawu rejestrowego na udziałach w Spółce kolejno: umowa z dn. 19.01.2015r na kwotę 4.950.000,00; umowa z dn. 19.05.2015r. na kwotę 1.044.450,00 oraz umowa z dn. 20.07.2017r. na kwotę 17.722.100,00
B26: Data sporządzenia: | C26: ='DANE ZBIORCZO'!B25 -> 23.07.2024r.
B27: Imię i nazwisko osoby sporządzającej: | C27: ='DANE ZBIORCZO'!B26 -> Katarzyna Szufla
B28: Tel. do osoby sporządzającej: | C28: ='DANE ZBIORCZO'!B27 -> 77 40 49 328
E32: ='DANE ZBIORCZO'!C34 -> Jan Wróblewski
E33: …………………………………………………………………….
E34: Podpis Przewodniczącego Zarządu

Sheet jednostki
A1: Lista jst
A2: 1 | B2: Lista j.s.t.
A3: 2 | B3: Gmina Baborów | C3: 1602013
A4: 3 | B4: Gmina Biała | C4: 1610013
A5: 4 | B5: Gmina Bierawa | C5: 1603022
A6: 5 | B6: Gmina Branice | C6: 1602022
A7: 6 | B7: Gmina Brzeg | C7: 1601011
A8: 7 | B8: Gmina Byczyna | C8: 1604013
A9: 8 | B9: Gmina Chrząstowice | C9: 1609012
A10: 9 | B10: Gmina Cisek | C10: 1603032
A11: 10 | B11: Gmina Dąbrowa | C11: 1609022
A12: 11 | B12: Gmina Dobrodzień | C12: 1608013
A13: 12 | B13: Gmina Dobrzeń Wielki | C13: 1609032
A14: 13 | B14: Gmina Domaszowice | C14: 1606012
... A85: 84 | B85: Województwo Opolskie | C85: 1600000
A86: 85 | B86: Związek Międzygminny "Czysty Region" | C86: 160301Z
A87: 86 | B87: Związek Gmin "PROKADO" | C87: 160910Z
A88: 87 | B88: Związek Celowy Powiatowo-Gminny „Jedź z nami” | C88: 161105Zw
A89: 88 | B89: Związek Gmin Śląska Opolskiego | C89: 161105Z
A90: 89 | B90: Powiatowo-Gminny Związek Transportu Pogranicze | C90: 160203Z
A91: 90 | B91: Powiatowo-Gminny Związek Samorządy Ziemi Oleskiej | C91: 160803Z
