Workbook

Sheet START
B3: Gmina Strzelce Opolskie
B4: Plac Myśliwca 1
B5: 47-100 Strzelce Opolskie
B7: Budżet 2025 :: rejestr zmian
B9: Uchwała Nr X/81/2024 Rady Miejskiej w Strzelcach Opolskich z dnia 12 grudnia 2024 r.
B10: w sprawie uchwały budżetowej gminy Strzelce Opolskie na 2025 rok z późn. zm.
B13: Opracowanie: | D13: Adam Kiwka
D14: a.kiwka@strzelceopolskie.eu
D15: Skarbnik Gminy
D17: Tel. +48 77 404 93 30 | Fax +48 77 461 44 22
D20: Joanna Smyła
D21: j.smyla@strzelceopolskie.eu
D22: Zastępca Skarbnika Gminy
D24: Tel. +48 77 404 93 35 | Fax +48 77 461 44 22
D29: #b25 #budzetso2025 #gminastrzelceopolskie

Sheet Budżet 2025- Dochody
A1: ZMIANY W DOCHODACH BUDŻETU GMINY STRZELCE OPOLSKIE W 2025 ROKU
A2: Dokument | B2: Data | C2: Kwota ogółem | D2: w tym:
D3: ZADANIA WŁASNE | E3: ZADANIA ZLECONE | F3: ZADANIA POWIERZONE
A4: 1 | B4: 2 | C4: 3 | D4: 4 | E4: 5 | F4: 6
A5: OGÓŁEM PO ZMIANACH | B5: x | C5: =SUM(C6:C136) -> 1.9959024e+08 | D5: =SUM(D6:D136) -> 1.8720955e+08 | E5: =SUM(E6:E136) -> 12259731 | F5: =SUM(F6:F136) -> 120960
A6: Uchwała RM X/81/2024 | B6: 45638 | C6: =SUM(D6:F6) -> 195332000 | D6: 183327330 | E6: 11883710 | F6: 120960
A7: Zarządzenie Nr 17/2025 | B7: 45673 | C7: =SUM(D7:F7) -> 17504.33 | D7: 17504.33 | E7: 0 | F7: 0
A8: Zarządzenie Nr 38/2025 | B8: 45688 | C8: =SUM(D8:F8) -> -534427.49 | D8: -534427.49 | E8: 0 | F8: 0
A9: Zarządzenie Nr 39/2025 | B9: 45688 | C9: =SUM(D9:F9) -> 154134.78 | D9: 154134.78 | E9: 0 | F9: 0
A10: Zarządzenie Nr 40/2025 | B10: 45688 | C10: =SUM(D10:F10) -> 38677.99 | D10: 0 | E10: 38677.99 | F10: 0
A11: Zarządzenie Nr 44/2025 | B11: 45700 | C11: =SUM(D11:F11) -> 17000 | D11: 17000 | E11: 0 | F11: 0
A12: Zarządzenie Nr 45/2025 | B12: 45700 | C12: =SUM(D12:F12) -> 1403362 | D12: 1160958 | E12: 242404 | F12: 0
A13: Zarządzenie Nr 53/2025 | B13: 45713 | C13: =SUM(D13:F13) -> 150472 | D13: 150472 | E13: 0 | F13: 0
A14: Zarządzenie Nr 54/2025 | B14: 45713 | C14: =SUM(D14:F14) -> 138063.4 | D14: 43124.4 | E14: 94939 | F14: 0
A15: Zarządzenie Nr 61/2025 | B15: 45716 | C15: =SUM(D15:F15) -> 1594702.3 | D15: 1594702.3 | E15: 0 | F15: 0
A16: Zarządzenie Nr 71/2025 | B16: 45728 | C16: =SUM(D16:F16) -> 17244.58 | D16: 17244.58 | E16: 0 | F16: 0
A17: Zarządzenie Nr 88/2025 | B17: 45744 | C17: =SUM(D17:F17) -> 1124334.2 | D17: 1124334.2 | E17: 0 | F17: 0
A18: Zarządzenie Nr 89/2025 | B18: 45744 | C18: =SUM(D18:F18) -> 137170 | D18: 137170 | E18: 0 | F18: 0

Sheet Budżet 2025 - Wydatki
A1: ZMIANY W WYDATKACH BUDŻETU GMINY STRZELCE OPOLSKIE W 2025 ROKU
A2: Dokument | B2: Data | C2: Kwota ogółem | D2: w tym:
D3: ZADANIA WŁASNE | E3: ZADANIA ZLECONE | F3: ZADANIA POWIERZONE
A4: 1 | B4: 2 | C4: 3 | D4: 4 | E4: 5 | F4: 6
A5: OGÓŁEM PO ZMIANACH | B5: x | C5: =SUM(C6:C110) -> 2.1610884e+08 | D5: =SUM(D6:D110) -> 2.0368911e+08 | E5: =SUM(E6:E110) -> 12259731 | F5: =SUM(F6:F110) -> 160000
A6: Uchwała RM X/81/2024 | B6: 45638 | C6: =SUM(D6:F6) -> 213880300 | D6: 201836590 | E6: 11883710 | F6: 160000
A7: Zarządzenie Nr 8/2025 | B7: 45667 | C7: =SUM(D7:F7) -> 0 | D7: 0 | E7: 0 | F7: 0
A8: Zarządzenie Nr 17/2025 | B8: 45673 | C8: =SUM(D8:F8) -> 17504.33 | D8: 17504.33 | E8: 0 | F8: 0
A9: Zarządzenie Nr 30/2025 | B9: 45678 | C9: =SUM(D9:F9) -> 0 | D9: 0 | E9: 0 | F9: 0
A10: Zarządzenie Nr 38/2025 | B10: 45688 | C10: =SUM(D10:F10) -> -2318702.5 | D10: -2318702.5 | E10: 0 | F10: 0
A11: Zarządzenie Nr 39/2025 | B11: 45688 | C11: =SUM(D11:F11) -> 154134.78 | D11: 154134.78 | E11: 0 | F11: 0
A12: Zarządzenie Nr 40/2025 | B12: 45688 | C12: =SUM(D12:F12) -> 38677.99 | D12: 0 | E12: 38677.99 | F12: 0
A13: Zarządzenie Nr 44/2025 | B13: 45700 | C13: =SUM(D13:F13) -> 17000 | D13: 17000 | E13: 0 | F13: 0
A14: Zarządzenie Nr 45/2025 | B14: 45700 | C14: =SUM(D14:F14) -> 1403362 | D14: 1160958 | E14: 242404 | F14: 0
A15: Zarządzenie Nr 46/2025 | B15: 45700 | C15: =SUM(D15:F15) -> 0 | D15: 0 | E15: 0 | F15: 0
A16: Zarządzenie Nr 53/2025 | B16: 45713 | C16: =SUM(D16:F16) -> 150472 | D16: 150472 | E16: 0 | F16: 0
A17: Zarządzenie Nr 54/2025 | B17: 45713 | C17: =SUM(D17:F17) -> 138063.4 | D17: 43124.4 | E17: 94939 | F17: 0
... A24: Zarządzenie Nr 90/2025 | B24: 45744 | C24: =SUM(D24:F24) -> 0 | D24: 0 | E24: 0 | F24: 0

Sheet Budżet 2025 - po zmianach
CS1: w złotych
A2: Wyszczególnienie | B2: Budżet na 2025 rok wg URMSO Nr X/81/2024 z dnia 12.12.2024 r. | C2: Zarządzenie Nr 8/2025 BSO z dnia 10.01.2025 r. [ZmNr01] [W] WYS:20250115 UPO:20250115 | D2: Zarządzenie Nr 17/2024 BSO z dnia 16.01.2025 r. [ZmNr02] [B] WYS:20250121 UPO:20250121 | E2: Zarządzenie Nr 30/2025 BSO z dnia 21.01.2025 r. [ZmNr03] [W] WYS:20250127 UPO:20250127 | F2: URMSO Nr XII/90/2025 z dnia 30.01.2025 r. [ZmNr04] | G2: Zarządzenie Nr 39/2025 BSO z dnia 31.01.2025 r. [ZmNr05] [B] WYS:20250205 UPO:20250205 | H2: Zarządzenie Nr 40/2025 BSO z dnia 31.01.2025 r. [ZmNr06] [D] WYS:20250205 UPO:20250205 | I2: Zarządzenie Nr 44/2025 BSO z dnia 12.02.2025 r. [ZmNr07] [B] WYS:20250217 UPO:20250217 | J2: Zarządzenie Nr 45/2025 BSO z dnia 12.02.2025 r. [ZmNr08] [D] WYS:20250217 UPO:20250217 | K2: Zarządzenie Nr 46/2025 BSO z dnia 12.02.2025 r. [ZmNr09] [W] WYS:20250217 UPO:20250217 | L2: Zarządzenie Nr 53/2025 BSO z dnia 25.02.2025 r. [ZmNr10] [B] WYS:20250303 UPO:20250303 | M2: Zarządzenie Nr 54/2025 BSO z dnia 25.02.2025 r. [ZmNr11] [D] WYS:20250303 UPO:20250303 | N2: Zarządzenie Nr 55/2025 BSO z dnia 25.02.2025 r. [ZmNr12] [W] WYS:20250303 UPO:20250303 | O2: URMSO Nr XIII/100/2025 z dnia 27.02.2025 r. [ZmNr13] | P2: Zarządzenie Nr 71/2025 BSO z dnia 12.03.2025 r. [ZmNr14] [B] WYS:20250318 UPO:20250318 | Q2: Zarządzenie Nr 72/2025 BSO z dnia 12.03.2025 r. [ZmNr15] [W] WYS:20250318 UPO:20250318 | R2: URMSO Nr XIV/107/2025 z dnia 27.03.2025 r. [ZmNr16] | S2: Zarządzenie Nr 89/2025 BSO z dnia 28.03.2025 r. [ZmNr17] [B] WYS:20250402 UPO:20250402 | T2: Zarządzenie Nr 90/2025 BSO z dnia 28.03.2025 r. [ZmNr18] [W] WYS:20250402 UPO:20250402 | CS2: Budżet na 2025 r. stan na dzień 31.03.2025 r.
A3: DOCHODY | B3: =SUM(B5:B6) -> 195332000 | C3: =SUM(C5:C6) -> 0 | D3: =SUM(D5:D6) -> 17504.33 | E3: =SUM(E5:E6) -> 0 | F3: =SUM(F5:F6) -> -534427.49 | G3: =SUM(G5:G6) -> 154134.78 | H3: =SUM(H5:H6) -> 38677.99 | I3: =SUM(I5:I6) -> 17000 | ... CS3: =SUM(CS5:CS6) -> 1.9959024e+08
A4: z tego:
A5: - dochody bieżące | B5: 185928000 | C5: 0 | D5: 17504.33 | E5: 0 | F5: 11132 | G5: 154134.78 | H5: 38677.99 | I5: 17000 | J5: 1403362 | K5: 0 | L5: 150472 | M5: 138063.4 | N5: 0 | O5: 4300 | P5: 17244.58 | Q5: 0 | R5: 824334.2 | S5: 137170 | T5: 0 | U5: 0 | V5: 0 | W5: 0 | X5: 0 | Y5: 0 | Z5: 0 | AA5: 0 | AB5: 0 | AC5: 0 | AD5: 0 | AE5: 0 | AF5: 0 | AG5: 0 | AH5: 0 | AI5: 0 | AJ5: 0 | AK5: 0 | AL5: 0 | AM5: 0 | AN5: 0 | AO5: 0 | AP5: 0 | AQ5: 0 | AR5: 0 | AS5: 0 | AT5: 0 | AU5: 0 | AV5: 0 | AW5: 0 | AX5: 0 | AY5: 0 | AZ5: 0 | BA5: 0 | BB5: 0 | BC5: 0 | BD5: 0 | BE5: 0 | BF5: 0 | BG5: 0 | BH5: 0 | BI5: 0 | BJ5: 0 | BK5: 0 | BL5: 0 | BM5: 0 | BN5: 0 | BO5: 0 | BP5: 0 | BQ5: 0 | BR5: 0 | BS5: 0 | BT5: 0 | BU5: 0 | BV5: 0 | BW5: 0 | BX5: 0 | BY5: 0 | BZ5: 0 | CA5: 0 | CB5: 0 | CC5: 0 | CD5: 0 | CE5: 0 | CF5: 0 | CG5: 0 | CH5: 0 | CI5: 0 | CJ5: 0 | CK5: 0 | CL5: 0 | CM5: 0 | CN5: 0 | CO5: 0 | CP5: 0 | CQ5: 0 | CR5: 0 | CS5: =SUM(B5:CR5) -> 1.888414e+08
A6: - dochody majątkowe | B6: 9404000 | C6: 0 | D6: 0 | E6: 0 | F6: -545559.49 | G6: 0 | H6: 0 | I6: 0 | J6: 0 | K6: 0 | L6: 0 | M6: 0 | N6: 0 | O6: 1590402.3 | P6: 0 | Q6: 0 | R6: 300000 | S6: 0 | T6: 0 | U6: 0 | V6: 0 | W6: 0 | X6: 0 | Y6: 0 | Z6: 0 | AA6: 0 | AB6: 0 | AC6: 0 | AD6: 0 | AE6: 0 | AF6: 0 | AG6: 0 | AH6: 0 | AI6: 0 | AJ6: 0 | AK6: 0 | AL6: 0 | AM6: 0 | AN6: 0 | AO6: 0 | AP6: 0 | AQ6: 0 | AR6: 0 | AS6: 0 | AT6: 0 | AU6: 0 | AV6: 0 | AW6: 0 | AX6: 0 | AY6: 0 | AZ6: 0 | BA6: 0 | BB6: 0 | BC6: 0 | BD6: 0 | BE6: 0 | BF6: 0 | BG6: 0 | BH6: 0 | BI6: 0 | BJ6: 0 | BK6: 0 | BL6: 0 | BM6: 0 | BN6: 0 | BO6: 0 | BP6: 0 | BQ6: 0 | BR6: 0 | BS6: 0 | BT6: 0 | BU6: 0 | BV6: 0 | BW6: 0 | BX6: 0 | BY6: 0 | BZ6: 0 | CA6: 0 | CB6: 0 | CC6: 0 | CD6: 0 | CE6: 0 | CF6: 0 | CG6: 0 | CH6: 0 | CI6: 0 | CJ6: 0 | CK6: 0 | CL6: 0 | CM6: 0 | CN6: 0 | CO6: 0 | CP6: 0 | CQ6: 0 | CR6: 0 | CS6: =SUM(B6:CR6) -> 10748843
A7: PRZYCHODY | B7: 22368296 | C7: 0 | D7: 0 | E7: 0 | F7: -1784275 | G7: 0 | H7: 0 | I7: 0 | J7: 0 | K7: 0 | L7: 0 | M7: 0 | N7: 0 | O7: 0 | P7: 0 | Q7: 0 | R7: -245425.68 | S7: 0 | T7: 0 | U7: 0 | V7: 0 | W7: 0 | X7: 0 | Y7: 0 | Z7: 0 | AA7: 0 | AB7: 0 | AC7: 0 | AD7: 0 | AE7: 0 | AF7: 0 | AG7: 0 | AH7: 0 | AI7: 0 | AJ7: 0 | AK7: 0 | AL7: 0 | AM7: 0 | AN7: 0 | AO7: 0 | AP7: 0 | AQ7: 0 | AR7: 0 | AS7: 0 | AT7: 0 | AU7: 0 | AV7: 0 | AW7: 0 | AX7: 0 | AY7: 0 | AZ7: 0 | BA7: 0 | BB7: 0 | BC7: 0 | BD7: 0 | BE7: 0 | BF7: 0 | BG7: 0 | BH7: 0 | BI7: 0 | BJ7: 0 | BK7: 0 | BL7: 0 | BM7: 0 | BN7: 0 | BO7: 0 | BP7: 0 | BQ7: 0 | BR7: 0 | BS7: 0 | BT7: 0 | BU7: 0 | BV7: 0 | BW7: 0 | BX7: 0 | BY7: 0 | BZ7: 0 | CA7: 0 | CB7: 0 | CC7: 0 | CD7: 0 | CE7: 0 | CF7: 0 | CG7: 0 | CH7: 0 | CI7: 0 | CJ7: 0 | CK7: 0 | CL7: 0 | CM7: 0 | CN7: 0 | CO7: 0 | CP7: 0 | CQ7: 0 | CR7: 0 | CS7: =SUM(B7:CR7) -> 20338595
A8: RAZEM | B8: =SUM(B3,B7) -> 217700296 | C8: =SUM(C3,C7) -> 0 | D8: =SUM(D3,D7) -> 17504.33 | E8: =SUM(E3,E7) -> 0 | F8: =SUM(F3,F7) -> -2318702.5 | G8: =SUM(G3,G7) -> 154134.78 | H8: =SUM(H3,H7) -> 38677.99 | I8: =SUM(I3,I7) -> 17000 | ... CS8: =SUM(CS3,CS7) -> 2.1992883e+08
A9: WYDATKI | B9: =SUM(B11:B12) -> 213880300 | C9: =SUM(C11:C12) -> 0 | D9: =SUM(D11:D12) -> 17504.33 | E9: =SUM(E11:E12) -> 0 | F9: =SUM(F11:F12) -> -2318702.5 | G9: =SUM(G11:G12) -> 154134.78 | H9: =SUM(H11:H12) -> 38677.99 | I9: =SUM(I11:I12) -> 17000 | ... CS9: =SUM(CS11:CS12) -> 2.1610884e+08
A10: z tego:
A11: - wydatki bieżące | B11: 184533600 | C11: -20000 | D11: 17504.33 | E11: 0 | F11: 11132 | G11: 154134.78 | H11: 38677.99 | I11: 17000 | J11: 1403362 | K11: -60000 | L11: 150472 | M11: 138063.4 | N11: -20654.62 | O11: 4300 | P11: 17244.58 | Q11: 0 | R11: 641870.19 | S11: 137170 | T11: 0 | U11: 0 | V11: 0 | W11: 0 | X11: 0 | Y11: 0 | Z11: 0 | AA11: 0 | AB11: 0 | AC11: 0 | AD11: 0 | AE11: 0 | AF11: 0 | AG11: 0 | AH11: 0 | AI11: 0 | AJ11: 0 | AK11: 0 | AL11: 0 | AM11: 0 | AN11: 0 | AO11: 0 | AP11: 0 | AQ11: 0 | AR11: 0 | AS11: 0 | AT11: 0 | AU11: 0 | AV11: 0 | AW11: 0 | AX11: 0 | AY11: 0 | AZ11: 0 | BA11: 0 | BB11: 0 | BC11: 0 | BD11: 0 | BE11: 0 | BF11: 0 | BG11: 0 | BH11: 0 | BI11: 0 | BJ11: 0 | BK11: 0 | BL11: 0 | BM11: 0 | BN11: 0 | BO11: 0 | BP11: 0 | BQ11: 0 | BR11: 0 | BS11: 0 | BT11: 0 | BU11: 0 | BV11: 0 | BW11: 0 | BX11: 0 | BY11: 0 | BZ11: 0 | CA11: 0 | CB11: 0 | CC11: 0 | CD11: 0 | CE11: 0 | CF11: 0 | CG11: 0 | CH11: 0 | CI11: 0 | CJ11: 0 | CK11: 0 | CL11: 0 | CM11: 0 | CN11: 0 | CO11: 0 | CP11: 0 | CQ11: 0 | CR11: 0 | CS11: =SUM(B11:CR11) -> 1.8716388e+08
A12: - wydatki majątkowe | B12: 29346700 | C12: 20000 | D12: 0 | E12: 0 | F12: -2329834.5 | G12: 0 | H12: 0 | I12: 0 | J12: 0 | K12: 60000 | L12: 0 | M12: 0 | N12: 20654.62 | O12: 1590402.3 | P12: 0 | Q12: 0 | R12: 237038.37 | S12: 0 | T12: 0 | U12: 0 | V12: 0 | W12: 0 | X12: 0 | Y12: 0 | Z12: 0 | AA12: 0 | AB12: 0 | AC12: 0 | AD12: 0 | AE12: 0 | AF12: 0 | AG12: 0 | AH12: 0 | AI12: 0 | AJ12: 0 | AK12: 0 | AL12: 0 | AM12: 0 | AN12: 0 | AO12: 0 | AP12: 0 | AQ12: 0 | AR12: 0 | AS12: 0 | AT12: 0 | AU12: 0 | AV12: 0 | AW12: 0 | AX12: 0 | AY12: 0 | AZ12: 0 | BA12: 0 | BB12: 0 | BC12: 0 | BD12: 0 | BE12: 0 | BF12: 0 | BG12: 0 | BH12: 0 | BI12: 0 | BJ12: 0 | BK12: 0 | BL12: 0 | BM12: 0 | BN12: 0 | BO12: 0 | BP12: 0 | BQ12: 0 | BR12: 0 | BS12: 0 | BT12: 0 | BU12: 0 | BV12: 0 | BW12: 0 | BX12: 0 | BY12: 0 | BZ12: 0 | CA12: 0 | CB12: 0 | CC12: 0 | CD12: 0 | CE12: 0 | CF12: 0 | CG12: 0 | CH12: 0 | CI12: 0 | CJ12: 0 | CK12: 0 | CL12: 0 | CM12: 0 | CN12: 0 | CO12: 0 | CP12: 0 | CQ12: 0 | CR12: 0 | CS12: =SUM(B12:CR12) -> 28944961
A13: ROZCHODY | B13: 3819996 | C13: 0 | D13: 0 | E13: 0 | F13: 0 | G13: 0 | H13: 0 | I13: 0 | J13: 0 | K13: 0 | L13: 0 | M13: 0 | N13: 0 | O13: 0 | P13: 0 | Q13: 0 | R13: -0.04 | S13: 0 | T13: 0 | U13: 0 | V13: 0 | W13: 0 | X13: 0 | Y13: 0 | Z13: 0 | AA13: 0 | AB13: 0 | AC13: 0 | AD13: 0 | AE13: 0 | AF13: 0 | AG13: 0 | AH13: 0 | AI13: 0 | AJ13: 0 | AK13: 0 | AL13: 0 | AM13: 0 | AN13: 0 | AO13: 0 | AP13: 0 | AQ13: 0 | AR13: 0 | AS13: 0 | AT13: 0 | AU13: 0 | AV13: 0 | AW13: 0 | AX13: 0 | AY13: 0 | AZ13: 0 | BA13: 0 | BB13: 0 | BC13: 0 | BD13: 0 | BE13: 0 | BF13: 0 | BG13: 0 | BH13: 0 | BI13: 0 | BJ13: 0 | BK13: 0 | BL13: 0 | BM13: 0 | BN13: 0 | BO13: 0 | BP13: 0 | BQ13: 0 | BR13: 0 | BS13: 0 | BT13: 0 | BU13: 0 | BV13: 0 | BW13: 0 | BX13: 0 | BY13: 0 | BZ13: 0 | CA13: 0 | CB13: 0 | CC13: 0 | CD13: 0 | CE13: 0 | CF13: 0 | CG13: 0 | CH13: 0 | CI13: 0 | CJ13: 0 | CK13: 0 | CL13: 0 | CM13: 0 | CN13: 0 | CO13: 0 | CP13: 0 | CQ13: 0 | CR13: 0 | CS13: =SUM(B13:CR13) -> 3819996
A14: RAZEM | B14: =SUM(B9,B13) -> 217700296 | C14: =SUM(C9,C13) -> 0 | D14: =SUM(D9,D13) -> 17504.33 | E14: =SUM(E9,E13) -> 0 | F14: =SUM(F9,F13) -> -2318702.5 | G14: =SUM(G9,G13) -> 154134.78 | H14: =SUM(H9,H13) -> 38677.99 | I14: =SUM(I9,I13) -> 17000 | ... CS14: =SUM(CS9,CS13) -> 2.1992883e+08
A15: DEFICYT | B15: =+B3-B9 -> -18548300 | C15: =+C3-C9 -> 0 | D15: =+D3-D9 -> 0 | E15: =+E3-E9 -> 0 | F15: =+F3-F9 -> 1784275 | G15: =+G3-G9 -> 0 | H15: =+H3-H9 -> 0 | I15: =+I3-I9 -> 0 | ... CS15: =+CS3-CS9 -> -16518599
A16: REZERWY
A17: rezerwa ogólna | B17: =SUM(B19:B20) -> 1400000 | C17: =SUM(C19:C20) -> 0 | D17: =SUM(D19:D20) -> 0 | E17: =SUM(E19:E20) -> 0 | F17: =SUM(F19:F20) -> 0 | G17: =SUM(G19:G20) -> 0 | H17: =SUM(H19:H20) -> 0 | I17: =SUM(I19:I20) -> 0 | ... CS17: =SUM(CS19:CS20) -> 1400000
A18: z tego:
A19: - na wydatki bieżące [ROB - 758.75818.4810] | B19: 780000 | C19: 0 | D19: 0 | E19: 0 | F19: 0 | G19: 0 | H19: 0 | I19: 0 | J19: 0 | K19: 0 | L19: 0 | M19: 0 | N19: 0 | O19: 0 | P19: 0 | Q19: 0 | R19: 0 | S19: 0 | T19: 0 | U19: 0 | V19: 0 | W19: 0 | X19: 0 | Y19: 0 | Z19: 0 | AA19: 0 | AB19: 0 | AC19: 0 | AD19: 0 | AE19: 0 | AF19: 0 | AG19: 0 | AH19: 0 | AI19: 0 | AJ19: 0 | AK19: 0 | AL19: 0 | AM19: 0 | AN19: 0 | AO19: 0 | AP19: 0 | AQ19: 0 | AR19: 0 | AS19: 0 | AT19: 0 | AU19: 0 | AV19: 0 | AW19: 0 | AX19: 0 | AY19: 0 | AZ19: 0 | BA19: 0 | BB19: 0 | BC19: 0 | BD19: 0 | BE19: 0 | BF19: 0 | BG19: 0 | BH19: 0 | BI19: 0 | BJ19: 0 | BK19: 0 | BL19: 0 | BM19: 0 | BN19: 0 | BO19: 0 | BP19: 0 | BQ19: 0 | BR19: 0 | BS19: 0 | BT19: 0 | BU19: 0 | BV19: 0 | BW19: 0 | BX19: 0 | BY19: 0 | BZ19: 0 | CA19: 0 | CB19: 0 | CC19: 0 | CD19: 0 | CE19: 0 | CF19: 0 | CG19: 0 | CH19: 0 | CI19: 0 | CJ19: 0 | CK19: 0 | CL19: 0 | CM19: 0 | CN19: 0 | CO19: 0 | CP19: 0 | CQ19: 0 | CR19: 0 | CS19: =SUM(B19:CR19) -> 780000
A20: - na wydatki i zakupy inwestycyjne [ROM - 758.75818.6800] | B20: 620000 | C20: 0 | D20: 0 | E20: 0 | F20: 0 | G20: 0 | H20: 0 | I20: 0 | J20: 0 | K20: 0 | L20: 0 | M20: 0 | N20: 0 | O20: 0 | P20: 0 | Q20: 0 | R20: 0 | S20: 0 | T20: 0 | U20: 0 | V20: 0 | W20: 0 | X20: 0 | Y20: 0 | Z20: 0 | AA20: 0 | AB20: 0 | AC20: 0 | AD20: 0 | AE20: 0 | AF20: 0 | AG20: 0 | AH20: 0 | AI20: 0 | AJ20: 0 | AK20: 0 | AL20: 0 | AM20: 0 | AN20: 0 | AO20: 0 | AP20: 0 | AQ20: 0 | AR20: 0 | AS20: 0 | AT20: 0 | AU20: 0 | AV20: 0 | AW20: 0 | AX20: 0 | AY20: 0 | AZ20: 0 | BA20: 0 | BB20: 0 | BC20: 0 | BD20: 0 | BE20: 0 | BF20: 0 | BG20: 0 | BH20: 0 | BI20: 0 | BJ20: 0 | BK20: 0 | BL20: 0 | BM20: 0 | BN20: 0 | BO20: 0 | BP20: 0 | BQ20: 0 | BR20: 0 | BS20: 0 | BT20: 0 | BU20: 0 | BV20: 0 | BW20: 0 | BX20: 0 | BY20: 0 | BZ20: 0 | CA20: 0 | CB20: 0 | CC20: 0 | CD20: 0 | CE20: 0 | CF20: 0 | CG20: 0 | CH20: 0 | CI20: 0 | CJ20: 0 | CK20: 0 | CL20: 0 | CM20: 0 | CN20: 0 | CO20: 0 | CP20: 0 | CQ20: 0 | CR20: 0 | CS20: =SUM(B20:CR20) -> 620000
A21: rezerwy celowe | B21: =SUM(B23:B24) -> 1000000 | C21: =SUM(C23:C24) -> 0 | D21: =SUM(D23:D24) -> 0 | E21: =SUM(E23:E24) -> 0 | F21: =SUM(F23:F24) -> 0 | G21: =SUM(G23:G24) -> 0 | H21: =SUM(H23:H24) -> 0 | I21: =SUM(I23:I24) -> 0 | ... CS21: =SUM(CS23:CS24) -> 1000000
A22: z tego:
A23: - na wynagrodzenia m.in. nagrody jubileuszowe i odprawy emerytalno-rentowe [RCB - 758.75818.4810] | B23: 550000 | C23: 0 | D23: 0 | E23: 0 | F23: 0 | G23: 0 | H23: 0 | I23: 0 | J23: 0 | K23: 0 | L23: 0 | M23: 0 | N23: 0 | O23: 0 | P23: 0 | Q23: 0 | R23: 0 | S23: 0 | T23: 0 | U23: 0 | V23: 0 | W23: 0 | X23: 0 | Y23: 0 | Z23: 0 | AA23: 0 | AB23: 0 | AC23: 0 | AD23: 0 | AE23: 0 | AF23: 0 | AG23: 0 | AH23: 0 | AI23: 0 | AJ23: 0 | AK23: 0 | AL23: 0 | AM23: 0 | AN23: 0 | AO23: 0 | AP23: 0 | AQ23: 0 | AR23: 0 | AS23: 0 | AT23: 0 | AU23: 0 | AV23: 0 | AW23: 0 | AX23: 0 | AY23: 0 | AZ23: 0 | BA23: 0 | BB23: 0 | BC23: 0 | BD23: 0 | BE23: 0 | BF23: 0 | BG23: 0 | BH23: 0 | BI23: 0 | BJ23: 0 | BK23: 0 | BL23: 0 | BM23: 0 | BN23: 0 | BO23: 0 | BP23: 0 | BQ23: 0 | BR23: 0 | BS23: 0 | BT23: 0 | BU23: 0 | BV23: 0 | BW23: 0 | BX23: 0 | BY23: 0 | BZ23: 0 | CA23: 0 | CB23: 0 | CC23: 0 | CD23: 0 | CE23: 0 | CF23: 0 | CG23: 0 | CH23: 0 | CI23: 0 | CJ23: 0 | CK23: 0 | CL23: 0 | CM23: 0 | CN23: 0 | CO23: 0 | CP23: 0 | CQ23: 0 | CR23: 0 | CS23: =SUM(B23:CR23) -> 550000
A24: - na realizację zadań z zakresu zarządzania kryzysowego [RCB - 758.75818.4810] | B24: 450000 | C24: 0 | D24: 0 | E24: 0 | F24: 0 | G24: 0 | H24: 0 | I24: 0 | J24: 0 | K24: 0 | L24: 0 | M24: 0 | N24: 0 | O24: 0 | P24: 0 | Q24: 0 | R24: 0 | S24: 0 | T24: 0 | U24: 0 | V24: 0 | W24: 0 | X24: 0 | Y24: 0 | Z24: 0 | AA24: 0 | AB24: 0 | AC24: 0 | AD24: 0 | AE24: 0 | AF24: 0 | AG24: 0 | AH24: 0 | AI24: 0 | AJ24: 0 | AK24: 0 | AL24: 0 | AM24: 0 | AN24: 0 | AO24: 0 | AP24: 0 | AQ24: 0 | AR24: 0 | AS24: 0 | AT24: 0 | AU24: 0 | AV24: 0 | AW24: 0 | AX24: 0 | AY24: 0 | AZ24: 0 | BA24: 0 | BB24: 0 | BC24: 0 | BD24: 0 | BE24: 0 | BF24: 0 | BG24: 0 | BH24: 0 | BI24: 0 | BJ24: 0 | BK24: 0 | BL24: 0 | BM24: 0 | BN24: 0 | BO24: 0 | BP24: 0 | BQ24: 0 | BR24: 0 | BS24: 0 | BT24: 0 | BU24: 0 | BV24: 0 | BW24: 0 | BX24: 0 | BY24: 0 | BZ24: 0 | CA24: 0 | CB24: 0 | CC24: 0 | CD24: 0 | CE24: 0 | CF24: 0 | CG24: 0 | CH24: 0 | CI24: 0 | CJ24: 0 | CK24: 0 | CL24: 0 | CM24: 0 | CN24: 0 | CO24: 0 | CP24: 0 | CQ24: 0 | CR24: 0 | CS24: =SUM(B24:CR24) -> 450000
A27: BSO - Burmistrz Strzelec Opolskich
A28: ROB - rezerwa ogólna bieżąca
A29: ROM - rezerwa ogólna majątkowa
A30: RCB - rezerwa celowa bieżąca
A31: RCM - rezerwa celowa majątkowa

Sheet CHECKLIST
A3: Kwota ogółem (D) - Tab. Nr 1 | B3: =ROUND('Budżet 2025- Dochody'!$C$5,2) -> 1.9959024e+08
A4: Kwota ogółem (D) - Tab. Nr 3 | B4: =ROUND('Budżet 2025 - po zmianach'!$CS$3,2) -> 1.9959024e+08
A5: Warunek spełniony? | B5: =IF((B3-B4)=0,"OK","Błąd!") -> OK
A7: Kwota ogółem (W) - Tab. Nr 2 | B7: =ROUND('Budżet 2025 - Wydatki'!$C$5,2) -> 2.1610884e+08
A8: Kwota ogółem (W) - Tab. Nr 3 | B8: =ROUND('Budżet 2025 - po zmianach'!$CS$9,2) -> 2.1610884e+08
A9: Warunek spełniony? | B9: =IF((B7-B8)=0,"OK","Błąd!") -> OK
A11: Kwota ogółem (D) [ZZ] - Tab. Nr 1 | B11: ='Budżet 2025- Dochody'!$E$5 -> 12259731
A12: Kwota ogółem (W) [ZZ] - Tab. Nr 2 | B12: ='Budżet 2025 - Wydatki'!$E$5 -> 12259731
A13: Warunek spełniony? | B13: =IF((B11-B12)=0,"OK","Błąd!") -> OK
