Workbook

Sheet START
B3: Gmina Strzelce Opolskie
B4: Plac Myśliwca 1
B5: 47-100 Strzelce Opolskie
B7: Budżet 2025 :: rejestr zmian
B9: Uchwała Nr X/81/2024 Rady Miejskiej w Strzelcach Opolskich z dnia 12 grudnia 2024 r.
B10: w sprawie uchwały budżetowej gminy Strzelce Opolskie na 2025 rok z późn. zm.
B13: Opracowanie: | D13: Adam Kiwka
D14: a.kiwka@strzelceopolskie.eu
D15: Skarbnik Gminy
D17: Tel. +48 77 404 93 30 | Fax +48 77 461 44 22
D20: Joanna Smyła
D21: j.smyla@strzelceopolskie.eu
D22: Zastępca Skarbnika Gminy
D24: Tel. +48 77 404 93 35 | Fax +48 77 461 44 22
D29: #b25 #budzetso2025 #gminastrzelceopolskie

Sheet Budżet 2025- Dochody
A1: ZMIANY W DOCHODACH BUDŻETU GMINY STRZELCE OPOLSKIE W 2025 ROKU
A2: Dokument | B2: Data | C2: Kwota ogółem | D2: w tym:
D3: ZADANIA WŁASNE | E3: ZADANIA ZLECONE | F3: ZADANIA POWIERZONE
A4: 1 | B4: 2 | C4: 3 | D4: 4 | E4: 5 | F4: 6
A5: OGÓŁEM PO ZMIANACH | B5: x | C5: =SUM(C6:C137) -> 2.0621734e+08 | D5: =SUM(D6:D137) -> 1.8922526e+08 | E5: =SUM(E6:E137) -> 16871124 | F5: =SUM(F6:F137) -> 120960
A6: Uchwała RM X/81/2024 | B6: 45638 | C6: =SUM(D6:F6) -> 195332000 | D6: 183327330 | E6: 11883710 | F6: 120960
A7: Zarządzenie Nr 17/2025 | B7: 45673 | C7: =SUM(D7:F7) -> 17504.33 | D7: 17504.33 | E7: 0 | F7: 0
A8: Zarządzenie Nr 38/2025 | B8: 45688 | C8: =SUM(D8:F8) -> -534427.49 | D8: -534427.49 | E8: 0 | F8: 0
A9: Zarządzenie Nr 39/2025 | B9: 45688 | C9: =SUM(D9:F9) -> 154134.78 | D9: 154134.78 | E9: 0 | F9: 0
A10: Zarządzenie Nr 40/2025 | B10: 45688 | C10: =SUM(D10:F10) -> 38677.99 | D10: 0 | E10: 38677.99 | F10: 0
A11: Zarządzenie Nr 44/2025 | B11: 45700 | C11: =SUM(D11:F11) -> 17000 | D11: 17000 | E11: 0 | F11: 0
A12: Zarządzenie Nr 45/2025 | B12: 45700 | C12: =SUM(D12:F12) -> 1403362 | D12: 1160958 | E12: 242404 | F12: 0
A13: Zarządzenie Nr 53/2025 | B13: 45713 | C13: =SUM(D13:F13) -> 150472 | D13: 150472 | E13: 0 | F13: 0
A14: Zarządzenie Nr 54/2025 | B14: 45713 | C14: =SUM(D14:F14) -> 138063.4 | D14: 43124.4 | E14: 94939 | F14: 0
A15: Zarządzenie Nr 61/2025 | B15: 45716 | C15: =SUM(D15:F15) -> 1594702.3 | D15: 1594702.3 | E15: 0 | F15: 0
A16: Zarządzenie Nr 71/2025 | B16: 45728 | C16: =SUM(D16:F16) -> 17244.58 | D16: 17244.58 | E16: 0 | F16: 0
A17: Zarządzenie Nr 88/2025 | B17: 45744 | C17: =SUM(D17:F17) -> 1124334.2 | D17: 1124334.2 | E17: 0 | F17: 0
... A67: Zarządzenie Nr 365/2025 | B67: 46022 | C67: =SUM(D67:F67) -> 228.09 | D67: 228.09 | E67: 0 | F67: 0

Sheet Budżet 2025 - Wydatki
A1: ZMIANY W WYDATKACH BUDŻETU GMINY STRZELCE OPOLSKIE W 2025 ROKU
A2: Dokument | B2: Data | C2: Kwota ogółem | D2: w tym:
D3: ZADANIA WŁASNE | E3: ZADANIA ZLECONE | F3: ZADANIA POWIERZONE
A4: 1 | B4: 2 | C4: 3 | D4: 4 | E4: 5 | F4: 6
A5: OGÓŁEM PO ZMIANACH | B5: x | C5: =SUM(C6:C111) -> 2.251526e+08 | D5: =SUM(D6:D111) -> 2.0812147e+08 | E5: =SUM(E6:E111) -> 16871124 | F5: =SUM(F6:F111) -> 160000
A6: Uchwała RM X/81/2024 | B6: 45638 | C6: =SUM(D6:F6) -> 213880300 | D6: 201836590 | E6: 11883710 | F6: 160000
A7: Zarządzenie Nr 8/2025 | B7: 45667 | C7: =SUM(D7:F7) -> 0 | D7: 0 | E7: 0 | F7: 0
A8: Zarządzenie Nr 17/2025 | B8: 45673 | C8: =SUM(D8:F8) -> 17504.33 | D8: 17504.33 | E8: 0 | F8: 0
A9: Zarządzenie Nr 30/2025 | B9: 45678 | C9: =SUM(D9:F9) -> 0 | D9: 0 | E9: 0 | F9: 0
A10: Zarządzenie Nr 38/2025 | B10: 45688 | C10: =SUM(D10:F10) -> -2318702.5 | D10: -2318702.5 | E10: 0 | F10: 0
A11: Zarządzenie Nr 39/2025 | B11: 45688 | C11: =SUM(D11:F11) -> 154134.78 | D11: 154134.78 | E11: 0 | F11: 0
A12: Zarządzenie Nr 40/2025 | B12: 45688 | C12: =SUM(D12:F12) -> 38677.99 | D12: 0 | E12: 38677.99 | F12: 0
A13: Zarządzenie Nr 44/2025 | B13: 45700 | C13: =SUM(D13:F13) -> 17000 | D13: 17000 | E13: 0 | F13: 0
A14: Zarządzenie Nr 45/2025 | B14: 45700 | C14: =SUM(D14:F14) -> 1403362 | D14: 1160958 | E14: 242404 | F14: 0
A15: Zarządzenie Nr 46/2025 | B15: 45700 | C15: =SUM(D15:F15) -> 0 | D15: 0 | E15: 0 | F15: 0
A16: Zarządzenie Nr 53/2025 | B16: 45713 | C16: =SUM(D16:F16) -> 150472 | D16: 150472 | E16: 0 | F16: 0
A17: Zarządzenie Nr 54/2025 | B17: 45713 | C17: =SUM(D17:F17) -> 138063.4 | D17: 43124.4 | E17: 94939 | F17: 0
... A104: Zarządzenie Nr 366/2025 | B104: 46022 | C104: =SUM(D104:F104) -> 0 | D104: 0 | E104: 0 | F104: 0

Sheet Budżet 2025 - po zmianach
CW1: w złotych
A2: Wyszczególnienie | B2: Budżet na 2025 rok wg URMSO Nr X/81/2024 z dnia 12.12.2024 r. | C2: Zarządzenie Nr 8/2025 BSO z dnia 10.01.2025 r. [ZmNr01] [W] WYS:20250115 UPO:20250115 | D2: Zarządzenie Nr 17/2024 BSO z dnia 16.01.2025 r. [ZmNr02] [B] WYS:20250121 UPO:20250121 | E2: Zarządzenie Nr 30/2025 BSO z dnia 21.01.2025 r. [ZmNr03] [W] WYS:20250127 UPO:20250127 | F2: URMSO Nr XII/90/2025 z dnia 30.01.2025 r. [ZmNr04] | G2: Zarządzenie Nr 39/2025 BSO z dnia 31.01.2025 r. [ZmNr05] [B] WYS:20250205 UPO:20250205 | H2: Zarządzenie Nr 40/2025 BSO z dnia 31.01.2025 r. [ZmNr06] [D] WYS:20250205 UPO:20250205 | I2: Zarządzenie Nr 44/2025 BSO z dnia 12.02.2025 r. [ZmNr07] [B] WYS:20250217 UPO:20250217 | J2: Zarządzenie Nr 45/2025 BSO z dnia 12.02.2025 r. [ZmNr08] [D] WYS:20250217 UPO:20250217 | K2: Zarządzenie Nr 46/2025 BSO z dnia 12.02.2025 r. [ZmNr09] [W] WYS:20250217 UPO:20250217 | L2: Zarządzenie Nr 53/2025 BSO z dnia 25.02.2025 r. [ZmNr10] [B] WYS:20250303 UPO:20250303 | M2: Zarządzenie Nr 54/2025 BSO z dnia 25.02.2025 r. [ZmNr11] [D] WYS:20250303 UPO:20250303 | N2: Zarządzenie Nr 55/2025 BSO z dnia 25.02.2025 r. [ZmNr12] [W] WYS:20250303 UPO:20250303 | O2: URMSO Nr XIII/100/2025 z dnia 27.02.2025 r. [ZmNr13] | P2: Zarządzenie Nr 71/2025 BSO z dnia 12.03.2025 r. [ZmNr14] [B] WYS:20250318 UPO:20250318 | Q2: Zarządzenie Nr 72/2025 BSO z dnia 12.03.2025 r. [ZmNr15] [W] WYS:20250318 UPO:20250318 | R2: URMSO Nr XIV/107/2025 z dnia 27.03.2025 r. [ZmNr16] | S2: Zarządzenie Nr 89/2025 BSO z dnia 28.03.2025 r. [ZmNr17] [B] WYS:20250402 UPO:20250402 | T2: Zarządzenie Nr 90/2025 BSO z dnia 28.03.2025 r. [ZmNr18] [W] WYS:20250402 UPO:20250402 | U2: Zarządzenie Nr 91/2025 BSO z dnia 01.04.2025 r. [ZmNr19] [W] WYS:20250408 UPO:20250408 | V2: Zarządzenie Nr 108/2025 BSO z dnia 14.04.2025 r. [ZmNr20] [B] WYS:20250416 UPO:20250416 | W2: Zarządzenie Nr 109/2025 BSO z dnia 14.04.2025 r. [ZmNr21] [D] WYS:20250416 UPO:20250416 | X2: Zarządzenie Nr 110/2025 BSO z dnia 14.04.2025 r. [ZmNr22] [W] WYS:20250416 UPO:20250416 | Y2: URMSO Nr XV/110/2025 z dnia 24.04.2025 r. [ZmNr23] | Z2: Zarządzenie Nr 118/2025 BSO z dnia 25.04.2025 r. [ZmNr24] [B] WYS:20250429 UPO:20250429 | AA2: Zarządzenie Nr 119/2025 BSO z dnia 25.04.2025 r. [ZmNr25] [D] WYS:20250429 UPO:20250429 | AB2: Zarządzenie Nr 120/2025 BSO z dnia 25.04.2025 r. [ZmNr26] [W] WYS:20250429 UPO:20250429 | AC2: Zarządzenie Nr 127/2025 BSO z dnia 30.04.2025 r. [ZmNr27] [B] WYS:20250507 UPO:20250507 | AD2: Zarządzenie Nr 128/2025 BSO z dnia 30.04.2025 r. [ZmNr28] [R] WYS:20250507 UPO:20250507 | AE2: Zarządzenie Nr 134/2025 BSO z dnia 14.05.2025 r. [ZmNr29] [B] WYS:20250520 UPO:20250520 | AF2: Zarządzenie Nr 135/2025 BSO z dnia 14.05.2025 r. [ZmNr30] [D] WYS:20250520 UPO:20250520 | AG2: Zarządzenie Nr 136/2025 BSO z dnia 14.05.2025 r. [ZmNr31] [R] WYS:20250520 UPO:20250520 | AH2: Zarządzenie Nr 137/2025 BSO z dnia 14.05.2025 r. [ZmNr32] [W] WYS:20250520 UPO:20250520 | AI2: Zarządzenie Nr 144/2025 BSO z dnia 26.05.2025 r. [ZmNr33] [D] WYS:20250527 UPO:20250527 | AJ2: URMSO Nr XVI/118/2025 z dnia 29.05.2025 r. [ZmNr34] | AK2: Zarządzenie Nr 147/2025 BSO z dnia 30.05.2025 r. [ZmNr35] [B] WYS:20250604 UPO:20250604 | AL2: Zarządzenie Nr 148/2025 BSO z dnia 30.05.2025 r. [ZmNr36] [D] WYS:20250604 UPO:20250604 | AM2: Zarządzenie Nr 149/2025 BSO z dnia 30.05.2025 r. [ZmNr37] [W] WYS:20250604 UPO:20250604 | AN2: Zarządzenie Nr 154/2025 BSO z dnia 11.06.2025 r. [ZmNr38] [B] WYS:20250616 UPO:20250616 | AO2: Zarządzenie Nr 155/2025 BSO z dnia 11.06.2025 r. [ZmNr39] [D] WYS:20250616 UPO:20250616 | AP2: Zarządzenie Nr 156/2025 BSO z dnia 11.06.2025 r. [ZmNr40] [W] WYS:20250616 UPO:20250616 | AQ2: Zarządzenie Nr 162/2025 BSO z dnia 23.06.2025 r. [ZmNr41] [D] WYS:20250627 UPO:20250627 | AR2: Zarządzenie Nr 163/2025 BSO z dnia 23.06.2025 r. [ZmNr42] [W] WYS:20250627 UPO:20250627 | AS2: Zarządzenie Nr 164/2025 BSO z dnia 23.06.2025 r. [ZmNr43] [R] WYS:20250627 UPO:20250627 | AT2: Zarządzenie Nr 165/2025 BSO z dnia 23.06.2025 r. [ZmNr44] [B] WYS:20250627 UPO:20250627 | AU2: URMSO Nr XVII/131/2025 z dnia 26.06.2025 r. [ZmNr45] | AV2: Zarządzenie Nr 182/2025 BSO z dnia 04.07.2025 r. [ZmNr46] [W] WYS:20250709 UPO:20250709 | AW2: Zarządzenie Nr 188/2025 BSO z dnia 08.07.2025 r. [ZmNr47] [R] WYS:20250709 UPO:20250709 | AX2: Zarządzenie Nr 194/2025 BSO z dnia 18.07.2025 r. [ZmNr48] [B] WYS:20250723 UPO:20250723 | AY2: Zarządzenie Nr 195/2025 BSO z dnia 18.07.2025 r. [ZmNr49] [D] WYS:20250723 UPO:20250723 | AZ2: Zarządzenie Nr 196/2025 BSO z dnia 18.07.2025 r. [ZmNr50] [W] WYS:20250723 UPO:20250723 | BA2: Zarządzenie Nr 202/2025 BSO z dnia 28.07.2025 r. [ZmNr51] [B] WYS:20250729 UPO:20250729 | BB2: Zarządzenie Nr 203/2025 BSO z dnia 28.07.2025 r. [ZmNr52] [D] WYS:20250729 UPO:20250729 | BC2: Zarządzenie Nr 204/2025 BSO z dnia 28.07.2025 r. [ZmNr53] [W] WYS:20250729 UPO:20250729 | BD2: Zarządzenie Nr 211/2025 BSO z dnia 18.08.2025 r. [ZmNr54] [B] WYS:20250821 UPO:20250821 | BE2: Zarządzenie Nr 212/2025 BSO z dnia 18.08.2025 r. [ZmNr55] [D] WYS:20250821 UPO:20250821 | BF2: Zarządzenie Nr 213/2025 BSO z dnia 18.08.2025 r. [ZmNr56] [W] WYS:20250821 UPO:20250821 | BG2: URMSO Nr XVIII/141/2025 z dnia 28.08.2025 r. [ZmNr57] | BH2: Zarządzenie Nr 227/2025 BSO z dnia 29.08.2025 r. [ZmNr58] [B] WYS:20250904 UPO:20250904 | BI2: Zarządzenie Nr 228/2025 BSO z dnia 29.08.2025 r. [ZmNr59] [D] WYS:20250904 UPO:20250904 | BJ2: Zarządzenie Nr 229/2025 BSO z dnia 29.08.2025 r. [ZmNr60] [W] WYS:20250904 UPO:20250904 | BK2: Zarządzenie Nr 241/2025 BSO z dnia 5.09.2025 r. [ZmNr61] [B] WYS:20250910 UPO:20250910 | BL2: Zarządzenie Nr 242/2025 BSO z dnia 5.09.2025 r. [ZmNr62] [D] WYS:20250910 UPO:20250910 | BM2: Zarządzenie Nr 243/2025 BSO z dnia 5.09.2025 r. [ZmNr63] [W] WYS:20250910 UPO:20250910 | BN2: Zarządzenie Nr 250/2025 BSO z dnia 16.09.2025 r. [ZmNr64] [W] WYS:20250918 UPO:20250918 | BO2: URMSO Nr XIX/149/2025 z dnia 25.09.2025 r. [ZmNr65] | BP2: Zarządzenie Nr 262/2025 BSO z dnia 26.09.2025 r. [ZmNr66] [B] WYS:20251002 UPO:20251002 | BQ2: Zarządzenie Nr 263/2025 BSO z dnia 26.09.2025 r. [ZmNr67] [D] WYS:20251002 UPO:20251002 | BR2: Zarządzenie Nr 264/2025 BSO z dnia 26.09.2025 r. [ZmNr68] [W] WYS:20251002 UPO:20251002 | BS2: Zarządzenie Nr 265/2025 BSO z dnia 26.09.2025 r. [ZmNr69] [R] WYS:20251002 UPO:20251002 | BT2: Zarządzenie Nr 276/2025 BSO z dnia 3.10.2025 r. [ZmNr70] [D] WYS:20251008 UPO:20251008 | BU2: Zarządzenie Nr 277/2025 BSO z dnia 3.10.2025 r. [ZmNr71] [W] WYS:20251008 UPO:20251008 | BV2: Zarządzenie Nr 279/2025 BSO z dnia 13.10.2025 r. [ZmNr72 [B] WYS:20251017 UPO:20251017 | BW2: Zarządzenie Nr 280/2025 BSO z dnia 13.10.2025 r. [ZmNr73] [D] WYS:20251017 UPO:20251017 | BX2: Zarządzenie Nr 281/2025 BSO z dnia 13.10.2025 r. [ZmNr74] [R] WYS:20251017 UPO:20251017 | BY2: Zarządzenie Nr 284/2025 BSO z dnia 17.10.2025 r. [ZmNr75] [W] WYS:20251023 UPO:20251023 | BZ2: Zarządzenie Nr 285/2025 BSO z dnia 20.10.2025 r. [ZmNr76 [B] WYS:20251023 UPO:20251023 | CA2: URMSO Nr XX/153/2025 z dnia 30.10.2025 r. [ZmNr77] | CB2: Zarządzenie Nr 290/2025 BSO z dnia 31.10.2025 r. [ZmNr78 [B] WYS:20251105 UPO:20251105 | CC2: Zarządzenie Nr 291/2025 BSO z dnia 31.10.2025 r. [ZmNr79] [D] WYS:20251105 UPO:20251105 | CD2: Zarządzenie Nr 292/2025 BSO z dnia 31.10.2025 r. [ZmNr80] [W] WYS:20251105 UPO:20251105 | CE2: Zarządzenie Nr 293/2025 BSO z dnia 31.10.2025 r. [ZmNr81] [R] WYS:20251105 UPO:20251105 | CF2: Zarządzenie Nr 302/2025 BSO z dnia 13.11.2025 r. [ZmNr82 [B] WYS:20251119 UPO:20251119 | CG2: Zarządzenie Nr 303/2025 BSO z dnia 13.11.2025 r. [ZmNr83] [D] WYS:20251119 UPO:20251119 | CH2: Zarządzenie Nr 304/2025 BSO z dnia 13.11.2025 r. [ZmNr84] [W] WYS:20251119 UPO:20251119 | CI2: URMSO Nr XXI/163/2025 z dnia 27.11.2025 r. [ZmNr85] | CJ2: Zarządzenie Nr 314/2025 BSO z dnia 28.11.2025 r. [ZmNr86 [B] WYS:20251204 UPO:20251204 | CK2: Zarządzenie Nr 315/2025 BSO z dnia 28.11.2025 r. [ZmNr87] [D] WYS:20251204 UPO:20251204 | CL2: Zarządzenie Nr 316/2025 BSO z dnia 28.11.2025 r. [ZmNr88] [W] WYS:20251204 UPO:20251204 | CM2: Zarządzenie Nr 328/2025 BSO z dnia 5.12.2025 r. [ZmNr89] [B] WYS:20251210 UPO:20251210 | CN2: Zarządzenie Nr 329/2025 BSO z dnia 5.12.2025 r. [ZmNr90] [W] WYS:20251210 UPO:20251210 | CO2: Zarządzenie Nr 339/2025 BSO z dnia 12.12.2025 r. [ZmNr91] [B] WYS:20251217 UPO:20251217 | CP2: Zarządzenie Nr 340/2025 BSO z dnia 12.12.2025 r. [ZmNr92] [D] WYS:20251217 UPO:20251217 | CQ2: Zarządzenie Nr 341/2025 BSO z dnia 12.12.2025 r. [ZmNr93] [W] WYS:20251217 UPO:20251217 | CR2: URMSO Nr XXII/171/2025 z dnia 18.12.2025 r. [ZmNr94] | CS2: Zarządzenie Nr 356/2025 BSO z dnia 23.12.2025 r. [ZmNr95] [W] WYS:20251230 UPO:20251230 | CT2: Zarządzenie Nr 357/2025 BSO z dnia 23.12.2025 r. [ZmNr96] [B] WYS:20251217 UPO:20251217 | CU2: Zarządzenie Nr 365/2025 BSO z dnia 31.12.2025 r. [ZmNr97] [B] WYS:20260107 UPO:20260107 | CV2: Zarządzenie Nr 366/2025 BSO z dnia 31.12.2025 r. [ZmNr98] [W] WYS:20260107 UPO:20260107 | CW2: Budżet na 2025 r. stan na dzień 31.12.2025 r.
A3: DOCHODY | B3: =SUM(B5:B6) -> 195332000 | C3: =SUM(C5:C6) -> 0 | D3: =SUM(D5:D6) -> 17504.33 | E3: =SUM(E5:E6) -> 0 | F3: =SUM(F5:F6) -> -534427.49 | G3: =SUM(G5:G6) -> 154134.78 | H3: =SUM(H5:H6) -> 38677.99 | I3: =SUM(I5:I6) -> 17000 | ... CW3: =SUM(CW5:CW6) -> 2.0621734e+08
A4: z tego:
A5: - dochody bieżące | B5: 185928000 | C5: 0 | D5: 17504.33 | E5: 0 | F5: 11132 | G5: 154134.78 | H5: 38677.99 | I5: 17000 | J5: 1403362 | K5: 0 | L5: 150472 | M5: 138063.4 | N5: 0 | O5: 4300 | P5: 17244.58 | Q5: 0 | R5: 824334.2 | S5: 137170 | T5: 0 | U5: 0 | V5: 17272.13 | W5: 58281.2 | X5: 0 | Y5: 53000 | Z5: 153811.03 | AA5: 918196.52 | AB5: 0 | AC5: 2044.31 | AD5: 0 | AE5: 25273.34 | AF5: 185400 | AG5: 0 | AH5: 0 | AI5: 383145 | AJ5: 69437.02 | AK5: 155273 | AL5: 52800 | AM5: 0 | AN5: 41547.59 | AO5: 235870.11 | AP5: 0 | AQ5: 216954.93 | AR5: 0 | AS5: 0 | AT5: 157651 | AU5: 800 | AV5: 0 | AW5: 0 | AX5: 21614.46 | AY5: 614 | AZ5: 0 | BA5: 151778.08 | BB5: 3646.68 | BC5: 0 | BD5: 20874.87 | BE5: -54543 | BF5: 0 | BG5: 534680.91 | BH5: 155853 | BI5: -24985 | BJ5: 0 | BK5: 14615.49 | BL5: -100394.51 | BM5: 0 | BN5: 0 | BO5: -1407695.4 | BP5: 167782.24 | BQ5: 2104949.1 | BR5: 0 | BS5: 0 | BT5: 8838.27 | BU5: 0 | BV5: 1653.37 | BW5: 712341.9 | BX5: 0 | BY5: 0 | BZ5: 167235 | CA5: 0 | CB5: 73.37 | CC5: 35303 | CD5: 0 | CE5: 0 | CF5: 21437.18 | CG5: 148376.6 | CH5: 0 | CI5: -105974.8 | CJ5: 152825 | CK5: -6831.04 | CL5: 0 | CM5: 17000 | CN5: 0 | CO5: 295454.76 | CP5: 296260.95 | CQ5: 0 | CR5: 152133.44 | CS5: 0 | CT5: 66.7 | CU5: 228.09 | CV5: 0 | CW5: =SUM(B5:CV5) -> 1.9505337e+08
A6: - dochody majątkowe | B6: 9404000 | C6: 0 | D6: 0 | E6: 0 | F6: -545559.49 | G6: 0 | H6: 0 | I6: 0 | J6: 0 | K6: 0 | L6: 0 | M6: 0 | N6: 0 | O6: 1590402.3 | P6: 0 | Q6: 0 | R6: 300000 | S6: 0 | T6: 0 | U6: 0 | V6: 0 | W6: 0 | X6: 0 | Y6: 300000 | Z6: 0 | AA6: 0 | AB6: 0 | AC6: 0 | AD6: 0 | AE6: 0 | AF6: 0 | AG6: 0 | AH6: 0 | AI6: 0 | AJ6: 0 | AK6: 0 | AL6: 6500 | AM6: 0 | AN6: 0 | AO6: 0 | AP6: 0 | AQ6: 0 | AR6: 0 | AS6: 0 | AT6: 0 | AU6: -865686.27 | AV6: 0 | AW6: 0 | AX6: 0 | AY6: 0 | AZ6: 0 | BA6: 0 | BB6: 0 | BC6: 0 | BD6: 0 | BE6: 0 | BF6: 0 | BG6: 459237.39 | BH6: 0 | BI6: 420000 | BJ6: 0 | BK6: 0 | BL6: 0 | BM6: 0 | BN6: 0 | BO6: -336000 | BP6: 0 | BQ6: 0 | BR6: 0 | BS6: 0 | BT6: 300000 | BU6: 0 | BV6: 0 | BW6: 0 | BX6: 0 | BY6: 0 | BZ6: 0 | CA6: -628500 | CB6: 0 | CC6: 700000 | CD6: 0 | CE6: 0 | CF6: 0 | CG6: 105000 | CH6: 0 | CI6: 0 | CJ6: 0 | CK6: 0 | CL6: 0 | CM6: 0 | CN6: 0 | CO6: 0 | CP6: 0 | CQ6: 0 | CR6: -45416.51 | CS6: 0 | CT6: 0 | CU6: 0 | CV6: 0 | CW6: =SUM(B6:CV6) -> 11163977
A7: PRZYCHODY | B7: 22368296 | C7: 0 | D7: 0 | E7: 0 | F7: -1784275 | G7: 0 | H7: 0 | I7: 0 | J7: 0 | K7: 0 | L7: 0 | M7: 0 | N7: 0 | O7: 0 | P7: 0 | Q7: 0 | R7: -245425.68 | S7: 0 | T7: 0 | U7: 0 | V7: 0 | W7: 0 | X7: 0 | Y7: 2297877.2 | Z7: 0 | AA7: 0 | AB7: 0 | AC7: 0 | AD7: 0 | AE7: 0 | AF7: 0 | AG7: 0 | AH7: 0 | AI7: 0 | AJ7: 555192.32 | AK7: 0 | AL7: 0 | AM7: 0 | AN7: 0 | AO7: 0 | AP7: 0 | AQ7: 0 | AR7: 0 | AS7: 0 | AT7: 0 | AU7: -34500 | AV7: 0 | AW7: 0 | AX7: 0 | AY7: 0 | AZ7: 0 | BA7: 0 | BB7: 0 | BC7: 0 | BD7: 0 | BE7: 0 | BF7: 0 | BG7: -1602538.7 | BH7: 0 | BI7: 0 | BJ7: 0 | BK7: 0 | BL7: 0 | BM7: 0 | BN7: 0 | BO7: -610966 | BP7: 0 | BQ7: 0 | BR7: 0 | BS7: 0 | BT7: 0 | BU7: 0 | BV7: 0 | BW7: 0 | BX7: 0 | BY7: 0 | BZ7: 0 | CA7: 1760657.6 | CB7: 0 | CC7: 0 | CD7: 0 | CE7: 0 | CF7: 0 | CG7: 0 | CH7: 0 | CI7: 81974 | CJ7: 0 | CK7: 0 | CL7: 0 | CM7: 0 | CN7: 0 | CO7: 0 | CP7: 0 | CQ7: 0 | CR7: -31043 | CS7: 0 | CT7: 0 | CU7: 0 | CV7: 0 | CW7: =SUM(B7:CV7) -> 22755249
A8: RAZEM | B8: =SUM(B3,B7) -> 217700296 | C8: =SUM(C3,C7) -> 0 | D8: =SUM(D3,D7) -> 17504.33 | E8: =SUM(E3,E7) -> 0 | F8: =SUM(F3,F7) -> -2318702.5 | G8: =SUM(G3,G7) -> 154134.78 | H8: =SUM(H3,H7) -> 38677.99 | I8: =SUM(I3,I7) -> 17000 | ... CW8: =SUM(CW3,CW7) -> 2.2897259e+08
A9: WYDATKI | B9: =SUM(B11:B12) -> 213880300 | C9: =SUM(C11:C12) -> 0 | D9: =SUM(D11:D12) -> 17504.33 | E9: =SUM(E11:E12) -> 0 | F9: =SUM(F11:F12) -> -2318702.5 | G9: =SUM(G11:G12) -> 154134.78 | H9: =SUM(H11:H12) -> 38677.99 | I9: =SUM(I11:I12) -> 17000 | ... CW9: =SUM(CW11:CW12) -> 2.251526e+08
A10: z tego: | CA10: 0 | CI10: 0 | CR10: 0
A11: - wydatki bieżące | B11: 184533600 | C11: -20000 | D11: 17504.33 | E11: 0 | F11: 11132 | G11: 154134.78 | H11: 38677.99 | I11: 17000 | J11: 1403362 | K11: -60000 | L11: 150472 | M11: 138063.4 | N11: -20654.62 | O11: 4300 | P11: 17244.58 | Q11: 0 | R11: 641870.19 | S11: 137170 | T11: 0 | U11: 1300 | V11: 17272.13 | W11: 58281.2 | X11: 0 | Y11: 111900 | Z11: 153811.03 | AA11: 918196.52 | AB11: 0 | AC11: 2044.31 | AD11: 0 | AE11: 25273.34 | AF11: 185400 | AG11: 0 | AH11: 0 | AI11: 383145 | AJ11: 554302.8 | AK11: 155273 | AL11: 52800 | AM11: -1300 | AN11: 41547.59 | AO11: 235870.11 | AP11: 0 | AQ11: 216954.93 | AR11: 0 | AS11: 0 | AT11: 157651 | AU11: 166300 | AV11: 0 | AW11: 0 | AX11: 21614.46 | AY11: 614 | AZ11: 0 | BA11: 151778.08 | BB11: 3646.68 | BC11: 0 | BD11: 20874.87 | BE11: -54543 | BF11: 0 | BG11: 347745.89 | BH11: 155853 | BI11: -24985 | BJ11: 0 | BK11: 14615.49 | BL11: -100394.51 | BM11: -13000 | BN11: 0 | BO11: -1544661.4 | BP11: 167782.24 | BQ11: 2104949.1 | BR11: -44000 | BS11: 0 | BT11: 8838.27 | BU11: -2000 | BV11: 1653.37 | BW11: 712341.9 | BX11: 0 | BY11: -26800 | BZ11: 167235 | CA11: 3412757.6 | CB11: 73.37 | CC11: 35303 | CD11: -9000 | CE11: 0 | CF11: 21437.18 | CG11: 148376.6 | CH11: -26853.75 | CI11: 286999.2 | CJ11: 152825 | CK11: -6831.04 | CL11: -15322.69 | CM11: 17000 | CN11: 1000 | CO11: 295454.76 | CP11: 296260.95 | CQ11: 3000 | CR11: 75673.93 | CS11: 226 | CT11: 66.7 | CU11: 228.09 | CV11: 0 | CW11: =SUM(B11:CV11) -> 1.9735773e+08
A12: - wydatki majątkowe | B12: 29346700 | C12: 20000 | D12: 0 | E12: 0 | F12: -2329834.5 | G12: 0 | H12: 0 | I12: 0 | J12: 0 | K12: 60000 | L12: 0 | M12: 0 | N12: 20654.62 | O12: 1590402.3 | P12: 0 | Q12: 0 | R12: 237038.37 | S12: 0 | T12: 0 | U12: -1300 | V12: 0 | W12: 0 | X12: 0 | Y12: 2538977.2 | Z12: 0 | AA12: 0 | AB12: 0 | AC12: 0 | AD12: 0 | AE12: 0 | AF12: 0 | AG12: 0 | AH12: 0 | AI12: 0 | AJ12: 70326.54 | AK12: 0 | AL12: 6500 | AM12: 1300 | AN12: 0 | AO12: 0 | AP12: 0 | AQ12: 0 | AR12: 0 | AS12: 0 | AT12: 0 | AU12: -1065686.3 | AV12: 0 | AW12: 0 | AX12: 0 | AY12: 0 | AZ12: 0 | BA12: 0 | BB12: 0 | BC12: 0 | BD12: 0 | BE12: 0 | BF12: 0 | BG12: -956366.25 | BH12: 0 | BI12: 420000 | BJ12: 0 | BK12: 0 | BL12: 0 | BM12: 13000 | BN12: 0 | BO12: -810000 | BP12: 0 | BQ12: 0 | BR12: 44000 | BS12: 0 | BT12: 300000 | BU12: 2000 | BV12: 0 | BW12: 0 | BX12: 0 | BY12: 26800 | BZ12: 0 | CA12: -2280600 | CB12: 0 | CC12: 700000 | CD12: 9000 | CE12: 0 | CF12: 0 | CG12: 105000 | CH12: 26853.75 | CI12: -311000 | CJ12: 0 | CK12: 0 | CL12: 15322.69 | CM12: 0 | CN12: -1000 | CO12: 0 | CP12: 0 | CQ12: -3000 | CR12: 0 | CS12: -226 | CT12: 0 | CU12: 0 | CV12: 0 | CW12: =SUM(B12:CV12) -> 27794862
A13: ROZCHODY | B13: 3819996 | C13: 0 | D13: 0 | E13: 0 | F13: 0 | G13: 0 | H13: 0 | I13: 0 | J13: 0 | K13: 0 | L13: 0 | M13: 0 | N13: 0 | O13: 0 | P13: 0 | Q13: 0 | R13: -0.04 | S13: 0 | T13: 0 | U13: 0 | V13: 0 | W13: 0 | X13: 0 | Y13: 0 | Z13: 0 | AA13: 0 | AB13: 0 | AC13: 0 | AD13: 0 | AE13: 0 | AF13: 0 | AG13: 0 | AH13: 0 | AI13: 0 | AJ13: 0 | AK13: 0 | AL13: 0 | AM13: 0 | AN13: 0 | AO13: 0 | AP13: 0 | AQ13: 0 | AR13: 0 | AS13: 0 | AT13: 0 | AU13: 0 | AV13: 0 | AW13: 0 | AX13: 0 | AY13: 0 | AZ13: 0 | BA13: 0 | BB13: 0 | BC13: 0 | BD13: 0 | BE13: 0 | BF13: 0 | BG13: 0 | BH13: 0 | BI13: 0 | BJ13: 0 | BK13: 0 | BL13: 0 | BM13: 0 | BN13: 0 | BO13: 0 | BP13: 0 | BQ13: 0 | BR13: 0 | BS13: 0 | BT13: 0 | BU13: 0 | BV13: 0 | BW13: 0 | BX13: 0 | BY13: 0 | BZ13: 0 | CA13: 0 | CB13: 0 | CC13: 0 | CD13: 0 | CE13: 0 | CF13: 0 | CG13: 0 | CH13: 0 | CI13: 0 | CJ13: 0 | CK13: 0 | CL13: 0 | CM13: 0 | CN13: 0 | CO13: 0 | CP13: 0 | CQ13: 0 | CR13: 0 | CS13: 0 | CT13: 0 | CU13: 0 | CV13: 0 | CW13: =SUM(B13:CV13) -> 3819996
A14: RAZEM | B14: =SUM(B9,B13) -> 217700296 | C14: =SUM(C9,C13) -> 0 | D14: =SUM(D9,D13) -> 17504.33 | E14: =SUM(E9,E13) -> 0 | F14: =SUM(F9,F13) -> -2318702.5 | G14: =SUM(G9,G13) -> 154134.78 | H14: =SUM(H9,H13) -> 38677.99 | I14: =SUM(I9,I13) -> 17000 | ... CW14: =SUM(CW9,CW13) -> 2.2897259e+08
A15: DEFICYT | B15: =+B3-B9 -> -18548300 | C15: =+C3-C9 -> 0 | D15: =+D3-D9 -> 0 | E15: =+E3-E9 -> 0 | F15: =+F3-F9 -> 1784275 | G15: =+G3-G9 -> 0 | H15: =+H3-H9 -> 0 | I15: =+I3-I9 -> 0 | ... CW15: =+CW3-CW9 -> -18935253
A16: REZERWY
A17: rezerwa ogólna | B17: =SUM(B19:B20) -> 1400000 | C17: =SUM(C19:C20) -> 0 | D17: =SUM(D19:D20) -> 0 | E17: =SUM(E19:E20) -> 0 | F17: =SUM(F19:F20) -> 0 | G17: =SUM(G19:G20) -> 0 | H17: =SUM(H19:H20) -> 0 | I17: =SUM(I19:I20) -> 0 | ... CW17: =SUM(CW19:CW20) -> 469108
A18: z tego:
A19: - na wydatki bieżące [ROB - 758.75818.4810] | B19: 780000 | C19: 0 | D19: 0 | E19: 0 | F19: 0 | G19: 0 | H19: 0 | I19: 0 | J19: 0 | K19: 0 | L19: 0 | M19: 0 | N19: 0 | O19: 0 | P19: 0 | Q19: 0 | R19: 0 | S19: 0 | T19: 0 | U19: 0 | V19: 0 | W19: 0 | X19: 0 | Y19: 0 | Z19: 0 | AA19: 0 | AB19: 0 | AC19: 0 | AD19: 0 | AE19: 0 | AF19: 0 | AG19: -180000 | AH19: 0 | AI19: 0 | AJ19: 0 | AK19: 0 | AL19: 0 | AM19: 0 | AN19: 0 | AO19: 0 | AP19: 0 | AQ19: 0 | AR19: 0 | AS19: 0 | AT19: 0 | AU19: 0 | AV19: 0 | AW19: 0 | AX19: 0 | AY19: 0 | AZ19: 0 | BA19: 0 | BB19: 0 | BC19: 0 | BD19: 0 | BE19: 0 | BF19: 0 | BG19: 0 | BH19: 0 | BI19: 0 | BJ19: 0 | BK19: 0 | BL19: 0 | BM19: 0 | BN19: 0 | BO19: 0 | BP19: 0 | BQ19: 0 | BR19: 0 | BS19: 0 | BT19: 0 | BU19: 0 | BV19: 0 | BW19: 0 | BX19: -500000 | BY19: 0 | BZ19: 0 | CA19: 0 | CB19: 0 | CC19: 0 | CD19: 0 | CE19: -3000 | CF19: 0 | CG19: 0 | CH19: 0 | CI19: 0 | CJ19: 0 | CK19: 0 | CL19: 0 | CM19: 0 | CN19: 0 | CO19: 0 | CP19: 0 | CQ19: 0 | CR19: 0 | CS19: 0 | CT19: 0 | CU19: 0 | CV19: 0 | CW19: =SUM(B19:CV19) -> 97000
A20: - na wydatki i zakupy inwestycyjne [ROM - 758.75818.6800] | B20: 620000 | C20: 0 | D20: 0 | E20: 0 | F20: 0 | G20: 0 | H20: 0 | I20: 0 | J20: 0 | K20: 0 | L20: 0 | M20: 0 | N20: 0 | O20: 0 | P20: 0 | Q20: 0 | R20: 0 | S20: 0 | T20: 0 | U20: 0 | V20: 0 | W20: 0 | X20: 0 | Y20: 0 | Z20: 0 | AA20: 0 | AB20: 0 | AC20: 0 | AD20: -27000 | AE20: 0 | AF20: 0 | AG20: -50000 | AH20: 0 | AI20: 0 | AJ20: 0 | AK20: 0 | AL20: 0 | AM20: 0 | AN20: 0 | AO20: 0 | AP20: 0 | AQ20: 0 | AR20: 0 | AS20: -28000 | AT20: 0 | AU20: 0 | AV20: 0 | AW20: -13392 | AX20: 0 | AY20: 0 | AZ20: 0 | BA20: 0 | BB20: 0 | BC20: 0 | BD20: 0 | BE20: 0 | BF20: 0 | BG20: 0 | BH20: 0 | BI20: 0 | BJ20: 0 | BK20: 0 | BL20: 0 | BM20: 0 | BN20: 0 | BO20: 0 | BP20: 0 | BQ20: 0 | BR20: 0 | BS20: 0 | BT20: 0 | BU20: 0 | BV20: 0 | BW20: 0 | BX20: -129500 | BY20: 0 | BZ20: 0 | CA20: 0 | CB20: 0 | CC20: 0 | CD20: 0 | CE20: 0 | CF20: 0 | CG20: 0 | CH20: 0 | CI20: 0 | CJ20: 0 | CK20: 0 | CL20: 0 | CM20: 0 | CN20: 0 | CO20: 0 | CP20: 0 | CQ20: 0 | CR20: 0 | CS20: 0 | CT20: 0 | CU20: 0 | CV20: 0 | CW20: =SUM(B20:CV20) -> 372108
A21: rezerwy celowe | B21: =SUM(B23:B24) -> 1000000 | C21: =SUM(C23:C24) -> 0 | D21: =SUM(D23:D24) -> 0 | E21: =SUM(E23:E24) -> 0 | F21: =SUM(F23:F24) -> 0 | G21: =SUM(G23:G24) -> 0 | H21: =SUM(H23:H24) -> 0 | I21: =SUM(I23:I24) -> 0 | ... CW21: =SUM(CW23:CW24) -> 450000
A22: z tego:
A23: - na wynagrodzenia m.in. nagrody jubileuszowe i odprawy emerytalno-rentowe [RCB - 758.75818.4810] | B23: 550000 | C23: 0 | D23: 0 | E23: 0 | F23: 0 | G23: 0 | H23: 0 | I23: 0 | J23: 0 | K23: 0 | L23: 0 | M23: 0 | N23: 0 | O23: 0 | P23: 0 | Q23: 0 | R23: 0 | S23: 0 | T23: 0 | U23: 0 | V23: 0 | W23: 0 | X23: 0 | Y23: 0 | Z23: 0 | AA23: 0 | AB23: 0 | AC23: 0 | AD23: 0 | AE23: 0 | AF23: 0 | AG23: 0 | AH23: 0 | AI23: 0 | AJ23: 0 | AK23: 0 | AL23: 0 | AM23: 0 | AN23: 0 | AO23: 0 | AP23: 0 | AQ23: 0 | AR23: 0 | AS23: 0 | AT23: 0 | AU23: 0 | AV23: 0 | AW23: 0 | AX23: 0 | AY23: 0 | AZ23: 0 | BA23: 0 | BB23: 0 | BC23: 0 | BD23: 0 | BE23: 0 | BF23: 0 | BG23: 0 | BH23: 0 | BI23: 0 | BJ23: 0 | BK23: 0 | BL23: 0 | BM23: 0 | BN23: 0 | BO23: 0 | BP23: 0 | BQ23: 0 | BR23: 0 | BS23: -550000 | BT23: 0 | BU23: 0 | BV23: 0 | BW23: 0 | BX23: 0 | BY23: 0 | BZ23: 0 | CA23: 0 | CB23: 0 | CC23: 0 | CD23: 0 | CE23: 0 | CF23: 0 | CG23: 0 | CH23: 0 | CI23: 0 | CJ23: 0 | CK23: 0 | CL23: 0 | CM23: 0 | CN23: 0 | CO23: 0 | CP23: 0 | CQ23: 0 | CR23: 0 | CS23: 0 | CT23: 0 | CU23: 0 | CV23: 0 | CW23: =SUM(B23:CV23) -> 0
A24: - na realizację zadań z zakresu zarządzania kryzysowego [RCB - 758.75818.4810] | B24: 450000 | C24: 0 | D24: 0 | E24: 0 | F24: 0 | G24: 0 | H24: 0 | I24: 0 | J24: 0 | K24: 0 | L24: 0 | M24: 0 | N24: 0 | O24: 0 | P24: 0 | Q24: 0 | R24: 0 | S24: 0 | T24: 0 | U24: 0 | V24: 0 | W24: 0 | X24: 0 | Y24: 0 | Z24: 0 | AA24: 0 | AB24: 0 | AC24: 0 | AD24: 0 | AE24: 0 | AF24: 0 | AG24: 0 | AH24: 0 | AI24: 0 | AJ24: 0 | AK24: 0 | AL24: 0 | AM24: 0 | AN24: 0 | AO24: 0 | AP24: 0 | AQ24: 0 | AR24: 0 | AS24: 0 | AT24: 0 | AU24: 0 | AV24: 0 | AW24: 0 | AX24: 0 | AY24: 0 | AZ24: 0 | BA24: 0 | BB24: 0 | BC24: 0 | BD24: 0 | BE24: 0 | BF24: 0 | BG24: 0 | BH24: 0 | BI24: 0 | BJ24: 0 | BK24: 0 | BL24: 0 | BM24: 0 | BN24: 0 | BO24: 0 | BP24: 0 | BQ24: 0 | BR24: 0 | BS24: 0 | BT24: 0 | BU24: 0 | BV24: 0 | BW24: 0 | BX24: 0 | BY24: 0 | BZ24: 0 | CA24: 0 | CB24: 0 | CC24: 0 | CD24: 0 | CE24: 0 | CF24: 0 | CG24: 0 | CH24: 0 | CI24: 0 | CJ24: 0 | CK24: 0 | CL24: 0 | CM24: 0 | CN24: 0 | CO24: 0 | CP24: 0 | CQ24: 0 | CR24: 0 | CS24: 0 | CT24: 0 | CU24: 0 | CV24: 0 | CW24: =SUM(B24:CV24) -> 450000
A27: BSO - Burmistrz Strzelec Opolskich
A28: ROB - rezerwa ogólna bieżąca
A29: ROM - rezerwa ogólna majątkowa
A30: RCB - rezerwa celowa bieżąca
A31: RCM - rezerwa celowa majątkowa

Sheet CHECKLIST
A3: Kwota ogółem (D) - Tab. Nr 1 | B3: =ROUND('Budżet 2025- Dochody'!$C$5,2) -> 2.0621734e+08
A4: Kwota ogółem (D) - Tab. Nr 3 | B4: =ROUND('Budżet 2025 - po zmianach'!$CW$3,2) -> 2.0621734e+08
A5: Warunek spełniony? | B5: =IF((B3-B4)=0,"OK","Błąd!") -> OK
A7: Kwota ogółem (W) - Tab. Nr 2 | B7: =ROUND('Budżet 2025 - Wydatki'!$C$5,2) -> 2.251526e+08
A8: Kwota ogółem (W) - Tab. Nr 3 | B8: =ROUND('Budżet 2025 - po zmianach'!$CW$9,2) -> 2.251526e+08
A9: Warunek spełniony? | B9: =IF((B7-B8)=0,"OK","Błąd!") -> OK
A11: Kwota ogółem (D) [ZZ] - Tab. Nr 1 | B11: ='Budżet 2025- Dochody'!$E$5 -> 16871124
A12: Kwota ogółem (W) [ZZ] - Tab. Nr 2 | B12: ='Budżet 2025 - Wydatki'!$E$5 -> 16871124
A13: Warunek spełniony? | B13: =IF((B11-B12)=0,"OK","Błąd!") -> OK
