Workbook

Sheet START
B3: Gmina Strzelce Opolskie
B4: Plac Myśliwca 1
B5: 47-100 Strzelce Opolskie
B7: Budżet 2020 :: Zadania
B9: Uchwała Nr XVII/173/2019 Rady Miejskiej w Strzelcach Opolskich z dnia 18 grudnia 2019 r.
B10: w sprawie uchwały budżetowej gminy Strzelce Opolskie na 2020 rok
B13: Opracowanie: | D13: Piotr Szuba
D14: p.szuba@strzelceopolskie.pl
D15: Naczelnik Wydziału Finansowego
D17: Tel. +48 77 404 93 30 | Fax +48 77 461 44 22 | Tel. kom. +48 605 724 654
D19: FACEBOOK: https://www.facebook.com/szuba76 | TWITTER: https://twitter.com/piotr_szuba
D20: INSTAGRAM: https://www.instagram.com/szuba76
D22: #budzetso2020 #gminastrzelceopolskie #szuba76

Sheet Dane
A2: Nazwa zadania | B2: Źródło | C2: Dział | D2: Rozdział | E2: Paragraf | F2: Komórka organizacyjna | G2: Kategoria | H2: Sołectwo Nr Projektu | I2: Plan 2020 po zmianach [zł] | J2: Budżet na 2020 rok wg URMSO Nr XVII/173/2019 z dnia 18.12.2019 r. | K2: Wniosek z dnia 16.01.2020 r. [IT] | L2: Wniosek z dnia 21.01.2020 r. [IT] | M2: Zarządzenie Nr 21/2020 BSO z dnia 29.01.2020 r. | N2: Zarządzenie Nr 32/2020 BSO z dnia 10.02.2020 r. | O2: Zarządzenie Nr 42/2020 BSO z dnia 27.02.2020 r. | P2: --
A3: Adaptacja części budynku przedszkola ujętego w gminnej ewidencji zabytków na potrzeby ZPO w Dziewkowicach | B3: Zadania własne | C3: 801 | D3: 80101 | E3: 6050 | F3: GZOJ | G3: - | H3: - | I3: =SUM(J3:P3) -> 60000 | J3: 60000 | K3: -- | L3: -- | M3: -- | N3: -- | O3: -- | P3: --
A4: Adaptacja części pomieszczeń budynku przy ul. Marka Prawego 21 w Strzelcach Opolskich na potrzeby gminy Strzelce Opolskie | B4: Zadania własne | C4: 801 | D4: 80195 | E4: 6050 | F4: Referat Inwestycyjno-Techniczny | G4: - | H4: - | I4: =SUM(J4:P4) -> 2600000 | J4: 2600000 | K4: -- | L4: -- | M4: -- | N4: -- | O4: -- | P4: --
A5: Bieżące remonty dróg gminnych - remonty cząstkowe | B5: Zadania własne | C5: 600 | D5: 60016 | E5: 4270 | F5: Referat Inwestycyjno-Techniczny | G5: - | H5: - | I5: =SUM(J5:P5) -> 430000 | J5: 430000 | K5: -- | L5: -- | M5: -- | N5: -- | O5: -- | P5: --
A6: Budowa budynku mieszkalnego wielorodzinnego w Strzelcach Opolskich przy ul. Bocznicowej - Program "Twoje M" - etap II - opracowanie dokumentacji projektowej | B6: Zadania własne | C6: 700 | D6: 70005 | E6: 6050 | F6: Referat Inwestycyjno-Techniczny | G6: - | H6: - | I6: =SUM(J6:P6) -> 150000 | J6: 150000 | K6: -- | L6: -- | M6: -- | N6: -- | O6: -- | P6: --
A7: Budowa chodnika w ciągu ul. Brzezińskiej w Strzelcach Opolskich - opracowanie dokumentacji projektowej | B7: Zadania własne | C7: 600 | D7: 60016 | E7: 6050 | F7: Referat Inwestycyjno-Techniczny | G7: - | H7: - | I7: =SUM(J7:P7) -> 20000 | J7: 20000 | K7: -- | L7: -- | M7: -- | N7: -- | O7: -- | P7: --
A8: Budowa chodnika wraz z zatoczką parkingową na ul. Szkolnej - etap II (Szymiszów) | B8: Zadania własne | C8: 600 | D8: 60016 | E8: 6050 | F8: Referat Inwestycyjno-Techniczny | G8: SBO | H8: 14 | I8: =SUM(J8:P8) -> 49876 | J8: 49876 | K8: -- | L8: -- | M8: -- | N8: -- | O8: -- | P8: --
A9: Budowa chodnika wraz z zatoczką parkingową przy ul. Szkolnej | B9: Zadania własne | C9: 600 | D9: 60016 | E9: 6050 | F9: Referat Rolnictwa | G9: FunSol | H9: Szymiszów Osiedle | I9: =SUM(J9:P9) -> 24000 | J9: 24000 | K9: -- | L9: -- | M9: -- | N9: -- | O9: -- | P9: --
A10: Budowa oświetlenia na boisku sportowym LKS "Rzemiosło" - etap I (Dziewkowice) | B10: Zadania własne | C10: 926 | D10: 92601 | E10: 6050 | F10: Referat Inwestycyjno-Techniczny | G10: SBO | H10: 16 | I10: =SUM(J10:P10) -> 50000 | J10: 50000 | K10: -- | L10: -- | M10: -- | N10: -- | O10: -- | P10: --
A11: Budowa oświetlenia na odcinku Kalinowice - Przysiółek Dolna Lipa | B11: Zadania własne | C11: 900 | D11: 90015 | E11: 6050 | F11: Referat Inwestycyjno-Techniczny | G11: - | H11: - | I11: =SUM(J11:P11) -> 40000 | J11: 40000 | K11: -- | L11: -- | M11: -- | N11: -- | O11: -- | P11: --
A12: Budowa oświetlenia na ul. Brzozowej | B12: Zadania własne | C12: 900 | D12: 90015 | E12: 6050 | F12: Referat Rolnictwa | G12: FunSol | H12: Rożniątów | I12: =SUM(J12:P12) -> 16000 | J12: 16000 | K12: -- | L12: -- | M12: -- | N12: -- | O12: -- | P12: --
A13: Budowa oświetlenia skrzyżowania przy ul. Strzeleckiej w Rozmierce - wjazd na posesję 51B od strony Grodziska | B13: Zadania własne | C13: 900 | D13: 90015 | E13: 6050 | F13: Referat Inwestycyjno-Techniczny | G13: - | H13: - | I13: =SUM(J13:P13) -> 15000 | J13: 15000 | K13: -- | L13: -- | M13: -- | N13: -- | O13: -- | P13: --
A14: Budowa oświetlenia skrzyżowania ul. Fabrycznej z ul. Starej Karoliny w Szymiszowie Osiedlu | B14: Zadania własne | C14: 900 | D14: 90015 | E14: 6050 | F14: Referat Inwestycyjno-Techniczny | G14: - | H14: - | I14: =SUM(J14:P14) -> 30000 | J14: 30000 | K14: -- | L14: -- | M14: -- | N14: -- | O14: -- | P14: --
A15: Budowa oświetlenia ul. Dworcowej w Błotnicy Strzeleckiej (od ul. Parkowej w kierunku przejazdu kolejowego) - opracowanie dokumentacji projektowej | B15: Zadania własne | C15: 900 | D15: 90015 | E15: 6050 | F15: Referat Inwestycyjno-Techniczny | G15: - | H15: - | I15: =SUM(J15:P15) -> 6000 | J15: 6000 | K15: -- | L15: -- | M15: -- | N15: -- | O15: -- | P15: --
A16: Budowa oświetlenia ul. Granicznej w Brzezinie - opracowanie dokumentacji projektowej | B16: Zadania własne | C16: 900 | D16: 90015 | E16: 6050 | F16: Referat Inwestycyjno-Techniczny | G16: - | H16: - | I16: =SUM(J16:P16) -> 6000 | J16: 6000 | K16: -- | L16: -- | M16: -- | N16: -- | O16: -- | P16: --
A17: Budowa oświetlenia ul. Krótkiej w Dziewkowicach - opracowanie dokumentacji projektowej | B17: Zadania własne | C17: 900 | D17: 90015 | E17: 6050 | F17: Referat Inwestycyjno-Techniczny | G17: - | H17: - | I17: =SUM(J17:P17) -> 6000 | J17: 6000 | K17: -- | L17: -- | M17: -- | N17: -- | O17: -- | P17: --
A18: Budowa oświetlenia ul. Leśnej w Błotnicy Strzeleckiej - opracowanie dokumentacji projektowej | B18: Zadania własne | C18: 900 | D18: 90015 | E18: 6050 | F18: Referat Inwestycyjno-Techniczny | G18: - | H18: - | I18: =SUM(J18:P18) -> 6000 | J18: 6000 | K18: -- | L18: -- | M18: -- | N18: -- | O18: -- | P18: --
A19: Budowa oświetlenia ul. Rynek w Strzelcach Opolskich | B19: Zadania własne | C19: 900 | D19: 90015 | E19: 6050 | F19: Referat Inwestycyjno-Techniczny | G19: - | H19: - | I19: =SUM(J19:P19) -> 27000 | J19: 27000 | K19: -- | L19: -- | M19: -- | N19: -- | O19: -- | P19: --
A20: Budowa oświetlenia ul. Sosnowej w Suchej | B20: Zadania własne | C20: 900 | D20: 90015 | E20: 6050 | F20: Referat Inwestycyjno-Techniczny | G20: - | H20: - | I20: =SUM(J20:P20) -> 12000 | J20: 12000 | K20: -- | L20: -- | M20: -- | N20: -- | O20: -- | P20: --
A21: Budowa systemu nawadniającego wraz z odwiertem studni głębinowej na gminnym boisku sportowym w Błotnicy Strzeleckiej | B21: Zadania własne | C21: 926 | D21: 92601 | E21: 6050 | F21: Referat Sportu i Rekreacji | G21: - | H21: - | I21: =SUM(J21:P21) -> 85000 | J21: 85000 | K21: -- | L21: -- | M21: -- | N21: -- | O21: -- | P21: --
A22: Budowa szatni na gminnym boisku sportowym w Kalinowie - opracowanie dokumentacji projektowej | B22: Zadania własne | C22: 926 | D22: 92601 | E22: 6050 | F22: Referat Sportu i Rekreacji | G22: - | H22: - | I22: =SUM(J22:P22) -> 11000 | J22: 11000 | K22: -- | L22: -- | M22: -- | N22: -- | O22: -- | P22: --
... A28: Konserwacja i remonty infrastruktury technicznej oraz sprzętu | B28: Zadania własne | C28: 710 | D28: 71035 | E28: 4270 | F28: GZMK | G28: - | H28: - | I28: =SUM(J28:P28) -> 6000 | J28: 6000 | K28: -- | L28: -- | M28: -- | N28: -- | O28: -- | P28: --
A29: Konserwacja rowów melioracyjnych na terenie gminy Strzelce Opolskie | B29: Zadania własne | C29: 010 | D29: 01008 | E29: 4270 | F29: Referat Inwestycyjno-Techniczny | G29: - | H29: - | I29: =SUM(J29:P29) -> 70000 | J29: 70000 | K29: -- | L29: -- | M29: -- | N29: -- | O29: -- | P29: --
A30: Konserwacja rowu A61 | B30: Zadania własne | C30: 010 | D30: 01008 | E30: 4270 | F30: Referat Inwestycyjno-Techniczny | G30: - | H30: - | I30: =SUM(J30:P30) -> 50000 | J30: 50000 | K30: -- | L30: -- | M30: -- | N30: -- | O30: -- | P30: --
A31: Konserwacja rowu melioracyjnego | B31: Zadania własne | C31: 010 | D31: 01008 | E31: 6050 | F31: Referat Rolnictwa | G31: FunSol | H31: Adamowice | I31: =SUM(J31:P31) -> 15932.09 | J31: 15932.09 | K31: -- | L31: -- | M31: -- | N31: -- | O31: -- | P31: --
A32: Kształtowanie wizerunku i estetyki wsi | B32: Zadania własne | C32: 900 | D32: 90004 | E32: 6060 | F32: Referat Rolnictwa | G32: FunSol | H32: Kalinowice | I32: =SUM(J32:P32) -> 10500 | J32: 10500 | K32: -- | L32: -- | M32: -- | N32: -- | O32: -- | P32: --
A33: Modernizacja budynku sołeckiego | B33: Zadania własne | C33: 921 | D33: 92105 | E33: 6050 | F33: Referat Rolnictwa | G33: FunSol | H33: Kalinów | I33: =SUM(J33:P33) -> 11000 | J33: 11000 | K33: -- | L33: -- | M33: -- | N33: -- | O33: -- | P33: --
A34: Modernizacja mostu w ciągu ul. Wodnej w Kadłubie - opracowanie dokumentacji projektowej | B34: Zadania własne | C34: 600 | D34: 60016 | E34: 6050 | F34: Referat Inwestycyjno-Techniczny | G34: - | H34: - | I34: =SUM(J34:P34) -> 70000 | J34: 70000 | K34: -- | L34: -- | M34: -- | N34: -- | O34: -- | P34: --
A35: Modernizacja nawierzchni poliuretanowej boiska zewnętrznego przy PSP Nr 7 w Strzelcach Opolskich | B35: Zadania własne | C35: 801 | D35: 80101 | E35: 6050 | F35: GZOJ | G35: - | H35: - | I35: =SUM(J35:P35) -> 50000 | J35: 50000 | K35: -- | L35: -- | M35: -- | N35: -- | O35: -- | P35: --
A36: Modernizacja nawierzchni poliuretanowych boisk zewnętrznych i bieżni przy PSP Nr 1 w Strzelcach Opolskich | B36: Zadania własne | C36: 801 | D36: 80101 | E36: 6050 | F36: GZOJ | G36: - | H36: - | I36: =SUM(J36:P36) -> 90000 | J36: 90000 | K36: -- | L36: -- | M36: -- | N36: -- | O36: -- | P36: --
A37: Modernizacja obiektów sportowo-rekreacyjnych i monitoringu miejskiego na terenie gminy Strzelce Opolskie | B37: Zadania własne | C37: 851 | D37: 85154 | E37: 6050 | F37: Pełnomocnik Burmistrza ds. Profilaktyki i Uzależnień | G37: - | H37: - | I37: =SUM(J37:P37) -> 30000 | J37: 30000 | K37: -- | L37: -- | M37: -- | N37: -- | O37: -- | P37: --
A38: Modernizacja obiektu remizy OSP Strzelce Opolskie - etap IV | B38: Zadania własne | C38: 754 | D38: 75412 | E38: 6050 | F38: Referat Zarządzania Kryzysowego i Spraw Wojskowych | G38: - | H38: - | I38: =SUM(J38:P38) -> 100000 | J38: 100000 | K38: -- | L38: -- | M38: -- | N38: -- | O38: -- | P38: --
A39: Modernizacja placu zabaw (Rożniątów) | B39: Zadania własne | C39: 926 | D39: 92601 | E39: 6050 | F39: Referat Sportu i Rekreacji | G39: SBO | H39: 10 | I39: =SUM(J39:P39) -> 49995 | J39: 49995 | K39: -- | L39: -- | M39: -- | N39: -- | O39: -- | P39: --
A40: Modernizacja wiaty biesiadnej | B40: Zadania własne | C40: 921 | D40: 92105 | E40: 6050 | F40: Referat Rolnictwa | G40: FunSol | H40: Rożniątów | I40: =SUM(J40:P40) -> 10500 | J40: 10500 | K40: -- | L40: -- | M40: -- | N40: -- | O40: -- | P40: --
A41: Montaż monitoringu | B41: Zadania własne | C41: 921 | D41: 92105 | E41: 6050 | F41: Referat Rolnictwa | G41: FunSol | H41: Rozmierka | I41: =SUM(J41:P41) -> 13000 | J41: 13000 | K41: -- | L41: -- | M41: -- | N41: -- | O41: -- | P41: --
A42: Ogrodzenie placu zabaw (Kalinowice) | B42: Zadania własne | C42: 926 | D42: 92601 | E42: 6050 | F42: Referat Sportu i Rekreacji | G42: SBO | H42: 11 | I42: =SUM(J42:P42) -> 23000 | J42: 23000 | K42: -- | L42: -- | M42: -- | N42: -- | O42: -- | P42: --
A43: Opracowanie dokumentacji projektowych budowy oświetlenia dróg gminnych | B43: Zadania własne | C43: 900 | D43: 90015 | E43: 6050 | F43: Referat Inwestycyjno-Techniczny | G43: - | H43: - | I43: =SUM(J43:P43) -> 21400 | J43: 25000 | K43: -- | L43: -3600 | M43: -- | N43: -- | O43: -- | P43: --
A44: Opracowanie dokumentacji projektowych budowy, rozbudowy i przebudowy dróg gminnych | B44: Zadania własne | C44: 600 | D44: 60016 | E44: 6050 | F44: Referat Inwestycyjno-Techniczny | G44: - | H44: - | I44: =SUM(J44:P44) -> 88302.7 | J44: 90302.7 | K44: -2000 | L44: -- | M44: -- | N44: -- | O44: -- | P44: --
A45: Osoby fizyczne (na zadania z zakresu ochrony powietrza - "Zatrzymać smog - program ochrony powietrza w gminie Strzelce Opolskie") | B45: Zadania własne | C45: 900 | D45: 90005 | E45: 6237 | F45: Referat Gospodarki Komunalnej i Ochrony Środowiska | G45: Dotacja celowa | H45: - | I45: =SUM(J45:P45) -> 470000 | J45: 430000 | K45: -- | L45: -- | M45: -- | N45: -- | O45: 40000 | P45: --
A46: Osoby fizyczne (na zadania z zakresu ochrony powietrza - "Zatrzymać smog - program ochrony powietrza w gminie Strzelce Opolskie") | B46: Zadania własne | C46: 900 | D46: 90005 | E46: 6239 | F46: Referat Gospodarki Komunalnej i Ochrony Środowiska | G46: Dotacja celowa | H46: - | I46: =SUM(J46:P46) -> 483000 | J46: 440000 | K46: -- | L46: -- | M46: -- | N46: -- | O46: 43000 | P46: --
...

Sheet Info_1
A1: RAZEM (ZW+ZZ+ZP): | C1: =SUM(C3:C21) -> 21872000
A3: Paragraf 2720 | B3: B | C3: =SUMIF(Dane!E3:E128,"2720",Dane!I3:I128) -> 25000
A4: Paragraf 4210 | B4: B | C4: =SUMIF(Dane!E3:E128,"4210",Dane!I3:I128) -> 0
A5: Paragraf 4260 | B5: B | C5: =SUMIF(Dane!E3:E128,"4260",Dane!I3:I128) -> 0
A6: Paragraf 4270 | B6: B | C6: =SUMIF(Dane!E3:E128,"4270",Dane!I3:I128) -> 2261000
A7: Paragraf 4300 | B7: B | C7: =SUMIF(Dane!E3:E128,"4300",Dane!I3:I128) -> 180000
A8: Paragraf 6030 | B8: M | C8: =SUMIF(Dane!E3:E128,"6030",Dane!I3:I128) -> 500000
A9: Paragraf 6050 | B9: M | C9: =SUMIF(Dane!E3:E128,"6050",Dane!I3:I128) -> 9368151.9
A10: Paragraf 6057 | B10: M | C10: =SUMIF(Dane!E3:E128,"6057",Dane!I3:I128) -> 2369320.7
A11: Paragraf 6059 | B11: M | C11: =SUMIF(Dane!E3:E128,"6059",Dane!I3:I128) -> 2101939.4
A12: Paragraf 6060 | B12: M | C12: =SUMIF(Dane!E3:E128,"6060",Dane!I3:I128) -> 579500
A13: Paragraf 6067 | B13: M | C13: =SUMIF(Dane!E3:E128,"6067",Dane!I3:I128) -> 200000
A14: Paragraf 6170 | B14: M | C14: =SUMIF(Dane!E3:E128,"6170",Dane!I3:I128) -> 0
A15: Paragraf 6220 | B15: M | C15: =SUMIF(Dane!E3:E128,"6220",Dane!I3:I128) -> 1156088
A16: Paragraf 6230 | B16: M | C16: =SUMIF(Dane!E3:E128,"6230",Dane!I3:I128) -> 30000
A17: Paragraf 6237 | B17: M | C17: =SUMIF(Dane!E3:E128,"6237",Dane!I3:I128) -> 606000
A18: Paragraf 6239 | B18: M | C18: =SUMIF(Dane!E3:E128,"6239",Dane!I3:I128) -> 615000
A19: Paragraf 6300 | B19: M | C19: =SUMIF(Dane!E3:E128,"6300",Dane!I3:I128) -> 150000
A20: Paragraf 6690 | B20: M | C20: =SUMIF(Dane!E3:E128,"6690",Dane!I3:I128) -> 1000000
A21: Paragraf 6800 | B21: M | C21: =SUMIF(Dane!E3:E128,"6800",Dane!I3:I128) -> 730000
A24: RAZEM (ZW+ZZ+ZP): | C24: =SUM(C26:C27) -> 21872000
A26: - wydatki bieżące | B26: B | C26: =SUMIF(Info_1!B3:B21,"B",Info_1!C3:C21) -> 2466000
A27: - wydatki majątkowe | B27: M | C27: =SUMIF(Info_1!B3:B21,"M",Info_1!C3:C21) -> 19406000
