Workbook

Sheet START
B3: Gmina Strzelce Opolskie
B4: Plac Myśliwca 1
B5: 47-100 Strzelce Opolskie
B7: Budżet 2020 :: Zadania
B9: Uchwała Nr XVII/173/2019 Rady Miejskiej w Strzelcach Opolskich z dnia 18 grudnia 2019 r.
B10: w sprawie uchwały budżetowej gminy Strzelce Opolskie na 2020 rok
B13: Opracowanie: | D13: Piotr Szuba
D14: p.szuba@strzelceopolskie.pl
D15: Naczelnik Wydziału Finansowego
D17: Tel. +48 77 404 93 30 | Fax +48 77 461 44 22 | Tel. kom. +48 605 724 654
D19: FACEBOOK: https://www.facebook.com/szuba76 | TWITTER: https://twitter.com/piotr_szuba
D20: INSTAGRAM: https://www.instagram.com/szuba76
D22: #budzetso2020 #gminastrzelceopolskie #szuba76

Sheet Dane
A2: Nazwa zadania | B2: Źródło | C2: Dział | D2: Rozdział | E2: Paragraf | F2: Komórka organizacyjna | G2: Kategoria | H2: Sołectwo Nr Projektu | I2: Plan 2020 po zmianach [zł] | J2: Budżet na 2020 rok wg URMSO Nr XVII/173/2019 z dnia 18.12.2019 r. | K2: Wniosek z dnia 16.01.2020 r. [IT] | L2: Wniosek z dnia 21.01.2020 r. [IT] | M2: Zarządzenie Nr 21/2020 BSO z dnia 29.01.2020 r. | N2: Zarządzenie Nr 32/2020 BSO z dnia 10.02.2020 r. | O2: Zarządzenie Nr 42/2020 BSO z dnia 27.02.2020 r. | P2: --
A3: Adaptacja części budynku przedszkola ujętego w gminnej ewidencji zabytków na potrzeby ZPO w Dziewkowicach | B3: Zadania własne | C3: 801 | D3: 80101 | E3: 6050 | F3: GZOJ | G3: - | H3: - | I3: =SUM(J3:P3) -> 60000 | J3: 60000 | K3: -- | L3: -- | M3: -- | N3: -- | O3: -- | P3: --
A4: Adaptacja części pomieszczeń budynku przy ul. Marka Prawego 21 w Strzelcach Opolskich na potrzeby gminy Strzelce Opolskie | B4: Zadania własne | C4: 801 | D4: 80195 | E4: 6050 | F4: Referat Inwestycyjno-Techniczny | G4: - | H4: - | I4: =SUM(J4:P4) -> 2600000 | J4: 2600000 | K4: -- | L4: -- | M4: -- | N4: -- | O4: -- | P4: --
A5: Bieżące remonty dróg gminnych - remonty cząstkowe | B5: Zadania własne | C5: 600 | D5: 60016 | E5: 4270 | F5: Referat Inwestycyjno-Techniczny | G5: - | H5: - | I5: =SUM(J5:P5) -> 430000 | J5: 430000 | K5: -- | L5: -- | M5: -- | N5: -- | O5: -- | P5: --
A6: Budowa budynku mieszkalnego wielorodzinnego w Strzelcach Opolskich przy ul. Bocznicowej - Program "Twoje M" - etap II - opracowanie dokumentacji projektowej | B6: Zadania własne | C6: 700 | D6: 70005 | E6: 6050 | F6: Referat Inwestycyjno-Techniczny | G6: - | H6: - | I6: =SUM(J6:P6) -> 150000 | J6: 150000 | K6: -- | L6: -- | M6: -- | N6: -- | O6: -- | P6: --
A7: Budowa chodnika w ciągu ul. Brzezińskiej w Strzelcach Opolskich - opracowanie dokumentacji projektowej | B7: Zadania własne | C7: 600 | D7: 60016 | E7: 6050 | F7: Referat Inwestycyjno-Techniczny | G7: - | H7: - | I7: =SUM(J7:P7) -> 20000 | J7: 20000 | K7: -- | L7: -- | M7: -- | N7: -- | O7: -- | P7: --
A8: Budowa chodnika wraz z zatoczką parkingową na ul. Szkolnej - etap II (Szymiszów) | B8: Zadania własne | C8: 600 | D8: 60016 | E8: 6050 | F8: Referat Inwestycyjno-Techniczny | G8: SBO | H8: 14 | I8: =SUM(J8:P8) -> 49876 | J8: 49876 | K8: -- | L8: -- | M8: -- | N8: -- | O8: -- | P8: --
A9: Budowa chodnika wraz z zatoczką parkingową przy ul. Szkolnej | B9: Zadania własne | C9: 600 | D9: 60016 | E9: 6050 | F9: Referat Rolnictwa | G9: FunSol | H9: Szymiszów Osiedle | I9: =SUM(J9:P9) -> 24000 | J9: 24000 | K9: -- | L9: -- | M9: -- | N9: -- | O9: -- | P9: --
A10: Budowa oświetlenia na boisku sportowym LKS "Rzemiosło" - etap I (Dziewkowice) | B10: Zadania własne | C10: 926 | D10: 92601 | E10: 6050 | F10: Referat Inwestycyjno-Techniczny | G10: SBO | H10: 16 | I10: =SUM(J10:P10) -> 50000 | J10: 50000 | K10: -- | L10: -- | M10: -- | N10: -- | O10: -- | P10: --
A11: Budowa oświetlenia na odcinku Kalinowice - Przysiółek Dolna Lipa | B11: Zadania własne | C11: 900 | D11: 90015 | E11: 6050 | F11: Referat Inwestycyjno-Techniczny | G11: - | H11: - | I11: =SUM(J11:P11) -> 40000 | J11: 40000 | K11: -- | L11: -- | M11: -- | N11: -- | O11: -- | P11: --
A12: Budowa oświetlenia na ul. Brzozowej | B12: Zadania własne | C12: 900 | D12: 90015 | E12: 6050 | F12: Referat Rolnictwa | G12: FunSol | H12: Rożniątów | I12: =SUM(J12:P12) -> 16000 | J12: 16000 | K12: -- | L12: -- | M12: -- | N12: -- | O12: -- | P12: --
A13: Budowa oświetlenia skrzyżowania przy ul. Strzeleckiej w Rozmierce - wjazd na posesję 51B od strony Grodziska | B13: Zadania własne | C13: 900 | D13: 90015 | E13: 6050 | F13: Referat Inwestycyjno-Techniczny | G13: - | H13: - | I13: =SUM(J13:P13) -> 15000 | J13: 15000 | K13: -- | L13: -- | M13: -- | N13: -- | O13: -- | P13: --
A14: Budowa oświetlenia skrzyżowania ul. Fabrycznej z ul. Starej Karoliny w Szymiszowie Osiedlu | B14: Zadania własne | C14: 900 | D14: 90015 | E14: 6050 | F14: Referat Inwestycyjno-Techniczny | G14: - | H14: - | I14: =SUM(J14:P14) -> 30000 | J14: 30000 | K14: -- | L14: -- | M14: -- | N14: -- | O14: -- | P14: --
A15: Budowa oświetlenia ul. Dworcowej w Błotnicy Strzeleckiej (od ul. Parkowej w kierunku przejazdu kolejowego) - opracowanie dokumentacji projektowej | B15: Zadania własne | C15: 900 | D15: 90015 | E15: 6050 | F15: Referat Inwestycyjno-Techniczny | G15: - | H15: - | I15: =SUM(J15:P15) -> 6000 | J15: 6000 | K15: -- | L15: -- | M15: -- | N15: -- | O15: -- | P15: --
A16: Budowa oświetlenia ul. Granicznej w Brzezinie - opracowanie dokumentacji projektowej | B16: Zadania własne | C16: 900 | D16: 90015 | E16: 6050 | F16: Referat Inwestycyjno-Techniczny | G16: - | H16: - | I16: =SUM(J16:P16) -> 6000 | J16: 6000 | K16: -- | L16: -- | M16: -- | N16: -- | O16: -- | P16: --
A17: Budowa oświetlenia ul. Krótkiej w Dziewkowicach - opracowanie dokumentacji projektowej | B17: Zadania własne | C17: 900 | D17: 90015 | E17: 6050 | F17: Referat Inwestycyjno-Techniczny | G17: - | H17: - | I17: =SUM(J17:P17) -> 6000 | J17: 6000 | K17: -- | L17: -- | M17: -- | N17: -- | O17: -- | P17: --
A18: Budowa oświetlenia ul. Leśnej w Błotnicy Strzeleckiej - opracowanie dokumentacji projektowej | B18: Zadania własne | C18: 900 | D18: 90015 | E18: 6050 | F18: Referat Inwestycyjno-Techniczny | G18: - | H18: - | I18: =SUM(J18:P18) -> 6000 | J18: 6000 | K18: -- | L18: -- | M18: -- | N18: -- | O18: -- | P18: --
A19: Budowa oświetlenia ul. Rynek w Strzelcach Opolskich | B19: Zadania własne | C19: 900 | D19: 90015 | E19: 6050 | F19: Referat Inwestycyjno-Techniczny | G19: - | H19: - | I19: =SUM(J19:P19) -> 27000 | J19: 27000 | K19: -- | L19: -- | M19: -- | N19: -- | O19: -- | P19: --
A20: Budowa oświetlenia ul. Sosnowej w Suchej | B20: Zadania własne | C20: 900 | D20: 90015 | E20: 6050 | F20: Referat Inwestycyjno-Techniczny | G20: - | H20: - | I20: =SUM(J20:P20) -> 12000 | J20: 12000 | K20: -- | L20: -- | M20: -- | N20: -- | O20: -- | P20: --
A21: Budowa systemu nawadniającego wraz z odwiertem studni głębinowej na gminnym boisku sportowym w Błotnicy Strzeleckiej | B21: Zadania własne | C21: 926 | D21: 92601 | E21: 6050 | F21: Referat Sportu i Rekreacji | G21: - | H21: - | I21: =SUM(J21:P21) -> 85000 | J21: 85000 | K21: -- | L21: -- | M21: -- | N21: -- | O21: -- | P21: --
A22: Budowa szatni na gminnym boisku sportowym w Kalinowie - opracowanie dokumentacji projektowej | B22: Zadania własne | C22: 926 | D22: 92601 | E22: 6050 | F22: Referat Sportu i Rekreacji | G22: - | H22: - | I22: =SUM(J22:P22) -> 11000 | J22: 11000 | K22: -- | L22: -- | M22: -- | N22: -- | O22: -- | P22: --
... A28: Konserwacja i remonty infrastruktury technicznej oraz sprzętu | B28: Zadania własne | C28: 710 | D28: 71035 | E28: 4270 | F28: GZMK | G28: - | H28: - | I28: =SUM(J28:P28) -> 6000 | J28: 6000 | K28: -- | L28: -- | M28: -- | N28: -- | O28: -- | P28: --
A29: Konserwacja rowów melioracyjnych na terenie gminy Strzelce Opolskie | B29: Zadania własne | C29: 010 | D29: 01008 | E29: 4270 | F29: Referat Inwestycyjno-Techniczny | G29: - | H29: - | I29: =SUM(J29:P29) -> 70000 | J29: 70000 | K29: -- | L29: -- | M29: -- | N29: -- | O29: -- | P29: --
A30: Konserwacja rowu A61 | B30: Zadania własne | C30: 010 | D30: 01008 | E30: 4270 | F30: Referat Inwestycyjno-Techniczny | G30: - | H30: - | I30: =SUM(J30:P30) -> 50000 | J30: 50000 | K30: -- | L30: -- | M30: -- | N30: -- | O30: -- | P30: --
A31: Konserwacja rowu melioracyjnego | B31: Zadania własne | C31: 010 | D31: 01008 | E31: 6050 | F31: Referat Rolnictwa | G31: FunSol | H31: Adamowice | I31: =SUM(J31:P31) -> 15932.09 | J31: 15932.09 | K31: -- | L31: -- | M31: -- | N31: -- | O31: -- | P31: --
A32: Kształtowanie wizerunku i estetyki wsi | B32: Zadania własne | C32: 900 | D32: 90004 | E32: 6060 | F32: Referat Rolnictwa | G32: FunSol | H32: Kalinowice | I32: =SUM(J32:P32) -> 10500 | J32: 10500 | K32: -- | L32: -- | M32: -- | N32: -- | O32: -- | P32: --
A33: Modernizacja budynku sołeckiego | B33: Zadania własne | C33: 921 | D33: 92105 | E33: 6050 | F33: Referat Rolnictwa | G33: FunSol | H33: Kalinów | I33: =SUM(J33:P33) -> 11000 | J33: 11000 | K33: -- | L33: -- | M33: -- | N33: -- | O33: -- | P33: --
A34: Modernizacja mostu w ciągu ul. Wodnej w Kadłubie - opracowanie dokumentacji projektowej | B34: Zadania własne | C34: 600 | D34: 60016 | E34: 6050 | F34: Referat Inwestycyjno-Techniczny | G34: - | H34: - | I34: =SUM(J34:P34) -> 70000 | J34: 70000 | K34: -- | L34: -- | M34: -- | N34: -- | O34: -- | P34: --
A35: Modernizacja nawierzchni poliuretanowej boiska zewnętrznego przy PSP Nr 7 w Strzelcach Opolskich | B35: Zadania własne | C35: 801 | D35: 80101 | E35: 6050 | F35: GZOJ | G35: - | H35: - | I35: =SUM(J35:P35) -> 50000 | J35: 50000 | K35: -- | L35: -- | M35: -- | N35: -- | O35: -- | P35: --
A36: Modernizacja nawierzchni poliuretanowych boisk zewnętrznych i bieżni przy PSP Nr 1 w Strzelcach Opolskich | B36: Zadania własne | C36: 801 | D36: 80101 | E36: 6050 | F36: GZOJ | G36: - | H36: - | I36: =SUM(J36:P36) -> 90000 | J36: 90000 | K36: -- | L36: -- | M36: -- | N36: -- | O36: -- | P36: --
A37: Modernizacja obiektów sportowo-rekreacyjnych i monitoringu miejskiego na terenie gminy Strzelce Opolskie | B37: Zadania własne | C37: 851 | D37: 85154 | E37: 6050 | F37: Pełnomocnik Burmistrza ds. Profilaktyki i Uzależnień | G37: - | H37: - | I37: =SUM(J37:P37) -> 30000 | J37: 30000 | K37: -- | L37: -- | M37: -- | N37: -- | O37: -- | P37: --
A38: Modernizacja obiektu remizy OSP Strzelce Opolskie - etap IV | B38: Zadania własne | C38: 754 | D38: 75412 | E38: 6050 | F38: Referat Zarządzania Kryzysowego i Spraw Wojskowych | G38: - | H38: - | I38: =SUM(J38:P38) -> 100000 | J38: 100000 | K38: -- | L38: -- | M38: -- | N38: -- | O38: -- | P38: --
A39: Modernizacja placu zabaw (Rożniątów) | B39: Zadania własne | C39: 926 | D39: 92601 | E39: 6050 | F39: Referat Sportu i Rekreacji | G39: SBO | H39: 10 | I39: =SUM(J39:P39) -> 49995 | J39: 49995 | K39: -- | L39: -- | M39: -- | N39: -- | O39: -- | P39: --
A40: Modernizacja wiaty biesiadnej | B40: Zadania własne | C40: 921 | D40: 92105 | E40: 6050 | F40: Referat Rolnictwa | G40: FunSol | H40: Rożniątów | I40: =SUM(J40:P40) -> 10500 | J40: 10500 | K40: -- | L40: -- | M40: -- | N40: -- | O40: -- | P40: --
A41: Montaż monitoringu | B41: Zadania własne | C41: 921 | D41: 92105 | E41: 6050 | F41: Referat Rolnictwa | G41: FunSol | H41: Rozmierka | I41: =SUM(J41:P41) -> 13000 | J41: 13000 | K41: -- | L41: -- | M41: -- | N41: -- | O41: -- | P41: --
A42: Ogrodzenie placu zabaw (Kalinowice) | B42: Zadania własne | C42: 926 | D42: 92601 | E42: 6050 | F42: Referat Sportu i Rekreacji | G42: SBO | H42: 11 | I42: =SUM(J42:P42) -> 23000 | J42: 23000 | K42: -- | L42: -- | M42: -- | N42: -- | O42: -- | P42: --
A43: Opracowanie dokumentacji projektowych budowy oświetlenia dróg gminnych | B43: Zadania własne | C43: 900 | D43: 90015 | E43: 6050 | F43: Referat Inwestycyjno-Techniczny | G43: - | H43: - | I43: =SUM(J43:P43) -> 21400 | J43: 25000 | K43: -- | L43: -3600 | M43: -- | N43: -- | O43: -- | P43: --
A44: Opracowanie dokumentacji projektowych budowy, rozbudowy i przebudowy dróg gminnych | B44: Zadania własne | C44: 600 | D44: 60016 | E44: 6050 | F44: Referat Inwestycyjno-Techniczny | G44: - | H44: - | I44: =SUM(J44:P44) -> 88302.7 | J44: 90302.7 | K44: -2000 | L44: -- | M44: -- | N44: -- | O44: -- | P44: --
A45: Osoby fizyczne (na zadania z zakresu ochrony powietrza - "Zatrzymać smog - program ochrony powietrza w gminie Strzelce Opolskie") | B45: Zadania własne | C45: 900 | D45: 90005 | E45: 6237 | F45: Referat Gospodarki Komunalnej i Ochrony Środowiska | G45: Dotacja celowa | H45: - | I45: =SUM(J45:P45) -> 470000 | J45: 430000 | K45: -- | L45: -- | M45: -- | N45: -- | O45: 40000 | P45: --
A46: Osoby fizyczne (na zadania z zakresu ochrony powietrza - "Zatrzymać smog - program ochrony powietrza w gminie Strzelce Opolskie") | B46: Zadania własne | C46: 900 | D46: 90005 | E46: 6239 | F46: Referat Gospodarki Komunalnej i Ochrony Środowiska | G46: Dotacja celowa | H46: - | I46: =SUM(J46:P46) -> 483000 | J46: 440000 | K46: -- | L46: -- | M46: -- | N46: -- | O46: 43000 | P46: --
A47: Oświetlenie dróg gminnych na terenie sołectwa Sucha | B47: Zadania własne | C47: 900 | D47: 90015 | E47: 6050 | F47: Referat Rolnictwa | G47: FunSol | H47: Sucha | I47: =SUM(J47:P47) -> 15000 | J47: 15000 | K47: -- | L47: -- | M47: -- | N47: -- | O47: -- | P47: --
A48: Oświetlenie ul. Knapika - przedłużenie istniejącego w kierunku boiska | B48: Zadania własne | C48: 900 | D48: 90015 | E48: 6050 | F48: Referat Rolnictwa | G48: FunSol | H48: Szczepanek | I48: =SUM(J48:P48) -> 26900 | J48: 26900 | K48: -- | L48: -- | M48: -- | N48: -- | O48: -- | P48: --
A49: Oznakowanie pionowe dróg gminnych | B49: Zadania własne | C49: 600 | D49: 60016 | E49: 4270 | F49: Referat Inwestycyjno-Techniczny | G49: - | H49: - | I49: =SUM(J49:P49) -> 50000 | J49: 50000 | K49: -- | L49: -- | M49: -- | N49: -- | O49: -- | P49: --
A50: Oznakowanie poziome dróg gminnych | B50: Zadania własne | C50: 600 | D50: 60016 | E50: 4270 | F50: Referat Inwestycyjno-Techniczny | G50: - | H50: - | I50: =SUM(J50:P50) -> 70000 | J50: 70000 | K50: -- | L50: -- | M50: -- | N50: -- | O50: -- | P50: --
A51: Podmioty posiadające tytuł prawny do zabytków wpisanych do rejestru zabytków (na zadania z zakresu ustawy o ochronie zabytków) | B51: Zadania własne | C51: 921 | D51: 92120 | E51: 2720 | F51: Referat Inwestycyjno-Techniczny | G51: Dotacja celowa | H51: - | I51: =SUM(J51:P51) -> 25000 | J51: 25000 | K51: -- | L51: -- | M51: -- | N51: -- | O51: -- | P51: --
A52: Poprawa gospodarki wodno-ściekowej w aglomeracji Strzelce Opolskie | B52: Zadania własne | C52: 900 | D52: 90001 | E52: 6030 | F52: Referat Inwestycyjno-Techniczny | G52: - | H52: - | I52: =SUM(J52:P52) -> 500000 | J52: 500000 | K52: -- | L52: -- | M52: -- | N52: -- | O52: -- | P52: --
A53: Poprawa odwodnienia ul. Mostowej | B53: Zadania własne | C53: 010 | D53: 01008 | E53: 6050 | F53: Referat Rolnictwa | G53: FunSol | H53: Suche Łany | I53: =SUM(J53:P53) -> 26105.09 | J53: 26105.09 | K53: -- | L53: -- | M53: -- | N53: -- | O53: -- | P53: --
A54: Powiat Strzelecki (pomoc finansowa na realizację zadań inwestycyjnych związanych z infrastrukturą drogową) | B54: Zadania własne | C54: 600 | D54: 60014 | E54: 6300 | F54: Referat Inwestycyjno-Techniczny | G54: Dotacja celowa | H54: - | I54: =SUM(J54:P54) -> 150000 | J54: 150000 | K54: -- | L54: -- | M54: -- | N54: -- | O54: -- | P54: --
A55: Prace remontowe na kąpielisku miejskim w Strzelcach Opolskich - przygotowanie obiektu do sezonu | B55: Zadania własne | C55: 926 | D55: 92601 | E55: 4270 | F55: Referat Inwestycyjno-Techniczny | G55: - | H55: - | I55: =SUM(J55:P55) -> 60000 | J55: 60000 | K55: -- | L55: -- | M55: -- | N55: -- | O55: -- | P55: --
A56: Przebudowa placu zabaw w Parku Miejskim w Strzelcach Opolskich | B56: Zadania własne | C56: 921 | D56: 92120 | E56: 6050 | F56: Referat Gospodarki Komunalnej i Ochrony Środowiska | G56: - | H56: - | I56: =SUM(J56:P56) -> 80000 | J56: 80000 | K56: -- | L56: -- | M56: -- | N56: -- | O56: -- | P56: --
A57: Przebudowa pomieszczeń dawnego mieszkania na potrzeby zajęć w PP Nr 10 w Strzelcach Opolskich oraz zaplecza kuchennego i łazienek | B57: Zadania własne | C57: 801 | D57: 80104 | E57: 6050 | F57: GZOJ | G57: - | H57: - | I57: =SUM(J57:P57) -> 30000 | J57: 30000 | K57: -- | L57: -- | M57: -- | N57: -- | O57: -- | P57: --
A58: Przebudowa sanitariatów w pionie jednego segmentu w PSP Nr 7 w Strzelcach Opolskich | B58: Zadania własne | C58: 801 | D58: 80101 | E58: 6050 | F58: GZOJ | G58: - | H58: - | I58: =SUM(J58:P58) -> 300000 | J58: 300000 | K58: -- | L58: -- | M58: -- | N58: -- | O58: -- | P58: --
A59: Przebudowa ul. B. Prusa w Strzelcach Opolskich - opracowanie dokumentacji projektowej | B59: Zadania własne | C59: 600 | D59: 60016 | E59: 6050 | F59: Referat Inwestycyjno-Techniczny | G59: - | H59: - | I59: =SUM(J59:P59) -> 20000 | J59: 20000 | K59: -- | L59: -- | M59: -- | N59: -- | O59: -- | P59: --
A60: Przebudowa ul. Karola Miarki w Strzelcach Opolskich - opracowanie dokumentacji projektowej | B60: Zadania własne | C60: 600 | D60: 60016 | E60: 6050 | F60: Referat Inwestycyjno-Techniczny | G60: - | H60: - | I60: =SUM(J60:P60) -> 40000 | J60: 40000 | K60: -- | L60: -- | M60: -- | N60: -- | O60: -- | P60: --
A61: Przebudowa ul. Karola Miarki w Szymiszowie Wsi | B61: Zadania własne | C61: 600 | D61: 60016 | E61: 6050 | F61: Referat Inwestycyjno-Techniczny | G61: - | H61: - | I61: =SUM(J61:P61) -> 120000 | J61: 120000 | K61: -- | L61: -- | M61: -- | N61: -- | O61: -- | P61: --
A62: Przebudowa ul. Marka Prawego w Strzelcach Opolskich - opracowanie dokumentacji projektowej | B62: Zadania własne | C62: 600 | D62: 60016 | E62: 6050 | F62: Referat Inwestycyjno-Techniczny | G62: - | H62: - | I62: =SUM(J62:P62) -> 100000 | J62: 100000 | K62: -- | L62: -- | M62: -- | N62: -- | O62: -- | P62: --
A63: Przebudowa ul. Moniuszki w Strzelcach Opolskich (odcinek od ul. Budowlanych do ul. Sienkiewicza) - opracowanie dokumentacji projektowej | B63: Zadania własne | C63: 600 | D63: 60016 | E63: 6050 | F63: Referat Inwestycyjno-Techniczny | G63: - | H63: - | I63: =SUM(J63:P63) -> 30000 | J63: 30000 | K63: -- | L63: -- | M63: -- | N63: -- | O63: -- | P63: --
A64: Przebudowa ul. Różanej w Suchej | B64: Zadania własne | C64: 600 | D64: 60016 | E64: 6050 | F64: Referat Inwestycyjno-Techniczny | G64: - | H64: - | I64: =SUM(J64:P64) -> 100000 | J64: 100000 | K64: -- | L64: -- | M64: -- | N64: -- | O64: -- | P64: --
A65: Przebudowa ul. Strzeleckiej w Osieku | B65: Zadania własne | C65: 600 | D65: 60016 | E65: 6050 | F65: Referat Inwestycyjno-Techniczny | G65: - | H65: - | I65: =SUM(J65:P65) -> 100000 | J65: 100000 | K65: -- | L65: -- | M65: -- | N65: -- | O65: -- | P65: --
A66: Przebudowa ul. Zamkowej w Kadłubie | B66: Zadania własne | C66: 600 | D66: 60016 | E66: 6050 | F66: Referat Inwestycyjno-Techniczny | G66: - | H66: - | I66: =SUM(J66:P66) -> 1850000 | J66: 1850000 | K66: -- | L66: -- | M66: -- | N66: -- | O66: -- | P66: --
A67: Przedszkolacy Strażacy - modernizacja placu zabaw (Grodzisko) | B67: Zadania własne | C67: 801 | D67: 80104 | E67: 6050 | F67: GZOJ | G67: SBO | H67: 7 | I67: =SUM(J67:P67) -> 50000 | J67: 50000 | K67: -- | L67: -- | M67: -- | N67: -- | O67: -- | P67: --
A68: Przeglądy okresowe dróg | B68: Zadania własne | C68: 600 | D68: 60016 | E68: 4300 | F68: Referat Inwestycyjno-Techniczny | G68: - | H68: - | I68: =SUM(J68:P68) -> 30000 | J68: 30000 | K68: -- | L68: -- | M68: -- | N68: -- | O68: -- | P68: --
A69: Przygotowanie lokali mieszkalnych do zasiedlenia, w tym zaliczka wynikająca z umowy o zarządzanie z PUKiM Sp. z o.o. | B69: Zadania własne | C69: 700 | D69: 70005 | E69: 4270 | F69: GZMK | G69: - | H69: - | I69: =SUM(J69:P69) -> 200000 | J69: 200000 | K69: -- | L69: -- | M69: -- | N69: -- | O69: -- | P69: --
A70: Punkt czerpania wody do celów przeciwpożarowych zlokalizowany przy dużym stawie w Parku Miejskim w Strzelcach Opolskich - etap II | B70: Zadania własne | C70: 754 | D70: 75414 | E70: 6050 | F70: Referat Inwestycyjno-Techniczny | G70: - | H70: - | I70: =SUM(J70:P70) -> 100000 | J70: 100000 | K70: -- | L70: -- | M70: -- | N70: -- | O70: -- | P70: --
A71: Realizacja zadań remontowych wynikających z decyzji PPiS oraz poprawą stanu obiektów oświatowych | B71: Zadania własne | C71: 801 | D71: 80101 | E71: 4270 | F71: GZOJ | G71: - | H71: - | I71: =SUM(J71:P71) -> 50000 | J71: 50000 | K71: -- | L71: -- | M71: -- | N71: -- | O71: -- | P71: --
A72: Realizacja zadań remontowych wynikających z decyzji PPiS oraz poprawą stanu przedszkoli | B72: Zadania własne | C72: 801 | D72: 80104 | E72: 4270 | F72: GZOJ | G72: - | H72: - | I72: =SUM(J72:P72) -> 50000 | J72: 50000 | K72: -- | L72: -- | M72: -- | N72: -- | O72: -- | P72: --
A73: Remont drogi gminnej łączącej gminę Strzelce Opolskie z gminą Izbicko - etap II | B73: Zadania własne | C73: 600 | D73: 60017 | E73: 4270 | F73: Referat Inwestycyjno-Techniczny | G73: - | H73: - | I73: =SUM(J73:P73) -> 50000 | J73: 50000 | K73: -- | L73: -- | M73: -- | N73: -- | O73: -- | P73: --
A74: Remont elewacji przy ul. Zamkowej 2 w Strzelcach Opolskich | B74: Zadania własne | C74: 700 | D74: 70005 | E74: 4270 | F74: GZMK | G74: - | H74: - | I74: =SUM(J74:P74) -> 120000 | J74: 120000 | K74: -- | L74: -- | M74: -- | N74: -- | O74: -- | P74: --
A75: Remont oświetlenia ulicznego | B75: Zadania własne | C75: 900 | D75: 90015 | E75: 4270 | F75: Referat Inwestycyjno-Techniczny | G75: - | H75: - | I75: =SUM(J75:P75) -> 50000 | J75: 50000 | K75: -- | L75: -- | M75: -- | N75: -- | O75: -- | P75: --
A76: Remont przepustu w ciągu drogi gminnej Nr 105334 O ul. Wiejskiej w Niwkach | B76: Zadania własne | C76: 600 | D76: 60016 | E76: 4270 | F76: Referat Inwestycyjno-Techniczny | G76: - | H76: - | I76: =SUM(J76:P76) -> 15000 | J76: 15000 | K76: -- | L76: -- | M76: -- | N76: -- | O76: -- | P76: --
A77: Remont wiat przystankowych | B77: Zadania własne | C77: 600 | D77: 60095 | E77: 4270 | F77: Referat Inwestycyjno-Techniczny | G77: - | H77: - | I77: =SUM(J77:P77) -> 15000 | J77: 15000 | K77: -- | L77: -- | M77: -- | N77: -- | O77: -- | P77: --
A78: Remonty awaryjne chodników | B78: Zadania własne | C78: 600 | D78: 60016 | E78: 4270 | F78: Referat Inwestycyjno-Techniczny | G78: - | H78: - | I78: =SUM(J78:P78) -> 80000 | J78: 80000 | K78: -- | L78: -- | M78: -- | N78: -- | O78: -- | P78: --
A79: Remonty infrastruktury technicznej Regionalnego Inkubatora Przedsiębiorczości | B79: Zadania własne | C79: 710 | D79: 71095 | E79: 4270 | F79: GZMK | G79: - | H79: - | I79: =SUM(J79:P79) -> 5000 | J79: 5000 | K79: -- | L79: -- | M79: -- | N79: -- | O79: -- | P79: --
... A103: Wymiana konstrukcji dachów i pokryć z dociepleniem oraz pozostałe roboty inwestycyjne | B103: Zadania własne | C103: 700 | D103: 70005 | E103: 6050 | F103: GZMK | G103: - | H103: - | I103: =SUM(J103:P103) -> 125000 | J103: 125000 | K103: -- | L103: -- | M103: -- | N103: -- | O103: -- | P103: --
A104: Wymiana ogrodzenia terenu Zespołu Placówek Oświatowych (Dziewkowice) | B104: Zadania własne | C104: 801 | D104: 80101 | E104: 6050 | F104: GZOJ | G104: SBO | H104: 13 | I104: =SUM(J104:P104) -> 49989.27 | J104: 49989.27 | K104: -- | L104: -- | M104: -- | N104: -- | O104: -- | P104: --
A105: Wymiana pieca - kotła c.o. w obiekcie remizy OSP Kadłub | B105: Zadania własne | C105: 754 | D105: 75412 | E105: 6050 | F105: Referat Zarządzania Kryzysowego i Spraw Wojskowych | G105: - | H105: - | I105: =SUM(J105:P105) -> 100000 | J105: 100000 | K105: -- | L105: -- | M105: -- | N105: -- | O105: -- | P105: --
A106: Zabudowa tarasu wraz z ciągiem komunikacyjnym w budynku Środowiskowego Domu Samopomocy w Strzelcach Opolskich | B106: Zadania własne | C106: 852 | D106: 85203 | E106: 6050 | F106: ŚDS | G106: - | H106: - | I106: =SUM(J106:P106) -> 150000 | J106: 150000 | K106: -- | L106: -- | M106: -- | N106: -- | O106: -- | P106: --
A107: Zagospodarowanie nieruchomości gminnych | B107: Zadania własne | C107: 700 | D107: 70005 | E107: 6050 | F107: GZMK | G107: - | H107: - | I107: =SUM(J107:P107) -> 282000 | J107: 282000 | K107: -- | L107: -- | M107: -- | N107: -- | O107: -- | P107: --
A108: Zagospodarowanie nieruchomości gminnych oraz pozostałe remonty | B108: Zadania własne | C108: 700 | D108: 70005 | E108: 4270 | F108: GZMK | G108: - | H108: - | I108: =SUM(J108:P108) -> 100000 | J108: 100000 | K108: -- | L108: -- | M108: -- | N108: -- | O108: -- | P108: --
A109: Zakup 2 piłkochwytów (w tym dokumentacja zgłoszeniowa) na gminne boisko sportowe w Warmątowicach | B109: Zadania własne | C109: 926 | D109: 92601 | E109: 6060 | F109: Referat Sportu i Rekreacji | G109: - | H109: - | I109: =SUM(J109:P109) -> 14000 | J109: 14000 | K109: -- | L109: -- | M109: -- | N109: -- | O109: -- | P109: --
A110: Zakup gruntów niezbędnych do utworzenia terenów budownictwa mieszkaniowego, stref przemysłowo-gospodarczych oraz systemu prawidłowej komunikacji dróg gminnych | B110: Zadania własne | C110: 700 | D110: 70005 | E110: 6060 | F110: Referat Gospodarki Komunalnej i Ochrony Środowiska | G110: - | H110: - | I110: =SUM(J110:P110) -> 200000 | J110: 200000 | K110: -- | L110: -- | M110: -- | N110: -- | O110: -- | P110: --
A111: Zakup i montaż fontanny w Parku Miejskim w Strzelcach Opolskich | B111: Zadania własne | C111: 921 | D111: 92120 | E111: 6050 | F111: Referat Gospodarki Komunalnej i Ochrony Środowiska | G111: - | H111: - | I111: =SUM(J111:P111) -> 45000 | J111: 45000 | K111: -- | L111: -- | M111: -- | N111: -- | O111: -- | P111: --
A112: Zakup infrastruktury sprzętowej oraz modułów oprogramowania wspomagających pracę urzędu | B112: Zadania własne | C112: 750 | D112: 75023 | E112: 6060 | F112: Wydział Organizacyjny | G112: - | H112: - | I112: =SUM(J112:P112) -> 100000 | J112: 100000 | K112: -- | L112: -- | M112: -- | N112: -- | O112: -- | P112: --
A113: Zakup kosiarki samojezdnej na gminne boisko sportowe w Rozmierce | B113: Zadania własne | C113: 926 | D113: 92601 | E113: 6060 | F113: Referat Sportu i Rekreacji | G113: - | H113: - | I113: =SUM(J113:P113) -> 15000 | J113: 15000 | K113: -- | L113: -- | M113: -- | N113: -- | O113: -- | P113: --
A114: Zakup mikrociągnika | B114: Zadania własne | C114: 710 | D114: 71035 | E114: 6060 | F114: GZMK | G114: - | H114: - | I114: =SUM(J114:P114) -> 0 | J114: 15000 | K114: -- | L114: -- | M114: -- | N114: -15000 | O114: -- | P114: --
A115: Zakup samochodu pożarniczego (OSP Szymiszów) | B115: Zadania własne | C115: 754 | D115: 75412 | E115: 6060 | F115: Referat Zarządzania Kryzysowego i Spraw Wojskowych | G115: - | H115: - | I115: =SUM(J115:P115) -> 150000 | J115: 150000 | K115: -- | L115: -- | M115: -- | N115: -- | O115: -- | P115: --
A116: Zakup specjalistycznego sprzętu na wyposażenie Punktu Selektywnej Zbiórki Odpadów Komunalnych w Szymiszowie | B116: Zadania własne | C116: 900 | D116: 90002 | E116: 6060 | F116: Referat Zarządzania i Gospodarowania Odpadami Komunalnymi | G116: - | H116: - | I116: =SUM(J116:P116) -> 15000 | J116: 15000 | K116: -- | L116: -- | M116: -- | N116: -- | O116: -- | P116: --
A117: Zakup syreny elektronicznej | B117: Zadania własne | C117: 754 | D117: 75414 | E117: 6060 | F117: Referat Zarządzania Kryzysowego i Spraw Wojskowych | G117: - | H117: - | I117: =SUM(J117:P117) -> 25000 | J117: 25000 | K117: -- | L117: -- | M117: -- | N117: -- | O117: -- | P117: --
A118: Zakup urządzeń na siłownie zewnętrzne oraz place zabaw gminy Strzelce Opolskie | B118: Zadania własne | C118: 926 | D118: 92601 | E118: 6060 | F118: Referat Sportu i Rekreacji | G118: - | H118: - | I118: =SUM(J118:P118) -> 40000 | J118: 40000 | K118: -- | L118: -- | M118: -- | N118: -- | O118: -- | P118: --
A119: Założenie monitoringu na parkingu oraz alejach cmentarza komunalnego | B119: Zadania własne | C119: 710 | D119: 71035 | E119: 6050 | F119: GZMK | G119: - | H119: - | I119: =SUM(J119:P119) -> 15000 | J119: 15000 | K119: -- | L119: -- | M119: -- | N119: -- | O119: -- | P119: --
A120: Zwiększenie atrakcyjności placu zabaw | B120: Zadania własne | C120: 921 | D120: 92105 | E120: 6050 | F120: Referat Rolnictwa | G120: FunSol | H120: Kadłub Piec | I120: =SUM(J120:P120) -> 22000 | J120: 22000 | K120: -- | L120: -- | M120: -- | N120: -- | O120: -- | P120: --
A121: Przebudowa ul. Bursztynowej w Strzelcach Opolskich - budowa miejsc postojowych - opracowanie dokumentacji projektowej | B121: Zadania własne | C121: 600 | D121: 60016 | E121: 6050 | F121: Referat Inwestycyjno-Techniczny | G121: -- | H121: -- | I121: =SUM(J121:P121) -> 2000 | J121: -- | K121: 2000 | L121: -- | M121: -- | N121: -- | O121: -- | P121: --
A122: Budowa oświetlenia placu zabaw na Osiedlu Piastów Śląskich w Strzelcach Opolskich - opracowanie dokumentacji projektowej | B122: Zadania własne | C122: 900 | D122: 90015 | E122: 6050 | F122: Referat Inwestycyjno-Techniczny | G122: -- | H122: -- | I122: =SUM(J122:P122) -> 3600 | J122: -- | K122: -- | L122: 3600 | M122: -- | N122: -- | O122: -- | P122: --
A123: Zakup tablic interaktywnych w ramach projektu "Przedszkolak poznaje świat" | B123: Zadania własne | C123: 801 | D123: 80104 | E123: 6067 | F123: GZOJ | G123: -- | H123: -- | I123: =SUM(J123:P123) -> 200000 | J123: -- | K123: -- | L123: -- | M123: 200000 | N123: -- | O123: -- | P123: --
A124: Zakup i wdrożenie modułu IP Cmentarze | B124: Zadania własne | C124: 710 | D124: 71035 | E124: 6050 | F124: GZMK | G124: -- | H124: -- | I124: =SUM(J124:P124) -> 20000 | J124: -- | K124: -- | L124: -- | M124: -- | N124: 20000 | O124: -- | P124: --
A125: Zwrot wartości nieruchomości położonej w Strzelcach Opolskich w rejonie ul. Kazimierza Wielkiego, oznaczonej działką Nr 4994/101 o pow. 0,7936 ha | B125: Zadania własne | C125: 700 | D125: 70005 | E125: 6690 | F125: Referat Gospodarki Komunalnej i Ochrony Środowiska | G125: -- | H125: -- | I125: =SUM(J125:P125) -> 1000000 | J125: -- | K125: -- | L125: -- | M125: -- | N125: -- | O125: 1000000 | P125: --
A126: Osoby fizyczne (na zadania z zakresu ochrony powietrza - "Zatrzymać smog II - program ochrony powietrza w gminie Strzelce Opolskie") | B126: Zadania własne | C126: 900 | D126: 90005 | E126: 6237 | F126: Referat Gospodarki Komunalnej i Ochrony Środowiska | G126: Dotacja celowa | H126: -- | I126: =SUM(J126:P126) -> 136000 | J126: -- | K126: -- | L126: -- | M126: -- | N126: -- | O126: 136000 | P126: --
A127: Osoby fizyczne (na zadania z zakresu ochrony powietrza - "Zatrzymać smog II - program ochrony powietrza w gminie Strzelce Opolskie") | B127: Zadania własne | C127: 900 | D127: 90005 | E127: 6239 | F127: Referat Gospodarki Komunalnej i Ochrony Środowiska | G127: Dotacja celowa | H127: -- | I127: =SUM(J127:P127) -> 132000 | J127: -- | K127: -- | L127: -- | M127: -- | N127: -- | O127: 132000 | P127: --
A128: -- | B128: -- | C128: -- | D128: -- | E128: -- | F128: -- | G128: -- | H128: -- | I128: =SUM(J128:P128) -> 0 | J128: -- | K128: -- | L128: -- | M128: -- | N128: -- | O128: -- | P128: --

Sheet Info_1
A1: RAZEM (ZW+ZZ+ZP): | C1: =SUM(C3:C21) -> 21872000
A3: Paragraf 2720 | B3: B | C3: =SUMIF(Dane!E3:E128,"2720",Dane!I3:I128) -> 25000
A4: Paragraf 4210 | B4: B | C4: =SUMIF(Dane!E3:E128,"4210",Dane!I3:I128) -> 0
A5: Paragraf 4260 | B5: B | C5: =SUMIF(Dane!E3:E128,"4260",Dane!I3:I128) -> 0
A6: Paragraf 4270 | B6: B | C6: =SUMIF(Dane!E3:E128,"4270",Dane!I3:I128) -> 2261000
A7: Paragraf 4300 | B7: B | C7: =SUMIF(Dane!E3:E128,"4300",Dane!I3:I128) -> 180000
A8: Paragraf 6030 | B8: M | C8: =SUMIF(Dane!E3:E128,"6030",Dane!I3:I128) -> 500000
A9: Paragraf 6050 | B9: M | C9: =SUMIF(Dane!E3:E128,"6050",Dane!I3:I128) -> 9368151.9
A10: Paragraf 6057 | B10: M | C10: =SUMIF(Dane!E3:E128,"6057",Dane!I3:I128) -> 2369320.7
A11: Paragraf 6059 | B11: M | C11: =SUMIF(Dane!E3:E128,"6059",Dane!I3:I128) -> 2101939.4
A12: Paragraf 6060 | B12: M | C12: =SUMIF(Dane!E3:E128,"6060",Dane!I3:I128) -> 579500
A13: Paragraf 6067 | B13: M | C13: =SUMIF(Dane!E3:E128,"6067",Dane!I3:I128) -> 200000
A14: Paragraf 6170 | B14: M | C14: =SUMIF(Dane!E3:E128,"6170",Dane!I3:I128) -> 0
A15: Paragraf 6220 | B15: M | C15: =SUMIF(Dane!E3:E128,"6220",Dane!I3:I128) -> 1156088
A16: Paragraf 6230 | B16: M | C16: =SUMIF(Dane!E3:E128,"6230",Dane!I3:I128) -> 30000
A17: Paragraf 6237 | B17: M | C17: =SUMIF(Dane!E3:E128,"6237",Dane!I3:I128) -> 606000
A18: Paragraf 6239 | B18: M | C18: =SUMIF(Dane!E3:E128,"6239",Dane!I3:I128) -> 615000
A19: Paragraf 6300 | B19: M | C19: =SUMIF(Dane!E3:E128,"6300",Dane!I3:I128) -> 150000
A20: Paragraf 6690 | B20: M | C20: =SUMIF(Dane!E3:E128,"6690",Dane!I3:I128) -> 1000000
A21: Paragraf 6800 | B21: M | C21: =SUMIF(Dane!E3:E128,"6800",Dane!I3:I128) -> 730000
A24: RAZEM (ZW+ZZ+ZP): | C24: =SUM(C26:C27) -> 21872000
A26: - wydatki bieżące | B26: B | C26: =SUMIF(Info_1!B3:B21,"B",Info_1!C3:C21) -> 2466000
A27: - wydatki majątkowe | B27: M | C27: =SUMIF(Info_1!B3:B21,"M",Info_1!C3:C21) -> 19406000
