Workbook

Sheet Wskaźniki
A1: Rodzaj paliwa | B1: Wartości opałowa (WO) | D1: Wskaźniki emisji CO2 (WE)
B2: [Wartość] | C2: [Jednostka] | D2: [Wartość] | E2: [Jednostka]
A3: Gaz ziemny z sieci | B3: 35.98 | C3: MJ/m3 | D3: 55.82 | E3: kg/GJ
A4: Gaz ziemny zaazotowany | B4: 24.85 | C4: MJ/m3 | D4: 55.82 | E4: kg/GJ
A5: Gaz z odmetanowania kopalń | B5: 17.47 | C5: MJ/m3 | D5: 55.82 | E5: kg/GJ
A6: Biomasa/drewno | B6: 15.6 | C6: MJ/kg | D6: 109.76 | E6: kg/GJ
A7: Biogaz | B7: 50.4 | C7: MJ/kg | D7: 54.33 | E7: kg/GJ
A8: Koks | B8: 28.2 | C8: MJ/kg | D8: 106 | E8: kg/GJ
A9: Gaz ciekły | B9: 47.31 | C9: MJ/kg | D9: 62.44 | E9: kg/GJ
A10: Benzyny silnikowe | B10: 44.8 | C10: MJ/kg | D10: 68.61 | E10: kg/GJ
A11: Paliwa odrzutowe | B11: 44.59 | C11: MJ/kg | D11: 70.79 | E11: kg/GJ
A12: Olej napędowy (w tym olej opałowy lekki) | B12: 43.33 | C12: MJ/kg | D12: 73.33 | E12: kg/GJ
A13: Olej opałowy | B13: 40.19 | C13: MJ/kg | D13: 76.59 | E13: kg/GJ
A14: Węgiel kamienny | B14: 23.08 | C14: MJ/kg | D14: =94.62 -> 94.62 | E14: kg/GJ
A15: Węgiel brunatny | B15: 8.57 | C15: MJ/kg | D15: 108.6 | E15: kg/GJ
A16: Miejski system ciepłowniczy | B16: - | C16: MJ/kg | D16: - | E16: kg/GJ
A17: Energia elektryczna | B17: 1 | D17: 765 | E17: kg/MWh

Sheet 2013
A1: Energia finalna | E1: Emisja CO2
A2: Lp | B2: Kategoria | C2: MWh | E2: Lp | F2: Kategoria | G2: Mg CO2
A3: I | B3: BUDYNKI, WYPOSAŻENIE/URZĄDZENIA I PRZEMYSŁ | E3: I | F3: BUDYNKI, WYPOSAŻENIE/URZĄDZENIA I PRZEMYSŁ
A4: I.1 | B4: Budynki, wyposażenie/ urządzenia komunalne | C4: ='Inwentaryzacja 2013'!S6 -> 15818 | D4: =C4/$C$12 -> 0.046622329 | E4: I.1 | F4: Budynki, wyposażenie/ urządzenia komunalne | G4: ='Inwentaryzacja 2013'!S19 -> 5590 | H4: =G4/$G$12 -> 0.045145451
A5: I.2 | B5: Budynki mieszkalne | C5: ='Inwentaryzacja 2013'!S7 -> 178289 | D5: =C5/$C$12 -> 0.52549301 | E5: I.2 | F5: Budynki mieszkalne | G5: ='Inwentaryzacja 2013'!S20 -> 70820 | H5: =G5/$G$12 -> 0.57195006
A6: I.3 | B6: Komunalne oświetlenie uliczne | C6: ='Inwentaryzacja 2013'!S8 -> 1711 | D6: =C6/$C$12 -> 0.0050430399 | E6: I.3 | F6: Komunalne oświetlenie uliczne | G6: ='Inwentaryzacja 2013'!S21 -> 1389 | H6: =G6/$G$12 -> 0.011217716
A7: I.4 | B7: Przedsiębiorstwa | C7: ='Inwentaryzacja 2013'!S9+'Inwentaryzacja 2013'!S10 -> 24662 | D7: =C7/$C$12 -> 0.072689334 | E7: I.4 | F7: Przedsiębiorstwa | G7: ='Inwentaryzacja 2013'!S22+'Inwentaryzacja 2013'!S23 -> 16328 | H7: =G7/$G$12 -> 0.13186671
B8: RAZEM I: | C8: =SUM(C4:C7) -> 220480 | D8: =C8/$C$12 -> 0.64984771 | F8: RAZEM I: | G8: =SUM(G4:G7) -> 94127 | H8: =G8/$G$12 -> 0.76017994
A9: II | B9: TRANSPORT | D9: =C9/$C$12 -> 0 | E9: II | F9: TRANSPORT | H9: =G9/$G$12 -> 0
A10: II.1 | B10: Transport | C10: ='Inwentaryzacja 2013'!S12+0.49 -> 118799.49 | D10: =C10/$C$12 -> 0.35015229 | E10: II.1 | F10: Transport | G10: ='Inwentaryzacja 2013'!S25 -> 29695 | H10: =G10/$G$12 -> 0.23982006
B11: RAZEM II: | C11: =C10 -> 118799.49 | D11: =C11/$C$12 -> 0.35015229 | F11: RAZEM II: | G11: =SUM(G10:G10) -> 29695 | H11: =G11/$G$12 -> 0.23982006
B12: RAZEM: | C12: =C8+C11 -> 339279.49 | F12: RAZEM: | G12: =G8+G11 -> 123822
C13: =C12='Inwentaryzacja 2013'!S13 -> FALSE
B18: =B4 -> Budynki, wyposażenie/ urządzenia komunalne | C18: =C4 -> 15818 | F18: =F4 -> Budynki, wyposażenie/ urządzenia komunalne | G18: =G4 -> 5590
B19: =B5 -> Budynki mieszkalne | C19: =C5 -> 178289 | F19: =F5 -> Budynki mieszkalne | G19: =G5 -> 70820
B20: =B6 -> Komunalne oświetlenie uliczne | C20: =C6 -> 1711 | F20: =F6 -> Komunalne oświetlenie uliczne | G20: =G6 -> 1389
B21: =B7 -> Przedsiębiorstwa | C21: =C7 -> 24662 | F21: =F7 -> Przedsiębiorstwa | G21: =G7 -> 16328
B22: =B10 -> Transport | C22: =C10 -> 118799.49 | F22: =F10 -> Transport | G22: =G10 -> 29695
B23: =#REF! -> #REF! | C23: =#REF! -> #REF! | F23: =#REF! -> #REF! | G23: =#REF! -> #REF!

Sheet 2020
A1: Energia finalna | E1: Emisja CO2
A2: Lp | B2: Kategoria | C2: MWh | E2: Lp | F2: Kategoria | G2: Mg CO2
A3: I | B3: BUDYNKI, WYPOSAŻENIE/URZĄDZENIA I PRZEMYSŁ | E3: I | F3: BUDYNKI, WYPOSAŻENIE/URZĄDZENIA I PRZEMYSŁ
A4: I.1 | B4: Budynki, wyposażenie/ urządzenia komunalne | C4: ='2013'!C4-Planowane!$H$3 -> 13174.63 | E4: I.1 | F4: Budynki, wyposażenie/ urządzenia komunalne | G4: ='2013'!G4-Planowane!$J$3 -> 4087.5106 | H4: =G4/$G$12 -> 0.016366181 | J4: ='2020'!C4/'2013'!C4-1 -> -0.16711152
A5: I.2 | B5: Budynki mieszkalne | C5: ='Inwentaryzacja 2013'!$Q$34 -> 224191 | E5: I.2 | F5: Budynki mieszkalne | G5: ='Inwentaryzacja 2013'!$Q$36 -> 82156 | H5: =G5/$G$12 -> 0.32894838 | J5: ='2020'!C5/'2013'!C5-1 -> 0.2574584
A6: I.3 | B6: Komunalne oświetlenie uliczne | C6: ='2013'!C6 -> 1711 | E6: I.3 | F6: Komunalne oświetlenie uliczne | G6: =C6*Wskaźniki!D17/1000 -> 1308.915 | H6: =G6/$G$12 -> 0.005240828 | J6: ='2020'!C6/'2013'!C6-1 -> 0
A7: I.4 | B7: Przedsiębiorstwa | C7: ='Inwentaryzacja 2013'!$H$37 -> 193582.61 | E7: I.4 | F7: Przedsiębiorstwa | G7: ='Inwentaryzacja 2013'!$H$39 -> 145165.67 | H7: =G7/$G$12 -> 0.58123586 | J7: ='2020'!C7/'2013'!C7-1 -> 6.8494287
B8: RAZEM I: | C8: =SUM(C4:C7) -> 432659.24 | F8: RAZEM I: | G8: =SUM(G4:G7) -> 232718.1 | H8: =G8/$G$12 -> 0.93179125
A9: II | B9: TRANSPORT | E9: II | F9: TRANSPORT | H9: =G9/$G$12 -> 0
A10: II.1 | B10: Transport | C10: =SUM('Inwentaryzacja 2020'!B16:D16) -> 56692.885 | E10: II.1 | F10: Transport | G10: ='Inwentaryzacja 2020'!G11+'Inwentaryzacja 2020'!H11 -> 17034.873 | H10: =G10/$G$12 -> 0.068206753 | J10: ='2020'!C10/'2013'!C10-1 -> -0.52278512
B11: RAZEM II: | C11: =C10 -> 56692.885 | F11: RAZEM II: | G11: =SUM(G10:G10) -> 17034.873 | H11: =G11/$G$12 -> 0.068206753
B12: RAZEM: | C12: =C8+C11 -> 489352.13 | F12: RAZEM: | G12: =G8+G11+0.5 -> 249753.47
C13: =C12*3.6 -> 1761667.7
B18: =B4 -> Budynki, wyposażenie/ urządzenia komunalne | C18: =C4 -> 13174.63 | F18: =F4 -> Budynki, wyposażenie/ urządzenia komunalne | G18: =G4 -> 4087.5106
B19: =#REF! -> #REF! | C19: =#REF! -> #REF! | F19: =#REF! -> #REF! | G19: =#REF! -> #REF!
B20: =B5 -> Budynki mieszkalne | C20: =C5 -> 224191 | F20: =F5 -> Budynki mieszkalne | G20: =G5 -> 82156
B21: =B6 -> Komunalne oświetlenie uliczne | C21: =C6 -> 1711 | F21: =F6 -> Komunalne oświetlenie uliczne | G21: =G6 -> 1308.915
B22: =B7 -> Przedsiębiorstwa | C22: =C7 -> 193582.61 | F22: =F7 -> Przedsiębiorstwa | G22: =G7 -> 145165.67
B23: =B10 -> Transport | C23: =C10 -> 56692.885 | F23: =F10 -> Transport | G23: =G10 -> 17034.873
B24: =#REF! -> #REF! | C24: =#REF! -> #REF! | F24: =#REF! -> #REF! | G24: =#REF! -> #REF!

Sheet 2027
A1: Energia finalna | E1: Emisja CO2
A2: Lp | B2: Kategoria | C2: MWh | E2: Lp | F2: Kategoria | G2: Mg CO2
A3: I | B3: BUDYNKI, WYPOSAŻENIE/URZĄDZENIA I PRZEMYSŁ | E3: I | F3: BUDYNKI, WYPOSAŻENIE/URZĄDZENIA I PRZEMYSŁ
A4: I.1 | B4: Budynki, wyposażenie/ urządzenia komunalne | C4: =J48 -> 12825.77 | E4: I.1 | F4: Budynki, wyposażenie/ urządzenia komunalne | G4: =J61 -> 2388 | H4: =G4/$G$12 -> 0.0095966171
A5: I.2 | B5: Budynki mieszkalne | C5: =J49 -> 226477.77 | E5: I.2 | F5: Budynki mieszkalne | G5: =J62 -> 83039.97 | H5: =G5/$G$12 -> 0.33371139
A6: I.3 | B6: Komunalne oświetlenie uliczne | C6: =J50 -> 1711 | E6: I.3 | F6: Komunalne oświetlenie uliczne | G6: =J63 -> 1312 | H6: =G6/$G$12 -> 0.0052725133
A7: I.4 | B7: Przedsiębiorstwa | C7: =J51 -> 193583 | E7: I.4 | F7: Przedsiębiorstwa | G7: =J64 -> 145529 | H7: =G7/$G$12 -> 0.58483505
B8: RAZEM I: | C8: =SUM(C4:C7) -> 434597.54 | F8: RAZEM I: | G8: =SUM(G4:G7) -> 232268.97 | H8: =G8/$G$12 -> 0.93341557
A9: II | B9: TRANSPORT | E9: II | F9: TRANSPORT | H9: =G9/$G$12 -> 0
A10: II.1 | B10: Transport | C10: =J54 -> 57692.482 | E10: II.1 | F10: Transport | G10: =J67 -> 16568.716 | H10: =G10/$G$12 -> 0.066584432
B11: RAZEM II: | C11: =SUM(C10:C10) -> 57692.482 | F11: RAZEM II: | G11: =SUM(G10:G10) -> 16568.716 | H11: =G11/$G$12 -> 0.066584432
B12: RAZEM: | C12: =C8+C11 -> 492290.03 | F12: RAZEM: | G12: =G8+G11 -> 248837.69
B18: =B4 -> Budynki, wyposażenie/ urządzenia komunalne | C18: =C4 -> 12825.77 | F18: =F4 -> Budynki, wyposażenie/ urządzenia komunalne | G18: =G4 -> 2388
B19: =#REF! -> #REF! | C19: =#REF! -> #REF! | F19: =#REF! -> #REF! | G19: =#REF! -> #REF!
B20: =B5 -> Budynki mieszkalne | C20: =C5 -> 226477.77 | F20: =F5 -> Budynki mieszkalne | G20: =G5 -> 83039.97
B21: =B6 -> Komunalne oświetlenie uliczne | C21: =C6 -> 1711 | F21: =F6 -> Komunalne oświetlenie uliczne | G21: =G6 -> 1312
B22: =B7 -> Przedsiębiorstwa | C22: =C7 -> 193583 | F22: =F7 -> Przedsiębiorstwa | G22: =G7 -> 145529
B23: =B10 -> Transport | C23: =C10 -> 57692.482 | F23: =F10 -> Transport | G23: =G10 -> 16568.716
B24: =#REF! -> #REF! | C24: =#REF! -> #REF! | F24: =#REF! -> #REF! | G24: =#REF! -> #REF!
O40: =543/382-1 -> 0.42146597
A45: Energia finalna | N45: Lp. | O45: Wyszczególnienie | P45: Wskaźnik do prognozy (roczny)
A46: Lp | B46: Kategoria | C46: 2020 | D46: =C46+1 -> 2021 | E46: =D46+1 -> 2022 | F46: =E46+1 -> 2023 | G46: =F46+1 -> 2024 | H46: =G46+1 -> 2025 | I46: =H46+1 -> 2026 | J46: =I46+1 -> 2027 | P46: [%]
A47: I | B47: BUDYNKI, WYPOSAŻENIE/URZĄDZENIA I PRZEMYSŁ | N47: I.1 | O47: Energia elektryczna
A48: I.1 | B48: Budynki, wyposażenie/ urządzenia komunalne | C48: ='2020'!C4 -> 13174.63 | D48: =C48-Zrealizowane!$H$5 -> 13073.63 | E48: =D48 -> 13073.63 | F48: =E48 -> 13073.63 | G48: =F48-Zrealizowane!$H$4-Zrealizowane!$H$6 -> 12825.77 | H48: =G48 -> 12825.77 | I48: =H48 -> 12825.77 | J48: =I48 -> 12825.77 | N48: I.1.1 | O48: Budynki, wyposażenie/ urządzenia komunalne | P48: 0.0025
A49: I.3 | B49: Budynki mieszkalne | C49: ='2020'!C5 -> 224191 | D49: =C49*(1+$P$49)-$K$50 -> 224515.24 | E49: =D49*(1+$P$49)-$K$50 -> 224840.29 | F49: =E49*(1+$P$49)-$K$50 -> 225166.15 | G49: =F49*(1+$P$49)-$K$50 -> 225492.83 | H49: =G49*(1+$P$49)-$K$50 -> 225820.33 | I49: =H49*(1+$P$49)-$K$50 -> 226148.64 | J49: =I49*(1+$P$49)-$K$50 -> 226477.77 | N49: I.1.2 | O49: Budynki mieszkalne | P49: 0.0025 | Q49: =3326/3022-1 -> 0.10059563 | R49: =Q49/7 -> 0.014370805
A50: I.4 | B50: Komunalne oświetlenie uliczne | C50: ='2020'!C6 -> 1711 | D50: =ROUND(C50*$P$50+C50,0) -> 1711 | E50: =ROUND(D50*$P$50+D50,0) -> 1711 | F50: =ROUND(E50*$P$50+E50,0) -> 1711 | G50: =ROUND(F50*$P$50+F50,0) -> 1711 | H50: =ROUND(G50*$P$50+G50,0) -> 1711 | I50: =ROUND(H50*$P$50+H50,0) -> 1711 | J50: =ROUND(I50*$P$50+I50,0) -> 1711 | K50: =Zrealizowane!H12/7 -> 236.23738 | N50: I.1.3 | O50: Komunalne oświetlenie uliczne | P50: 0
A51: I.5 | B51: Przedsiębiorstwa | C51: ='2020'!C7 -> 193582.61 | D51: =ROUND(C51*$P$51+C51,0) -> 193583 | E51: =ROUND(D51*$P$51+D51,0) -> 193583 | F51: =ROUND(E51*$P$51+E51,0) -> 193583 | G51: =ROUND(F51*$P$51+F51,0) -> 193583 | H51: =ROUND(G51*$P$51+G51,0) -> 193583 | I51: =ROUND(H51*$P$51+H51,0) -> 193583 | J51: =ROUND(I51*$P$51+I51,0) -> 193583 | N51: I.1.4 | O51: Przedsiębiorstwa | P51: 0
B52: RAZEM I: | C52: =SUM(C48:C51) -> 432659.24 | D52: =SUM(D48:D51) -> 432882.87 | E52: =SUM(E48:E51) -> 433207.92 | F52: =SUM(F48:F51) -> 433533.78 | G52: =SUM(G48:G51) -> 433612.6 | H52: =SUM(H48:H51) -> 433940.1 | I52: =SUM(I48:I51) -> 434268.41 | J52: =SUM(J48:J51) -> 434597.54 | N52: I.1.5 | O52: Transport | P52: 0.0025
A53: II | B53: TRANSPORT
A54: II.1 | B54: ='2020'!$B$10 -> Transport | C54: ='2020'!C10 -> 56692.885 | D54: =C54*(1+$P$52) -> 56834.617 | E54: =D54*(1+$P$52) -> 56976.703 | F54: =E54*(1+$P$52) -> 57119.145 | G54: =F54*(1+$P$52) -> 57261.943 | H54: =G54*(1+$P$52) -> 57405.098 | I54: =H54*(1+$P$52) -> 57548.611 | J54: =I54*(1+$P$52) -> 57692.482
B55: RAZEM II: | C55: =SUM(C54:C54) -> 56692.885 | D55: =SUM(D54:D54) -> 56834.617 | E55: =SUM(E54:E54) -> 56976.703 | F55: =SUM(F54:F54) -> 57119.145 | G55: =SUM(G54:G54) -> 57261.943 | H55: =SUM(H54:H54) -> 57405.098 | I55: =SUM(I54:I54) -> 57548.611 | J55: =SUM(J54:J54) -> 57692.482
B56: RAZEM: | C56: =C52+C55 -> 489352.13 | D56: =D52+D55 -> 489717.49 | E56: =E52+E55 -> 490184.62 | F56: =F52+F55 -> 490652.93 | G56: =G52+G55 -> 490874.55 | H56: =H52+H55 -> 491345.19 | I56: =I52+I55 -> 491817.02 | J56: =J52+J55 -> 492290.03
A58: =E1 -> Emisja CO2
A59: Lp | B59: Kategoria | C59: 2020 | D59: =C59+1 -> 2021 | E59: =D59+1 -> 2022 | F59: =E59+1 -> 2023 | G59: =F59+1 -> 2024 | H59: =G59+1 -> 2025 | I59: =H59+1 -> 2026 | J59: =I59+1 -> 2027
A60: I | B60: BUDYNKI, WYPOSAŻENIE/URZĄDZENIA I PRZEMYSŁ
A61: I.1 | B61: Budynki, wyposażenie/ urządzenia komunalne | C61: ='2020'!G4 -> 4087.5106 | D61: =ROUND(C61*$P$48+C61,0) -> 4098 | E61: =D61-Zrealizowane!$J$5 -> 4066.36 | F61: =E61-Zrealizowane!J3 -> 3092.22 | G61: =F61-Zrealizowane!J4-Zrealizowane!$J$6 -> 2369.74 | H61: =ROUND(G61*$P$48+G61,0) -> 2376 | I61: =ROUND(H61*$P$48+H61,0) -> 2382 | J61: =ROUND(I61*$P$48+I61,0) -> 2388
A62: I.3 | B62: Budynki mieszkalne | C62: ='2020'!G5 -> 82156 | D62: =C62*(1+$P$49)-$K$64 -> 82281.337 | E62: =D62*(1+$P$49)-$K$64 -> 82406.988 | F62: =E62*(1+$P$49)-$K$64 -> 82532.953 | G62: =F62*(1+$P$49)-$K$64 -> 82659.233 | H62: =G62*(1+$P$49)-$K$64 -> 82785.829 | I62: =H62*(1+$P$49)-$K$64 -> 82912.741 | J62: =I62*(1+$P$49)-$K$64 -> 83039.97
A63: I.4 | B63: Komunalne oświetlenie uliczne | C63: ='2020'!G6 -> 1308.915 | D63: =ROUND(C63*$P$50+C63,0) -> 1309 | E63: =ROUND(D63*$P$50+D63,0) -> 1309 | F63: =ROUND(E63*$P$50+E63,0) -> 1309 | G63: =ROUND(F63*$P$50+F63,0) -> 1309 | H63: =ROUND(G63*$P$50+G63,0) -> 1309 | I63: =ROUND(H63*$P$50+H63,0) -> 1309 | J63: =ROUND(I63*$P$48+I63,0) -> 1312
A64: I.5 | B64: Przedsiębiorstwa | C64: ='2020'!G7 -> 145165.67 | D64: =ROUND(C64*$P$51+C64,0) -> 145166 | E64: =ROUND(D64*$P$51+D64,0) -> 145166 | F64: =ROUND(E64*$P$51+E64,0) -> 145166 | G64: =ROUND(F64*$P$51+F64,0) -> 145166 | H64: =ROUND(G64*$P$51+G64,0) -> 145166 | I64: =ROUND(H64*$P$51+H64,0) -> 145166 | J64: =ROUND(I64*$P$48+I64,0) -> 145529 | K64: =Zrealizowane!J12/7 -> 80.052503
B65: RAZEM I: | C65: =SUM(C61:C64) -> 232718.1 | D65: =SUM(D61:D64) -> 232854.34 | E65: =SUM(E61:E64) -> 232948.35 | F65: =SUM(F61:F64) -> 232100.17 | G65: =SUM(G61:G64) -> 231503.97 | H65: =SUM(H61:H64) -> 231636.83 | I65: =SUM(I61:I64) -> 231769.74 | J65: =SUM(J61:J64) -> 232268.97
A66: II | B66: TRANSPORT
A67: II.1 | B67: ='2020'!$B$10 -> Transport | C67: ='2020'!G10 -> 17034.873 | D67: =C67-$K$69 -> 16968.28 | E67: =D67-$K$69 -> 16901.686 | F67: =E67-$K$69 -> 16835.092 | G67: =F67-$K$69 -> 16768.498 | H67: =G67-$K$69 -> 16701.904 | I67: =H67-$K$69 -> 16635.31 | J67: =I67-$K$69 -> 16568.716
B68: RAZEM II: | C68: =SUM(C67:C67) -> 17034.873 | D68: =C68*(1+$P$52) -> 17077.461 | E68: =D68*(1+$P$52) -> 17120.154 | F68: =E68*(1+$P$52) -> 17162.955 | G68: =F68*(1+$P$52) -> 17205.862 | H68: =G68*(1+$P$52) -> 17248.877 | I68: =H68*(1+$P$52) -> 17291.999 | J68: =I68*(1+$P$52) -> 17335.229
B69: RAZEM: | C69: =C65+C68 -> 249752.97 | D69: =D65+D68 -> 249931.8 | E69: =E65+E68 -> 250068.5 | F69: =F65+F68 -> 249263.13 | G69: =G65+G68 -> 248709.84 | H69: =H65+H68 -> 248885.71 | I69: =I65+I68 -> 249061.74 | J69: =J65+J68 -> 249604.2 | K69: =Zrealizowane!J24/7 -> 66.593929

Sheet Zrealizowane
A1: Nr działania | B1: Obiekt/ zadanie | C1: Opis | D1: Podmiot odpowie- dzialny | E1: Termin rozpoczęcia i zakończenia | F1: Szacowane koszty | G1: Źródło finansowania | H1: Oszczędności energii do 2020 r. | I1: Udział energii z OZE do 2020 r. | J1: Roczna redukcja emisji CO2 do 2020 r.
H2: MWh | I2: MWh | J2: Mg CO2
B3: Budynki użyteczności publicznej | F3: =SUM(F4:F10) -> 16129563 | H3: =SUM(H4:H11) -> 992.56 | I3: =SUM(I4:I11) -> 223.55 | J3: =SUM(J4:J11) -> 974.14
A4: 1 | B4: Termomodernizacja budynku filii DPS w Strzelcach Opolskich w Szymiszowie wraz z wykorzystaniem Odnawialnych źrodeł energii | C4: Efekt projektu został ustalony w oparciu o dane pochodzące z Planu Gospodarki Niskoemisyjnej przyjętego uchwała nr XXV/201/2016 z dnia 28.09.2016 roku. | D4: Starostwo Powiatowe w Strzlecach Opolskich, Wydział Inwestycji i Zarządzania Funduszami | E4: 2016-2018 | F4: 9064994 | G4: Środki własne/ RPO/ NFOŚiGW/ WFOŚiGW | H4: 247.86 | I4: 165.49 | J4: 705.51
A5: 2 | B5: Przebudowa systemu grzewczego wraz z wymianą instalacji elektrycznej, wymianą pokrycia dachowego i dociepleniem podłóg w CKZiU w Strzelcach Opolskich | C5: Efekt projektu został ustalony w oparciu o dane pochodzące z Planu Gospodarki Niskoemisyjnej przyjętego uchwała nr XXV/201/2016 z dnia 28.09.2016 roku. | D5: Starostwo Powiatowe w Strzlecach Opolskich, Referat Inwestycyjno-Techniczny | E5: 2016-2018 | F5: 2401844 | G5: Środki własne/ RPO/ NFOŚiGW/ WFOŚiGW | H5: 101 | I5: 3.61 | J5: 31.64
A6: 3 | B6: Termomodernizacja budynku Starostwa Powiatowego w Strzelcach Opolskich wraz z wykorzystaniem OZE | C6: Efekt projektu został ustalony w oparciu o dane pochodzące z Planu Gospodarki Niskoemisyjnej przyjętego uchwała nr XXV/201/2016 z dnia 28.09.2016 roku. | D6: Starostwo Powiatowe w Strzlecach Opolskich, Wydział Architektoniczno-Budowlany | E6: 2016-2018 | F6: 2000000 | G6: Środki własne/ RPO/ NFOŚiGW/ WFOŚiGW | H6: 0 | I6: 52.23 | J6: 16.97
A7: 4 | B7: Wymiana instalacji C.O w budynku ZSO w Strzelcach Opolskich | C7: Efekt projektu został ustalony w oparciu o dane pochodzące z Planu Gospodarki Niskoemisyjnej przyjętego uchwała nr XXV/201/2016 z dnia 28.09.2016 roku. | D7: Starostwo Powiatowe w Strzlecach Opolskich, Wydział Architektoniczno- Budowlany | E7: 2016-2017 | F7: 910244 | G7: Środki własne | H7: 404.7 | I7: 0 | J7: 131.15
A8: 5 | B8: Termomodernizacja budynku Przedszkola Publicznego nr 4 w Strzelcach Opolskich | C8: W ramach zadania wykonano: 1) Roboty dociepleniowe i wykończeniowe: montaż parapetów zewnętrznych, docieplenie styropianem ścian, podziemia i ścian nadziemia oraz wykonanie tynków zewnętrznych na siatce według wytycznych producenta tynków, wybranego przez Inwestora, osadzenie nowych kratek nawiewnych wentylacyjnych, montaż nowej instalacji piorunochronnej, wykonanie nowych obróbek blacharskich, montaż nowych rynien i rur spustowych, docieplenie stropodachu nad najwyższą kondygnacją; 2) Budowa instalacji solarnej, 3) Przebudowa instalacji elektrycznej. | D8: Gminny Zarząd Obsługi Jednostek | E8: 2018-2020 | F8: =436578.37 -> 436578.37 | G8: Budżet Gminy- 123.108,03 zł RPO- 266.449,79 zł WFOŚiGW- 47.020,55 zł | H8: 46.53 | I8: 2.22 | J8: 23.56
A9: 6 | B9: Termomodernizacja budynku Przedszkola Publicznego nr 8 w Strzelcach Opolskich. | C9: Termomodernizacja budynku Przedszkola Publicznego nr 8 w Strzelcach Opolskich, obejmująca: 1) Roboty dociepleniowe i wykończeniowe: roboty rozbiórkowe i przygotowawcze; docieplenie ścian zewnętrznych i stropodachu oraz wykonanie nowych parapetów; docieplenie ścian fundamentowych; wymianę okna piwnicznego oraz drzwi zewnętrznych; zabudowę podnośnika dla osób niepełnosprawnych; budowę nowych schodów zewnętrznych wraz z zadaszeniem i spocznikiem; budowę podestu ze schodami zewn. do pomieszczeń gospodarczych; budowę schodów zewnętrznych z sal zabawowych na plac zabaw; przebudowę instalacji c.o. - wymianę instalacji odwodnienia budynku; wymianę instalacji odgromowej; - wykonanie instalacji elektrycznej zasilania podnośnika; 2) Wykonanie instalacji solarnej; 3) Wymianę opraw i źródeł oświetleniowych w pomieszczeniach przedszkola. | D9: Gminny Zarząd Obsługi Jednostek | E9: 2018-2020 | F9: =647104.71 -> 647104.71 | G9: Budżet Gminy- 166.350,31 zł RPO- 408.641,24 zł WFOŚiGW- 72.113,16 zł | H9: 97.46 | I9: 0 | J9: 33.07
A10: 7 | B10: Termomodernizacja budynku Przedszkola Publicznego nr 9 w Strzelcach Opolskich. | C10: Termomodernizacja budynku Przedszkola Publicznego nr 9 w Strzelcach Opolskich, obejmująca: 1) Roboty dociepleniowe i wykończeniowe: docieplenie ścian zewnętrznych i stropodachu oraz wykonanie nowych parapetów, docieplenie ścian fundamentowych; wymianę okien piwnicznych oraz drzwi zewnętrznych; budowę pochylni dla osób niepełnosprawnych; budowę nowych schodów zewnętrznych wraz z zadaszeniem i spocznikiem; budowę podestu ze schodami zewn. do pomieszczeń gospodarczych; budowę schodów zewnętrznych z sal zabawowych na plac zabaw; przebudowę instalacji c.o., wymianę instalacji odwodnienia budynku; wymianę instalacji odgromowej; 2) Wykonanie instalacji solarnej z zasilaniem elektrycznym; 3) Wymianę opraw i źródeł oświetleniowych. | D10: Gminny Zarząd Obsługi Jednostek | E10: 2018-2020 | F10: =668797.74 -> 668797.74 | G10: Budżet Gminy- 149.027,70 zł RPO- 441.804,53 zł WFOŚiGW- 77.965,51 zł | H10: 95.01 | I10: 0 | J10: 32.24
A11: 8
B12: Budynki mieszkalne | F12: =SUM(F13:F20) -> 5979175.5 | H12: =SUM(H13:H20) -> 1653.6617 | I12: =SUM(I13:I20) -> 8 | J12: =SUM(J13:J20) -> 560.36752
A13: 1 | B13: Zatrzymać SMOG I - program ochrony powietrza w Gminie Strzelce Opolskie | C13: Przedmiotem projektu jest likwidacja indywidualnych źródeł ciepła w celu przyłączania do sieci ciepłowniczej lub sieci gazowej oraz wymiana indywidualnych źródeł ciepła na źródła ciepła bardziej ekologiczne w budynkach, dla których nie ma technicznej i ekonomicznej możliwości przyłączenia do sieci gazowej lub ciepłowniczej. Zakres projektu obejmuje: - Wymianę indywidualnych źródeł ciepła na źródła ciepła bardziej ekologiczne; - Likwidację indywidualnych źródeł ciepła w celu przyłączania do sieci ciepłowniczej lub sieci gazowej; Inwestycja przewiduje również instalacje OZE (kolektory słoneczne, panele fotowoltaiczne oraz pompy ciepła) w ramach zadań likwidacji/ wymiany indywidualnych źródeł ciepła (szczegółowe informacje zawiera zał. 13.2). | D13: Gmina Strzelce Opolskie | E13: 2019-2020 | F13: 2510200 | G13: Regionalny Program Operacyjny Województwa Opolskiego 2014-2020, działanie 5.5. Ochrona powietrza, środki własne Gminy, środki własne mieszkańców | H13: 172 | I13: 8 | J13: 107
A14: 2 | B14: Realizacja programu PONE | C14: Realizacja programu PONE w latach 2015 - 2020 | D14: Gmina Strzelce Opolskie | E14: 2015-2020 | F14: 322497.03 | G14: budżet Gminy | H14: 351 | I14: 0 | J14: 336
A15: 3 | B15: Termomodernizacja budynków Krzywoustego 2, Opolska 14, Kupiecka 4, Krakowska 51, Krakowska 55, Krakowska 57, Krakowska 59, Krakowska 63 w Strzelcach Opolskich | C15: Celem głównym projektu była poprawa efektywności energetycznej ośmiu wielorodzinnych budynków mieszkalnych w Strzelcach Opolskich, zlokalizowanych pod następującymi adresami w obrębie Strzelce Opolskie: -ul. Krakowska 51, -ul. Krakowska 55, -ul. Krakowska 57, -ul. Krakowska 59, -ul. Krakowska 63, -ul. Krzywoustego 2, -ul. Kupiecka 4, -ul. Opolska 14. | D15: SPÓŁDZIELNIA MIESZKANIOWA | E15: 2018-2021 | F15: 2089985.9 | G15: Program Operacyjny Infrastruktura i Środowisko 2014-2020, działanie 1.3. Wspieranie efektywności energetycznej w budynkach, środki własne wnioskodawcy | H15: 1094.6617 | I15: 0 | J15: 105.08752
A16: 4 | B16: Termomodernizacja budynków mieszkalnych jednorodzinnych w ramach programu CZYSTE POWIETRZE | C16: Termomodernizacja budynków mieszkalnych jednorodzinnych w ramach programu CZYSTE POWIETRZE wraz z wymianą źródeł ciepła na terenie Miasta. Zakłada się, że w ciągu roku zmodernizowanych zostało 5 budynków objemujących termomodernizację i wymianę źródła ciepła z kotła węglowego (ostateczny efekt Gmina oszacuje po zakończeniu programu w oparciu o oficjalne zapytanie do WFOŚiGW na temat liczby zrealizowanych inwestycji) | D16: Miasto Strzelce Opolskie | E16: 2018-2020 | F16: 795000 | G16: środki własne mieszkańców, środki NFOŚiGW w ramach Programu Czyste Powietrze | H16: 36 | I16: 0 | J16: 12.28
A17: 4
A19: 4
A20: 5 | B20: Termomodernizacja budynku wielorodzinnego | C20: Termomodernizacja budynku wielorodzinnego przy ul Krakowskiej 4 w ramach przedsięwzięcia remontowego zgodnie z art. 2 pkt. 3 ustawy o wspieraniu termomodernizacji i remontów | D20: Gminny Zarząd Mienia Komunalnego | E20: 2020 | F20: 261492.51 | G20: Środki własne +dofinansowanie z Banku Gospodarstwa Krajowego | H20: 0 | I20: 0 | J20: 0
B21: Przedsiębiorcy | F21: 0 | H21: =SUM(H22:H23) -> 25.2 | I21: =SUM(I22:I23) -> 25.2 | J21: =SUM(J22:J23) -> 19.278
A22: 1 | B22: Inwestycje związane z OZE | C22: W roku 2019 na terenie ciepłowni w Strzelcach Opolskich zabudowana została instalacja fotowoltaiczna o mocy 24,8 kW. Produkcja z ww. instalacji szacowana jest na 25,2 MWh/rok. | D22: Energetyka Cieplna Opolszczyzny S.A. | E22: 2019 | F22: bd | G22: środki własne | H22: 25.2 | I22: 25.2 | J22: 19.278
A23: 2 | B23: Inwestycje związane z modernizacją sieci i nowymi podłączeniami | C23: Prace remontowe oraz przeglądowe pozwalające na utrzymanie eksploatowanego majątku w dobrym stanie technicznym zapewniającym bezpieczną i bezawaryjną pracę. | D23: Energetyka Cieplna Opolszczyzny S.A. | E23: 2016-2020 | F23: bd | G23: środki własne | H23: - | I23: - | J23: -
B24: Transport | H24: =SUM(H25:H32) -> 1844.9687 | I24: =SUM(I25:I32) -> 0 | J24: =SUM(J25:J32) -> 466.1575
A25: 1 | B25: Przebudowa drogi powiatowej 1805O Strzelce Opolskie- Leśnica-Kędzierzyn Koźle na odcinku Strzelce Opolskie- Dolna wraz z dokumentacją projektową | C25: Efekt projektu został ustalony w oparciu o dane pochodzące z Planu Gospodarki Niskoemisyjnej przyjętego uchwała nr XXV/201/2016 z dnia 28.09.2016 roku. | D25: Wydział Dróg Powiatowych | E25: 2016-2017 | F25: 5200000 | G25: Środki własne/ RPO/ NFOŚiGW/ WFOŚiGW | H25: 594 | I25: 0 | J25: 148.48
A26: 2 | B26: Przebudowa drogi powiatowej 1807O Strzelce Opolskie- Krasiejów na odcinku Strzelce Opolskie- Rozmierka- Grodzisko wraz z dokumentacją projektową | C26: Efekt projektu został ustalony w oparciu o dane pochodzące z Planu Gospodarki Niskoemisyjnej przyjętego uchwała nr XXV/201/2016 z dnia 28.09.2016 roku. | D26: Wydział Dróg Powiatowych | E26: 2016-2019 | F26: 9700000 | G26: Środki własne/ RPO/ NFOŚiGW/ WFOŚiGW | H26: 594 | I26: 0 | J26: 148.48
A27: 3 | B27: Wymiana i zakup nowoczesnych, ekologicznych autobusów o niskiej emisji CO2 wraz z rozbudową systemu informacji pasażerskiej oraz zakupem i uruchomieniem systemu e-usług. | C27: W ramach tego zadania dokonano zakupów nowoczesnych, ekologicznych autobusów o niskiej emisji CO2 wraz z rozbudową systemu informacji pasażerskiej oraz zakupem i uruchomieniem systemu e-usług. Efekt projektu został ustalony w oparciu o dane pochodzące z Planu Gospodarki Niskoemisyjnej przyjętego uchwała nr XXV/201/2016 z dnia 28.09.2016 roku. | D27: Przedsiębiorstwo Komunikacji Samochodowej w Strzelcach Opolskich | E27: 2016-2019 | F27: 3574759.8 | G27: Środki własne/ RPO/ NFOŚiGW/ WFOŚiGW | H27: 359.97 | I27: 0 | J27: 94.96
A28: 4 | B28: Przebudowa dróg na terenie Gminy | C28: Szacowany efekt w wysokości 0,25% emisji i zużycia energii w 2013 roku | D28: Gmina Strzelce Opolskie | E28: 2016-2019 | F28: 10207644 | G28: środki własne, dotacje UE | H28: =0.25%*'2013'!$C$10 -> 296.99873 | I28: 0 | J28: =0.25%*'2013'!$G$10 -> 74.2375
A29: 5 | B29: Opolskie mobilne! - usprawnienie transportu zbiorowego regionu i aglomeracji opolskiej. | C29: Projekt obejmował zakup pojazdów szynowych, celem zwiększenia ilości i jakości regionalnych przewozów pasażerskich — ilość nowych pojazdów szynowych to 5 sztuk. | D29: WOJEWÓDZTWO OPOLSKIE | E29: 2015-2017 | F29: 63486257 | G29: Regionalny Program Operacyjny Województwa Opolskiego 2014-2020, działanie 6.2. Nowoczesny transport kolejowy, środki własne | H29: - | I29: - | J29: -
A30: 6 | B30: Przebudowa głównego ciągu komunikacyjnego na terenie Strefy Ekonomicznej w Strzelcach Opolskich | C30: Projekt jest przedsięwzięciem partnerskim, realizowanym przez Wnioskodawcę – Gminę Strzelce Opolskie oraz Partnera – Powiat Strzelecki. W ramach projektu została przebudowana usytuowana na działkach ewidencyjnych o numerach: 5061/6 i 5062/35 droga gminna przebiegająca przez Strefę Ekonomiczną w Strzelcach Opolskich. W wyniku projektu przebudowano 0,68 km drogi gminnej obejmujące budowę infrastruktury podnoszącej bezpieczeństwo uczestników ruchu drogowego na zmodernizowanym odcinku oraz dostosowanie do potrzeb osób niepełnosprawnych. Projekt obejmował rozwiązania pozytywnie wpływające na środowisko naturalne: budowę separatorów wód oraz kanalizacji deszczowej, wykorzystanie materiałów z recyclingu (ponad 30%), montaż oświetlenia LED. | D30: Gmina Strzelce Opolskie | E30: 2014-2020 | F30: 3873012.7 | G30: Regionalny Program Operacyjny Województwa Opolskiego 2014-2020, działanie 6.1. Infrastruktura drogowa, Środki własne | H30: - | I30: - | J30: -
A31: 6
B32: Oświetlenie | H32: =SUM(H33:H35) -> 0 | I32: =SUM(I33:I35) -> 0 | J32: =SUM(J33:J35) -> 0
A33: 1 | B33: - | C33: - | D33: - | E33: - | F33: - | G33: - | H33: - | I33: - | J33: -
B34: Zarządzanie energią | F34: 0 | H34: =SUM(H35:H37) -> 0 | I34: =SUM(I35:I37) -> 0 | J34: =SUM(J35:J37) -> 0
A35: 1 | B35: Spójna polityka energetyczna | C35: Zarządzanie energią w obiektach użyteczności publicznej. Zadanie będzie realizowane na terenie całego Miasta w związku z tym, że nie stanowi działania inwestycyjnego nie jest związane z konkretną lokalizacją na terenie Miasta. | D35: Gmina Strzelce Opolskie | E35: 2017 - 2020 | F35: Beznakładowe, realizowane będzie przez pracowników zatrudnionych w Urzędzie | G35: - | H35: 0 | I35: 0 | J35: 0
A36: 2 | B36: Spójne planowanie przestrzenne inwestycji energetycznych | C36: Zapewnienie spójności inwestycji realizowanych na terenie gminy z obowiązującymi dokumentami planistycznymi i strategicznymi gminy. Zadanie będzie realizowane na terenie całej Miasta, w związku z tym, że nie stanowi działania inwestycyjnego nie jest związane z konkretną lokalizacją na terenie Miasta. | D36: Gmina Strzelce Opolskie | E36: 2017 - 2020 | F36: Beznakładowe, realizowane będzie przez pracowników zatrudnionych w Urzędzie | G36: - | H36: 0 | I36: 0 | J36: 0
B37: Świadomość energetyczna | F37: 0 | H37: 0 | I37: 0 | J37: 0
A38: 1 | B38: Plan gospodarki niskoemisyjnej dla Miasta Słupska | C38: Rozbudowa istniejącej strony www o nowe i bardziej dostępne dla mieszkańców informacje dotyczące ochrony środowiska. Zadanie będzie realizowane na terenie całej Miasta, w związku z tym, że nie stanowi działania inwestycyjnego nie jest związane z konkretną lokalizacją na terenie Miasta. | D38: Gmina Strzelce Opolskie | E38: 2017 - 2020 | F38: Beznakładowe, realizowane będzie przez pracowników zatrudnionych w Urzędzie | G38: - | H38: 0 | I38: 0 | J38: 0
A39: 2 | B39: Współpraca z mieszkańcami oraz przedsiębiorcami działającymi na terenie Gminy | C39: Współpraca polegająca na prowadzeniu kampanii informacyjnych i promocyjnych w zakresie efektywności energetycznej oraz zrównoważonego rozwoju. Zadanie będzie realizowane na terenie całej Miasta, w związku z tym, że nie stanowi działania inwestycyjnego nie jest związane z konkretną lokalizacją na terenie Miasta. | D39: Gmina Strzelce Opolskie | E39: 2017 - 2020 | F39: Beznakładowe, realizowane będzie przez pracowników zatrudnionych w Urzędzie | G39: - | H39: 0 | I39: 0 | J39: 0
A40: 3 | B40: Aktualizacja Planu Gospodarki Niskoemisyjnej wraz z aktualizacją bazy PGN | C40: Zadanie polega na bieżącej aktualizacji dokumentu PGN wraz z bazą emisji w związku ze zmianami zachodzącymi na terenie gminy. Zadanie będzie realizowane na terenie całej Miasta, w związku z tym, że nie stanowi działania inwestycyjnego nie jest związane z konkretną lokalizacją na terenie Miasta. | D40: Gmina Strzelce Opolskie | E40: 2017 - 2020 | F40: Beznakładowe, realizowane będzie przez pracowników zatrudnionych w Urzędzie | G40: - | H40: 0 | I40: 0 | J40: 0
B41: RAZEM: | F41: =F37+F34+F32+F24+F21+F12+F3 -> 22108738 | G41: =G37+G34+G32+G24+G21+G12+G3 -> 0 | H41: =H37+H34+H32+H24+H21+H12+H3 -> 4516.3904 | I41: =I37+I34+I32+I24+I21+I12+I3 -> 256.75 | J41: =J37+J34+J32+J24+J21+J12+J3 -> 2019.943

Sheet Planowane
A1: Nr działania | B1: Obiekt/ zadanie | C1: Opis | D1: Podmiot odpowie- dzialny | E1: Termin rozpoczęcia i zakończenia | F1: Szacowane koszty | G1: Źródło finansowania | H1: Oszczędności energii do 2027 r. | I1: Udział energii z OZE do 2027 r. | J1: Roczna redukcja emisji CO2 do 2027 r.
A2: - | B2: - | C2: - | D2: - | E2: - | H2: MWh | I2: MWh | J2: Mg CO2
A3: - | B3: Budynki użyteczności publicznej | C3: - | D3: - | E3: - | F3: =SUM(F4:F16) -> 19573460 | G3: - | H3: =SUM(H4:H16) -> 2643.37 | I3: =SUM(I4:I16) -> 1657.2 | J3: =SUM(J4:J16) -> 1502.4894
A4: 1 | B4: Zespół Placówek Oświatowych w Błotnicy Strzeleckiej – budynek szkoły/ Poprawa efektywności energetycznej budynku | C4: Poprawa efektywności energetycznej budynku poprzez: - Wymianę kotła opalanego olejem opałowym na kocioł opalany pelletem | D4: Gminny Zarząd Obsługi Jednostek | E4: 2021-2024 | F4: 167125.19 | G4: Budżet gminy + dofinansowanie | H4: 12.1 | I4: 147.3 | J4: 38.9
A5: 2 | B5: Zespół Placówek Oświatowych w Kalinowicach/Poprawa efektywności energetycznej budynku | C5: Poprawa efektywności energetycznej budynku poprzez: 1. Wymianę kotła opalanego olejem opałowym na kocioł opalany pelletem 2. Docieplenie dachu i poddasza 3. Wykonaniu instalacji fotowoltaicznej 4. Wymianie oświetlenia na energooszczędne | D5: Gminny Zarząd Obsługi Jednostek | E5: 2021-2024 | F5: 478110.46 | G5: Budżet gminy + dofinansowanie | H5: 37.9 | I5: 139 | J5: 53.72
A6: 3 | B6: Publiczna Szkoła Podstawowa nr 4 w Strzelcach Opolskich – sala gimnastyczna/ Poprawa efektywności energetycznej budynku | C6: Poprawa efektywności energetycznej budynku poprzez: 1. Wymianę kotła opalanego węglem na kocioł opalany pelletem 2. Docieplenie ścian zewn. i dachu 3. Wymianie stolarki okiennej i drzwiowej 4. Wykonaniu instalacji fotowoltaicznej 5. Wymianie oświetlenia na energooszczędne | D6: Gminny Zarząd Obsługi Jednostek | E6: 2021-2024 | F6: 753320.43 | G6: Budżet gminy + dofinansowanie | H6: 123.8 | I6: 37.1 | J6: 55.81
A7: 4 | B7: Zespół Placówek Oświatowych w Rozmierce – budynek szkoły/ Poprawa efektywności energetycznej budynku | C7: Poprawa efektywności energetycznej budynku poprzez: 1. Wymianę kotła opalanego ekogroszkiem na kocioł opalany pelletem 2. Docieplenie ścian zewn., stropodachu, dachu i poddasza 3. Wymianie stolarki okiennej i drzwiowej 4. Wymianie oświetlenia na energooszczędne | D7: Gminny Zarząd Obsługi Jednostek | E7: 2021-2024 | F7: 706983.4 | G7: Budżet gminy + dofinansowanie | H7: 192.7 | I7: 40.8 | J7: 81.37
A8: 5 | B8: Publiczna Szkoła Podstawowa w Szymiszowie- budynek z salą gimnastyczną/ Poprawa efektywności energetycznej budynku | C8: Poprawa efektywności energetycznej budynku poprzez: 1. Wymianę kotła opalanego węglem na kocioł opalany pelletem 2. Docieplenie ścian zewn. i dachu 3. Wymianie stolarki okiennej i drzwiowej 4. Wykonaniu instalacji fotowoltaicznej 5. Wymianie oświetlenia na energooszczędne. 6. Wykonaniu wentylacji mechanicznej sali gimnastycznej z rekuperacją | D8: Gminny Zarząd Obsługi Jednostek | E8: 2021-2024 | F8: 521666.59 | G8: Budżet gminy + dofinansowanie | H8: 122.9 | I8: 38.6 | J8: 56.21
A9: 6 | B9: Publiczna Szkoła Podstawowa w Szymiszowie- budynek szkoły/ Poprawa efektywności energetycznej budynku | C9: Poprawa efektywności energetycznej budynku poprzez: 1. Wymianę kotła opalanego olejem opałowym na kocioł opalany pelletem 2. Docieplenie dachu stropodachu łącznika 3. Wykonaniu instalacji fotowoltaicznej 4. Wymianie oświetlenia na energooszczędne | D9: Gminny Zarząd Obsługi Jednostek | E9: 2021-2024 | F9: 497828.32 | G9: Budżet gminy + dofinansowanie | H9: 79 | I9: 104.8 | J9: 57.21
A10: 7 | B10: Zespół Placówek Oświatowych w Dziewkowicach – budynek szkoły/ Poprawa efektywności energetycznej budynku | C10: Poprawa efektywności energetycznej budynku poprzez: 1. Wymianę kotła opalanego węglem na kocioł opalany pelletem 2. Docieplenie ścian zewn. i dachu 3. Wymianie stolarki okiennej i drzwiowej 4. Wymianie oświetlenia na energooszczędne. 5. Wymianie instalacji c.o. | D10: Gminny Zarząd Obsługi Jednostek | E10: 2021-2024 | F10: 838335.84 | G10: Budżet gminy + dofinansowanie | H10: 203.5 | I10: 40.4 | J10: 82.62
A11: 8 | B11: Zespół Placówek Oświatowych w Dziewkowicach – budynek oświatowy/ Poprawa efektywności energetycznej budynku | C11: Poprawa efektywności energetycznej budynku poprzez: Poprawa efektywności energetycznej budynku poprzez: 1. Wymianę kotła opalanego węglem na kocioł opalany pelletem 2. Docieplenie ścian zewn. i dachu 3. Wymianie stolarki okiennej i drzwiowej 4. Wymianie oświetlenia na energooszczędne. 5. Remoncie instalacji c.o. 6. Wykonaniu instalacji fotowoltaicznej | D11: Gminny Zarząd Obsługi Jednostek | E11: 2021-2024 | F11: 1627481.8 | G11: Budżet gminy + dofinansowanie | H11: 204.3 | I11: 48 | J11: 92.12
A12: 9 | B12: Zespół Placówek Oświatowych w Suchej – budynek szkoły oraz Sali gimnastycznej / Poprawa efektywności energetycznej budynku | C12: Poprawa efektywności energetycznej budynku poprzez: 1. Wymianę kotła opalanego węglem na kocioł opalany pelletem 2. Docieplenie ścian zewn. i dachu 3. Wymianie stolarki okiennej i drzwiowej 4. Wymianie oświetlenia na energooszczędne. 5. Remoncie instalacji c.o. 6. Wykonaniu rozbudowy wentylacji mechanicznej z wykonaniem rekuperacji w budynku Sali gimnastycznej | D12: Gminny Zarząd Obsługi Jednostek | E12: 2021-2024 | F12: =1124792.65+857815.07 -> 1982607.7 | G12: Budżet gminy + dofinansowanie | H12: 309.2 | I12: 92.2 | J12: 102.25
A13: 10 | B13: Fotowoltaika w budynkach publicznych Powiatu Strzeleckiego (między innymi szkoły, Starostwo, PCK) wraz ze stworzeniem inteligentnego systemu zarządzania dystrybucją - efektywnego zarządzania energią w strukturze wydatków publicznych na wysoko sprawnej kogeneracji. | C13: Inwestycja planowana w perspektywie 2020 - 2027. Efekt oszacowano zakładając montaż mikroinstalacji przyjmując na podstawie szacowanych kosztów, że 1 kW mocy kosztuje około 12000 zł, a uzysk z 1 kW mocy wynosi 950 kWh/rok / 1 kW. W ramach projektu nie zakłada się instalacji o powierzchni przekraczającej 0,5 ha powierzchni. | D13: Powiat strzelecki | E13: 2020-2027 | F13: 12000000 | G13: Środki własne/ RPO/ NFOŚiGW/ WFOŚiGW | H13: 950 | I13: 950 | J13: 726.75
A14: 11 | B14: Wymiana instalacji centralnego ogrzewania w budynku Liceum Ogólnokształcącego z Oddziałami Dwujęzycznymi im. W. Broniewskiego w Strzelcach Opolskich | C14: Inwestycja planowana w perspektywie 2020 - 2027. W odniesieniu do termomodernizacji założono obniżenie kosztów o 25%, obliczono je w oparciu o powierdzchnię użytkową obiektu. | D14: Powiat strzelecki | E14: 2020-2027 | F14: 910 244,00 zł | G14: Środki własne/ RPO/ NFOŚiGW/ WFOŚiGW | H14: 123.9 | I14: 0 | J14: 42.81984
A15: 12 | B15: Termomodernizacja budynku Starostwa Powiatowego w Strzelcach Opolskich wraz z wykorzystaniem odnawialnych źródeł energii | C15: Inwestycja planowana w perspektywie 2020 - 2027. Efekt oszacowano zakładając montaż mikroinstalacji przyjmując moc instalacji w wsyokości 20 kW wynosi 950 kWh/rok / 1 kW. W ramach projektu nie zakłada się instalacji o powierzchni przekraczającej 0,5 ha powierzchni. W odniesieniu do termomodernizacji założono obniżenie kosztów o 25%, obliczono je w oparciu o powierdzchnię użytkową obiektu. | D15: Powiat strzelecki | E15: 2020-2027 | F15: 2 000 000,00 zł | G15: Środki własne/ RPO/ NFOŚiGW/ WFOŚiGW | H15: 90.57 | I15: 19 | J15: 45.835992
A16: 13 | B16: Przebudowa systemu grzewczego wraz z wymianą instalacji elektrycznej, wymianą pokrycia dachowego i dociepleniem podłóg CKZiU w Strzelcach Opolskich | C16: Inwestycja planowana w perspektywie 2020 - 2027. W odniesieniu do termomodernizacji założono obniżenie kosztów o 25%, obliczono je w oparciu o powierdzchnię użytkową obiektu. | D16: Powiat strzelecki | E16: 2020-2027 | F16: 2 401 844,00 zł | G16: Środki własne/ RPO/ NFOŚiGW/ WFOŚiGW | H16: 193.5 | I16: 0 | J16: 66.8736
A17: - | B17: Budynki mieszkalne | C17: - | D17: - | E17: - | F17: =SUM(F18:F20) -> 5591700 | G17: - | H17: =SUM(H18:H20) -> 1571 | I17: =SUM(I18:I20) -> 30 | J17: =SUM(J18:J20) -> 1193.32
A18: 1 | B18: Zatrzymać SMOG II - program ochrony powietrza w Gminie Strzelce Opolskie | C18: Projekt zakłada udzielenie dofinansowania do 67% na wymianę starego, nieekologicznego źródła ciepła na paliwo stałe na nowe ekologiczne. Projekt skierowany jest do właścicieli budynków mieszkalnych/ lokali zlokalizowanych na terenie Gminy Strzelce Opolskie, w których nie ma zarejestrowanej działalności gospodarczej ani agroturystyki. Obejmuje zadania polegające na: 1) Likwidacji kotła na paliwo stałe w celu przyłączenia do sieci gazowej - mieszkańcy miejscowości Strzelce Opolskie (za wyjątkiem sołectwa Farska Kolonia) i Kadłub, lub 2) Likwidacja kotła na paliwo stałe w celu montażu: kotła na biomasę, gazowego LPG, ekogroszek , elektrycznego, olejowego, pompy ciepła. | D18: Miasto Strzelce Opolskie | E18: 2020-2022 | F18: 1251700 | G18: Regionalny Program Operacyjny Województwa Opolskiego 2014-2020, działanie 5.5. Ochrona powietrza, środki własne Gminy, środki własne mieszkańców | H18: 701 | I18: 14 | J18: 568
A19: 2 | B19: Termomodernizacja budynków mieszkalnych jednorodzinnych w ramach programu CZYSTE POWIETRZE | C19: Termomodernizacja budynków mieszkalnych jednorodzinnych w ramach programu CZYSTE POWIETRZE wraz z wymianą źródeł ciepła na terenie Miasta. Zakłada się, że w ciągu roku zmodernizowanych zostaneie 10 budynków objemujących termomodernizację i wymianę źródła ciepła z kotła węglowego (ostateczny efekt Gmina oszacuje po zakończeniu programu w oparciu o oficjalne zapytanie do WFOŚiGW na temat liczby zrealizowanych inwestycji) | D19: Miasto Strzelce Opolskie | E19: 2021-2027 | F19: 3710000 | G19: środki własne mieszkańców, środki NFOŚiGW w ramach Programu Czyste Powietrze | H19: 168 | I19: 2 | J19: 57.32
A20: 3 | B20: Gminny Program dotacji „Oddychaj bez smogu” | C20: Od czerwca 2018 r. w Gminie funkcjonuje program dotacji do wymiany starych pieców węglowych pn. Oddychaj bez smogu. Zgodnie z Regulaminem mieszkańcy Gminy będący właścicielami domu/mieszkania mogą otrzymać dotację na wymianę pieca w wysokości 33% kosztów zakupu nowego źródła ogrzewania, lecz nie więcej niż 2 500 zł. Do 2027 roku przewidziano dotacje do 240 kotłów | D20: Miasto Strzelce Opolskie | E20: 2021-2027 | F20: 630000 | G20: środki własne mieszkańców, środki własne Gminy | H20: 702 | I20: 14 | J20: 568
A21: - | C21: - | D21: - | E21: - | F21: =SUM(F22:F24) -> 2.5033127e+08 | G21: - | H21: =SUM(H22:H24) -> 5545 | I21: =SUM(I22:I24) -> 6040.76 | J21: =SUM(J22:J24) -> 6037
A22: 1 | B22: Termomodernizacja budynku przy ul Opolskiej 15A | C22: Zakres inwestycji obejmuje wymianę ścian na płyty warstwowe wraz z wymianą bramy wjazdowej | D22: AUTO KOMPLEX Robert Kubzda | E22: 2021 | F22: 200000 | G22: środki własne | H22: 10 | I22: 0 | J22: 8
A23: 2 | B23: Zintegrowana Pasywna Strefa Przemysłowo-Rekreacyjna „Zielone Strzelce” | C23: Plan obejmuje budowę Strefy Przemysłowej (ok. 30 ha) w Strzelcach Opolskich ul. Marka Prawego 50 (teren byłej kopalni kruszywa Lhoist SA) składającej się z zespołu hal magazynowych i produkcyjnych, biurowca, placów parkingowych i manewrowych. Hale przeznaczone będą na potrzeby firm z Grupy Adamietz (5 hal) oraz na wynajem (6 hal) W założeniach Zintegrowana Pasywna Strefa PrzemysłowoRekreacyjna „Zielone Strzelce” wpisuje się w idee budownictwa zrównoważonego oraz łączenia obszaru pracy i wypoczynku jako terenów przyjaznych środowisku tj.: budynki hal i biurowca będą miały certyfikat budynku pasywnego, - zasilane z paneli fotowoltaicznych i pomp ciepła, - płyta grzewczo-chłodząca działającą na zasadzie ogrzewania niskotemperaturowego, umieszczona wewnątrz płyty fundamentowej z funkcją grzania lub chłodzenia, - oświetlenie zewnętrzne i wewnętrzne lampami LED lub solarnymi, - transport wewnętrzny w większości zasilany ZOE, - stacje dla ładowania aut i pojazdów ekologicznych, - z dachów wszystkich budynków i powierzchni utwardzonych zbierana będzie woda opadowa celem wykorzystania do utrzymania zieleni lub wykorzystania do celów sanitarnych i p.poż., - między budynkami strefy zielone strefy do rekreacji i wypoczynku pracowników. Dodatkowo na pozostałej powierzchni b. kopalni kruszywa (ok. 60 ha) planujemy stworzyć strefę rekreacji, wypoczynku i usług poprzez budowę parku, pola golfowego, kortów tenisowych, terenu dla crosscarów oraz małej gastronomi do obsługi tych terenów. | D23: Adamietz sp. z o.o. | E23: 2021-2027 | F23: 250000000 | G23: Środki własne, kredyty bankowe, środki zewnętrzne | H23: 5500 | I23: 6000 | J23: 6000
A24: 3 | B24: Dostawa i montaż instalacji fotowoltaicznej | C24: Montaż instalacji fotowoltaicznej o mocy 39,96 kWp na budynku przy ul. Opolskiej 15A | D24: AUTO KOMPLEX Robert Kubzda | E24: 2021 | F24: 131270.89 | G24: środki własne | H24: 35 | I24: 40.76 | J24: 29
A25: - | B25: Transport | C25: - | D25: - | E25: - | F25: =SUM(F26:F27) -> 118000000 | G25: - | H25: =SUM(H26:H27) -> 0 | I25: =SUM(I26:I27) -> 0 | J25: =SUM(J26:J27) -> 0
A26: 1 | B26: Zrównoważony proekologiczny (zielony) transport publiczny w części obszaru funkcjonalnego, jako efekt zakupu i modernizacji taboru, w tym elektrycznego, w ramach działalności Związku „Jedź z Nami” wraz z modernizacją dworca przesiadkowego dla udogodnień podróży umożliwiającej mobilność pracowników | C26: Zrównoważony proekologiczny (zielony) transport publiczny w części obszaru funkcjonalnego, jako efekt zakupu i modernizacji taboru, w tym elektrycznego, w ramach działalności Związku „Jedź z Nami” wraz z modernizacją dworca przesiadkowego dla udogodnień podróży umożliwiającej mobilność pracowników | D26: Powiat strzelecki | E26: 2020-2027 | F26: 106000000 | G26: Środki własne/ RPO/ NFOŚiGW/ WFOŚiGW | H26: 0 | I26: 0 | J26: 0
A27: 2 | B27: Stworzenie sieci ścieżek rowerowych poprawiających bezpieczeństwo mieszkańców Subregionu Kędzierzyńsko-Strzeleckiego wraz z możliwością promocji obiektów dziedzictwa kultury regionalnej Śląska Opolskiego, w tym kuchni regionu opolskiego "szlakiem kluski, rolady i modrej kapusty" | C27: Stworzenie sieci ścieżek rowerowych poprawiających bezpieczeństwo mieszkańców Subregionu Kędzierzyńsko-Strzeleckiego wraz z możliwością promocji obiektów dziedzictwa kultury regionalnej Śląska Opolskiego, w tym kuchni regionu opolskiego "szlakiem kluski, rolady i modrej kapusty" | D27: Powiat strzelecki | E27: 2020-2027 | F27: 12000000 | G27: Środki własne/ RPO/ NFOŚiGW/ WFOŚiGW | H27: 0 | I27: 0 | J27: 0
A28: 4
A29: - | B29: Oświetlenie | C29: - | D29: - | E29: - | F29: 0 | G29: - | H29: =H30 -> 0 | I29: =I30 -> 0 | J29: =J30 -> 0
A30: 1
A31: - | B31: Zarządzanie energią | C31: - | D31: - | E31: - | F31: 0 | G31: - | H31: 0 | I31: 0 | J31: 0
A32: - | B32: Świadomość energetyczna | C32: - | D32: - | E32: - | F32: 0 | G32: - | H32: 0 | I32: 0 | J32: 0
A33: 4 | G33: -
A34: 5 | G34: -
A35: 6 | G35: -
A36: - | B36: RAZEM: | C36: - | D36: - | E36: - | F36: =F32+F31+F29+F25+F21+F17+F3 -> 3.9349643e+08 | G36: - | H36: =H32+H31+H29+H25+H21+H17+H3 -> 9759.37 | I36: =I32+I31+I29+I25+I21+I17+I3 -> 7727.96 | J36: =J32+J31+J29+J25+J21+J17+J3 -> 8732.8094

Sheet Podsumowanie inwestycji
B1: Oszczędności energii do 2020 r. | C1: Udział energii z OZE do 2020 r. | D1: Roczna redukcja emisji CO2 do 2020 r. | F1: Pozycja | G1: Wartość w roku bazowym 2013 (BEI 2013) | H1: Wartość wskaźnika oszczędności monitoringowego w roku 2020 | I1: Wartość bez uwzględnienia inwestycji w roku 2020 (BAU 2020) | J1: Wartość w roku 2020 z uwzględnieniem inwestycji (MEI 2020) | K1: Wskaźnik do PGN
A2: Budynki użyteczności publicznej | B2: =Zrealizowane!$H$3 -> 992.56 | C2: =Zrealizowane!$I$3 -> 223.55 | D2: =Zrealizowane!$J$3 -> 974.14 | F2: Energia finalna | G2: ='2013'!C12 -> 339279.49 | H2: =B9 -> 4516.3904 | I2: ='2020'!$C$12 -> 489352.13 | J2: =G2-H2 -> 334763.1 | K2: Wskaźnik redukcji zużycia energii finalnej | L2: =(G2-J2)/G2 -> 0.013311711 | M2: =H2/G2 -> 0.013311711
A3: Budynki mieszkalne | B3: =Zrealizowane!$H$12 -> 1653.6617 | C3: =Zrealizowane!$I$12 -> 8 | D3: =Zrealizowane!$J$12 -> 560.36752 | F3: Produkcja energii z OZE | G3: =1083 -> 1083 | H3: =C9 -> 256.75 | I3: 0 | J3: =G3+H3 -> 1339.75 | K3: Wskaźnik wzrostu udziału energii pochodzącej ze źródeł odnawialnych w stosunku do przyjętego roku bazowego | L3: =J3/$G$2-G3/G2 -> 0.00075675072
A4: Przedsiębiorcy | B4: =Zrealizowane!$H$21 -> 25.2 | C4: =Zrealizowane!$I$21 -> 25.2 | D4: =Zrealizowane!$J$21 -> 19.278 | F4: Emisja CO2 | G4: ='2013'!G12 -> 123822 | H4: =D9 -> 2019.943 | I4: ='2020'!$G$12+H4 -> 251773.42 | J4: =G4-H4 -> 121802.06 | K4: Wskaźnik redukcji emisji CO2 | L4: =(G4-J4)/G4 -> 0.016313281
A5: Transport | B5: =Zrealizowane!$H$24 -> 1844.9687 | C5: =Zrealizowane!$I$24 -> 0 | D5: =Zrealizowane!$J$24 -> 466.1575 | G5: =G3/G2 -> 0.0031920586 | J5: =J3/J2 -> 0.0040020839
A6: Oświetlenie | B6: =Zrealizowane!$H$32 -> 0 | C6: =Zrealizowane!$I$32 -> 0 | D6: =Zrealizowane!$J$32 -> 0
A7: Zarządzanie energią | B7: =Zrealizowane!$H$34 -> 0 | C7: =Zrealizowane!$I$34 -> 0 | D7: =Zrealizowane!$J$34 -> 0
A8: Świadomość energetyczna | B8: =Zrealizowane!$H$37 -> 0 | C8: =Zrealizowane!$I$37 -> 0 | D8: =Zrealizowane!$J$37 -> 0
A9: RAZEM: | B9: =SUM(B2:B8) -> 4516.3904 | C9: =SUM(C2:C8) -> 256.75 | D9: =SUM(D2:D8) -> 2019.943
B11: Oszczędności energii do 2027 r. | C11: Udział energii z OZE do 2027 r. | D11: Roczna redukcja emisji CO2 do 2027 r.
A12: Budynki użyteczności publicznej | B12: =Planowane!$H$3 -> 2643.37 | C12: =Planowane!$I$3 -> 1657.2 | D12: =Planowane!$J$3 -> 1502.4894
A13: Budynki mieszkalne | B13: =Planowane!$H$17 -> 1571 | C13: =Planowane!$I$17 -> 30 | D13: =Planowane!$J$17 -> 1193.32
A14: Przedsiębiorcy | B14: =Planowane!$H$21 -> 5545 | C14: =Planowane!$I$21 -> 6040.76 | D14: =Planowane!$J$21 -> 6037
A15: Transport | B15: =Planowane!$H$25 -> 0 | C15: =Planowane!$I$25 -> 0 | D15: =Planowane!$J$25 -> 0
A16: Oświetlenie | B16: =Planowane!$H$29 -> 0 | C16: =Planowane!$I$29 -> 0 | D16: =Planowane!$J$29 -> 0
A17: Zarządzanie energią | B17: =Planowane!$H$31 -> 0 | C17: =Planowane!$I$31 -> 0 | D17: =Planowane!$J$31 -> 0
A18: Świadomość energetyczna | B18: =Planowane!$H$32 -> 0 | C18: =Planowane!$I$32 -> 0 | D18: =Planowane!$J$32 -> 0
A19: RAZEM: | B19: =SUM(B12:B18) -> 9759.37 | C19: =SUM(C12:C18) -> 7727.96 | D19: =SUM(D12:D18) -> 8732.8094
A21: RAZEM 2020 + 2027 | B21: =B11 -> Oszczędności energii do 2027 r. | C21: =C11 -> Udział energii z OZE do 2027 r. | D21: =D11 -> Roczna redukcja emisji CO2 do 2027 r. | F21: Pozycja | G21: Wartość w roku bazowym 2020 (BEI 2013) | H21: Wartość wskaźnika oszczędności monitoringowego w roku 2027 | I21: Wartość bez uwzględnienia inwestycji w roku 2027 (BAU 2020) | J21: Wartość w roku 2020 z uwzględnieniem inwestycji (MEI 027) | K21: Wskaźnik do PGN
A22: Budynki użyteczności publicznej | B22: =B2+B12 -> 3635.93 | C22: =C2+C12 -> 1880.75 | D22: =D2+D12 -> 2476.6294 | F22: Energia finalna | G22: =J2 -> 334763.1 | H22: =$B$19 -> 9759.37 | I22: =G22 -> 334763.1 | J22: =I22-H22 -> 325003.73 | K22: Wskaźnik redukcji zużycia energii finalnej | L22: =(G22-J22)/G22 -> 0.029153064
A23: Budynki mieszkalne | B23: =B3+B13 -> 3224.6617 | C23: =C3+C13 -> 38 | D23: =D3+D13 -> 1753.6875 | F23: Produkcja energii z OZE | G23: =J3 -> 1339.75 | H23: =$C$19 -> 7727.96 | I23: =G23 -> 1339.75 | J23: =G23+H23 -> 9067.71 | K23: Wskaźnik wzrostu udziału energii pochodzącej ze źródeł odnawialnych w stosunku do przyjętego roku bazowego | L23: =J23/$G$2-G23/G22 -> 0.022724289
A24: Przedsiębiorcy | B24: =B4+B14 -> 5570.2 | C24: =C4+C14 -> 6065.96 | D24: =D4+D14 -> 6056.278 | F24: Emisja CO2 | G24: =J4 -> 121802.06 | H24: =$D$19 -> 8732.8094 | I24: =G24 -> 121802.06 | J24: =I24-H24 -> 113069.25 | K24: Wskaźnik redukcji emisji CO2 | L24: =(G24-J24)/G24 -> 0.071696732
A25: Transport | B25: =B5+B15 -> 1844.9687 | C25: =C5+C15 -> 0 | D25: =D5+D15 -> 466.1575 | G25: =G23/G22 -> 0.0040020839 | J25: =J23/J22 -> 0.027900326
A26: Oświetlenie | B26: =B6+B16 -> 0 | C26: =C6+C16 -> 0 | D26: =D6+D16 -> 0
A27: Zarządzanie energią | B27: =B7+B17 -> 0 | C27: =C7+C17 -> 0 | D27: =D7+D17 -> 0
A28: Świadomość energetyczna | B28: =B8+B18 -> 0 | C28: =C8+C18 -> 0 | D28: =D8+D18 -> 0
A29: RAZEM: | B29: =SUM(B22:B28) -> 14275.76 | C29: =SUM(C22:C28) -> 7984.71 | D29: =SUM(D22:D28) -> 10752.752
A35: Do 2020 | F35: Do 2027
A36: Energia | F36: Energia
A55: CO | F55: CO2

Sheet Inwentaryzacja 2013
A1: Końcowe zużycie energii w Gminie Strzelce Opolskie w 2013 roku
A2: Lp | B2: Kategoria | C2: Energia elektryczna | D2: Ciepło/ chłód | E2: Paliwa kopalne | N2: Odnawialne źródła energii | S2: RAZEM
E3: Inne | F3: Gaz ciekły | G3: Olej opałowy | H3: Benzyna | I3: Gaz ziemny | J3: Olej napędowy | K3: Węgiel brunatny | L3: Węgiel (miał) | M3: Inne paliwa kopalne | N3: Biopaliwo | O3: Olej roślinny | P3: Inna biomasa | Q3: Słoneczna cieplna | R3: Geotermiczna
C4: MWh/a
A5: I | B5: BUDYNKI, WYPOSAŻENIE/URZĄDZENIA I PRZEMYSŁ
A6: I.1 | B6: Budynki, wyposażenie/ urządzenia komunalne | C6: 1378 | D6: 10356 | E6: - | F6: - | G6: 699 | H6: - | I6: 1869 | J6: - | K6: - | L6: 1522 | M6: - | N6: - | O6: - | P6: - | Q6: - | R6: - | S6: 15818
A7: I.2 | B7: Budynki mieszkalne | C7: 30 932 | D7: 26289 | E7: - | F7: - | G7: 906 | H7: - | I7: 24461 | J7: - | K7: - | L7: 90394 | M7: - | N7: - | O7: - | P7: 5307 | Q7: - | R7: - | S7: 178289
A8: I.3 | B8: Komunalne oświetlenie uliczne | C8: 1711 | D8: - | E8: - | F8: - | G8: - | H8: - | I8: - | J8: - | K8: - | L8: - | M8: - | N8: - | O8: - | P8: - | Q8: - | R8: - | S8: 1711
A9: I.4 | B9: Przemysł | C9: 13256 | D9: 1583 | E9: - | F9: - | G9: - | H9: - | I9: 25 | J9: - | K9: - | L9: 1114 | M9: - | N9: - | O9: - | P9: 1551 | Q9: - | R9: - | S9: 17530 | T9: =S9+S10 -> 24662
A10: I.5 | B10: Handel | C10: 4910 | D10: 1748 | E10: - | F10: - | G10: - | H10: - | I10: 474 | J10: - | K10: - | L10: - | M10: - | N10: - | O10: - | P10: - | Q10: - | R10: - | S10: 7132
A11: II | B11: TRANSPORT
A12: II.1 | B12: Transport | C12: - | D12: - | E12: - | F12: 12695 | G12: - | H12: 35 027 | I12: - | J12: 71077 | K12: - | L12: - | M12: - | N12: - | O12: - | P12: - | Q12: - | R12: - | S12: 118799
B13: RAZEM: | C13: 52187 | D13: 39976 | E13: - | F13: 12965 | G13: 1605 | H13: 35027 | I13: 26823 | J13: 71077 | K13: - | L13: 93031 | M13: - | N13: - | O13: - | P13: 6858 | Q13: - | R13: - | S13: 339279
A14: Emisje CO2 lub ekwiwalentu CO2 w Gminie Strzelce Opolskie w 2013 roku
A15: Lp | B15: Kategoria | C15: Energia elektryczna | D15: Ciepło/ chłód | E15: Paliwa kopalne | N15: Odnawialne źródła energii | S15: RAZEM
E16: Inne | F16: Gaz ciekły | G16: Olej opałowy | H16: Benzyna | I16: Gaz ziemny | J16: Olej napędowy | K16: Węgiel brunatny | L16: Węgiel (miał) | M16: Inne paliwa kopalne | N16: Biopaliwo | O16: Olej roślinny | P16: Inna biomasa | Q16: Słoneczna cieplna | R16: Geotermiczna
C17: MWh/a
A18: I | B18: BUDYNKI, WYPOSAŻENIE/URZĄDZENIA I PRZEMYSŁ
A19: I.1 | B19: Budynki, wyposażenie/ urządzenia komunalne | C19: 1119 | D19: 3365 | E19: - | F19: - | G19: 193 | H19: - | I19: 375 | J19: - | K19: - | L19: 538 | M19: - | N19: - | O19: - | P19: - | Q19: - | R19: - | S19: =SUM(B19:R19) -> 5590
A20: I.2 | B20: Budynki mieszkalne | C20: 25117 | D20: 8542 | E20: - | F20: - | G20: 251 | H20: - | I20: 4929 | J20: - | K20: - | L20: 31981 | M20: - | N20: - | O20: - | P20: 0 | Q20: - | R20: - | S20: =SUM(B20:R20) -> 70820
A21: I.3 | B21: Komunalne oświetlenie uliczne | C21: 1389 | D21: - | E21: - | F21: - | G21: - | H21: - | I21: - | J21: - | K21: - | L21: - | M21: - | N21: - | O21: - | P21: - | Q21: - | R21: - | S21: =SUM(B21:R21) -> 1389
A22: I.4 | B22: Przemysł | C22: 10764 | D22: 514 | E22: - | F22: - | G22: - | H22: - | I22: 5 | J22: - | K22: - | L22: 394 | M22: - | N22: - | O22: - | P22: 0 | Q22: - | R22: - | S22: =SUM(B22:R22) -> 11677
A23: I.5 | B23: Handel | C23: 3987 | D23: 568 | E23: - | F23: - | G23: - | H23: - | I23: 96 | J23: - | K23: - | L23: - | M23: - | N23: - | O23: - | P23: - | Q23: - | R23: - | S23: =SUM(B23:R23) -> 4651
A24: II | B24: TRANSPORT
A25: II.1 | B25: Transport | C25: - | D25: - | E25: - | F25: 2 862 | G25: - | H25: 8 676 | I25: - | J25: 18 158 | K25: - | L25: - | M25: - | N25: - | O25: - | P25: - | Q25: - | R25: - | S25: 29695
B26: RAZEM: | C26: 42375 | D26: 12 989 | E26: - | F26: 2 862 | G26: 444 | H26: 8676 | I26: 5 405 | J26: 18 158 | K26: - | L26: 32 913 | M26: - | N26: - | O26: - | P26: 0 | Q26: - | R26: - | S26: 123822
B27: 2013 | C27: Przedsiębiorstwa | J27: 2013 | K27: Mieszkania
C28: Energia elektryczna | D28: Ciepło | E28: Gaz ziemny | F28: Węgiel (miał) | G28: Inna biomasa | H28: RAZEM | K28: Energia elektryczna | L28: Ciepło | M28: Olej opałowy | N28: Gaz ziemny | O28: Węgiel (miał) | P28: Inna biomasa | Q28: RAZEM
B29: Zużycie energii finalnej, w tym: [MWh] | C29: =SUM(C30:C31) -> 18166 | D29: =SUM(D30:D31) -> 3331 | E29: =SUM(E30:E31) -> 499 | F29: =SUM(F30:F31) -> 1114 | G29: =SUM(G30:G31) -> 1551 | H29: =SUM(C29:G29) -> 24661 | J29: Zużycie energii finalnej, w tym: [MWh] | K29: =C7 -> 30 932 | L29: =D7 -> 26289 | M29: =G7 -> 906 | N29: =I7 -> 24461 | O29: =L7 -> 90394 | P29: =P7 -> 5307 | Q29: =SUM(K29:P29) -> 147357
B30: Przemysł | C30: =C9 -> 13256 | D30: =D9 -> 1583 | E30: =I9 -> 25 | F30: =L9 -> 1114 | G30: =P9 -> 1551 | H30: =SUM(C30:G30) -> 17529 | J30: Emisja CO2, w tym: | K30: =C20 -> 25117 | L30: =D20 -> 8542 | M30: =G20 -> 251 | N30: =I20 -> 4929 | O30: =L20 -> 31981 | P30: =P20 -> 0 | Q30: =SUM(K30:P30) -> 70820
B31: Handel i usługi | C31: =C10 -> 4910 | D31: =D10 -> 1748 | E31: =I10 -> 474 | F31: =L10 -> - | G31: =P10 -> - | H31: =SUM(C31:G31) -> 7132
B32: Emisja CO2, w tym: | C32: =SUM(C33:C34) -> 14751 | D32: =SUM(D33:D34) -> 1082 | E32: =SUM(E33:E34) -> 101 | F32: =SUM(F33:F34) -> 394 | G32: =SUM(G33:G34) -> 0 | H32: =SUM(C32:G32) -> 16328 | J32: 2020 | K32: Mieszkania
B33: Przemysł | C33: =C22 -> 10764 | D33: =D22 -> 514 | E33: =I22 -> 5 | F33: =L22 -> 394 | G33: =SUM(G34:G35) -> 0 | H33: =SUM(C33:G33) -> 11677 | K33: Energia elektryczna | L33: Ciepło | M33: Olej opałowy | N33: Gaz ziemny | O33: Węgiel (miał) | P33: Inna biomasa | Q33: RAZEM
B34: Handel i usługi | C34: =C23 -> 3987 | D34: =D23 -> 568 | E34: =I23 -> 96 | F34: =L23 -> - | G34: =SUM(G35:G36) -> 0 | H34: =SUM(C34:G34) -> 4651 | J34: Zużycie energii finalnej, w tym: [MWh] | K34: =INT('Energia elektryczna'!I25*1.05) -> 25856 | L34: =Ciepło!F3+Ciepło!F6 -> 77267 | M34: =M29 -> 906 | N34: =N29 -> 24461 | O34: =O29 -> 90394 | P34: =P29 -> 5307 | Q34: =SUM(K34:P34) -> 224191
J35: WE CO2 [kg/GJ] | K35: =C38 -> 765 | L35: 94.94 | M35: =77.4 -> 77.4 | N35: =55.33 -> 55.33 | O35: 94.78 | P35: 0 | Q35: =SUM(K35:P35) -> 1087.45
B36: 2020 | C36: Energia elektryczna | D36: Ciepło | E36: Gaz ziemny | F36: Węgiel (miał) | G36: Inna biomasa | H36: RAZEM | J36: Emisja CO2, | K36: =ROUND(K34*K35/1000,0) -> 19780 | L36: =ROUND(L34*3.6*L35/1000,0) -> 26409 | M36: =ROUND(M34*3.6*M35/1000,0) -> 252 | N36: =ROUND(N34*3.6*N35/1000,0) -> 4872 | O36: =ROUND(O34*3.6*O35/1000,0) -> 30843 | P36: =ROUND(P34*3.6*P35/1000,0) -> 0 | Q36: =SUM(K36:P36) -> 82156
B37: Zużycie energii finalnej, w tym: [MWh] | C37: ='Energia elektryczna'!I22+'Energia elektryczna'!I23 -> 188095 | D37: =Ciepło!F4/3.6 -> 2323.6111 | E37: =E29 -> 499 | F37: =F29 -> 1114 | G37: =G29 -> 1551 | H37: =SUM(C37:G37) -> 193582.61
B38: WE CO2 [kg/GJ] | C38: 765 | D38: 94.94 | E38: =55.33 -> 55.33 | F38: 94.78 | G38: 0 | H38: -
B39: Emisja CO2, | C39: =C37*C38/1000 -> 143892.67 | D39: =INT(D37*3.6*D38/1000) -> 794 | E39: =INT(E37*3.6*E38/1000) -> 99 | F39: =INT(F37*3.6*F38/1000) -> 380 | G39: =INT(G37*3.6*G38/1000) -> 0 | H39: =SUM(C39:G39) -> 145165.67

Sheet Inwentaryzacja 2020
A1: Transport
A2: Transport osobowy
A3: Paliwo | B3: Benzyna | C3: LPG | D3: Olej napędowy | F3: Wskaźnik | G3: Ogółem | H3: Krajowe | I3: Wojewódzkie | J3: Powiatowe | K3: Gminne | M3: Pojazd | N3: Pojazdy samochodowe na 1000 ludności | O3: Liczba ludności w tys. | P3: Liczba pojazdów
A4: Liczba samochodów przyjęta do wyliczeń - OGÓŁEM na terenie całej Gminy | B4: =$P$4 -> 18022 | C4: =$P$4 -> 18022 | D4: =$P$4 -> 18022 | F4: Długość dróg w km | G4: 8460.8 | H4: 779.7 | I4: 852.4 | J4: 3701.4 | K4: 3127.3 | M4: samochody osobowe | N4: =590.6 -> 590.6 | O4: =30515 -> 30515 | P4: =INT(O4/1000*N4) -> 18022
A5: Udział samochodów | B5: 0.5083 | C5: 0.1981 | D5: 0.2936 | F5: Udział dróg w podziale na kategorie w % | G5: 1 | H5: =H4/$G$4 -> 0.092154406 | I5: =I4/$G$4 -> 0.10074697 | J5: =J4/$G$4 -> 0.43747636 | K5: =K4/$G$4 -> 0.36962226
A6: Liczba samochodów przyjęta do wyliczeń | B6: =INT(B4*B5) -> 9160 | C6: =INT(C4*C5) -> 3570 | D6: =INT(D4*D5) -> 5291
A7: Średnie spalanie samochodu osobowego przyjęte dla danego paliwa | B7: 7.4 | C7: 9.71 | D7: 6.83
A8: Średni przebieg roczny samochodu osobowego przyjęty dla danego paliwa | B8: 11097 | C8: 12769 | D8: 14070
A9: Wskaźnik udziału dróg gminnych na terenie województwa | B9: =$K$5 -> 0.36962226 | C9: =$K$5 -> 0.36962226 | D9: =$K$5 -> 0.36962226 | G9: Energia | H9: Emisja
A10: Średni roczny przebieg samochodu na drogach gminnych | B10: =B9*B8 -> 4101.6982 | C10: =C9*C8 -> 4719.7066 | D10: =D9*D8 -> 5200.5852 | F10: Transport osobowy | G10: =SUM(B16:D16) -> 56692.885 | H10: =SUM(B18:D18) -> 14204.771
A11: Dystans łączny samochodów osobowych dla danej kategorii paliwa | B11: =B10*B6 -> 37571555 | C11: =C10*C6 -> 16849353 | D11: =D10*D6 -> 27516296 | F11: Transport ciężarowy | G11: =SUM(B37:D37) -> 13563.258 | H11: =SUM(B39:D39) -> 3471.615
A12: Zużycie paliwa łączne dla samochodów osobowych dla danej kategorii paliwa | B12: =B11/100*B7 -> 2780295.1 | C12: =C11/100*C7 -> 1636072.1 | D12: =D11/100*D7 -> 1879363 | G12: =G10+G11 -> 70256.143 | H12: =H10+H11 -> 17676.386
A13: Wartość opałowa paliwa MJ/kg | B13: 44.3 | C13: 47.3 | D13: 43
A14: Gęstość paliwa [kg/l] | B14: =0.72/2+0.775/2 -> 0.7475 | C14: 0.56 | D14: =0.85 -> 0.85
A15: Zużycie paliwa łączne dla samochodów osobowych dla danej kategorii paliwa litry | B15: =B12*B14 -> 2078270.6 | C15: =C12*C14 -> 916200.4 | D15: =D12*D14 -> 1597458.6
A16: Energia finalna w MWh | B16: =B15*B13/1000/3.6 -> 25574.274 | C16: =C15*C13/1000/3.6 -> 12037.855 | D16: =D15*D13/1000/3.6 -> 19080.755
A17: Wskaźnik emisji paliwa paliwa MJ/kg | B17: =69.3 -> 69.3 | C17: =63.1 -> 63.1 | D17: =74.1 -> 74.1
A18: Emisja CO2 | B18: =B16*3.6*B17/1000 -> 6380.2699 | C18: =C16*3.6*C17/1000 -> 2734.5192 | D18: =D16*3.6*D17/1000 -> 5089.9822
A21: Transport ciężarowy
A22: Paliwo | B22: Benzyna | C22: LPG | D22: Olej napędowy | F22: Numer drogi | G22: Numer punktu pomiarowego | H22: Nazwa odcinka | I22: Lekkie samochody ciężarowe | J22: Samochody ciężarowe | K22: Autobusy
A23: Udział samochodów | B23: 0.2347 | C23: 0.0633 | D23: 0.702 | F23: DW 409 | G23: 16302 | H23: GOGOLIN-STRZELCE OPOLSKIE | I23: =270 -> 270 | J23: =96+101 -> 197 | K23: 34
A24: Liczba ciężarówek na terenie Gminy na drogach krajowych | B24: =SUM(I35:K35,I37:K37) -> 4567 | C24: =$B$24 -> 4567 | D24: =$B$24 -> 4567 | G24: 16321 | H24: STRZELCE OPOLSKIE-DK 94 | I24: 388 | J24: =131+235 -> 366 | K24: 59
A25: Liczba ciężarówek na terenie Gminy na drogach krajowych w podziale na paliwa | B25: =INT(B23*B24) -> 1071 | C25: =INT(C23*C24) -> 289 | D25: =INT(D23*D24) -> 3206 | F25: - | G25: - | H25: Średnia | I25: =AVERAGE(I23:I24) -> 329 | J25: =AVERAGE(J23:J24) -> 281.5 | K25: =AVERAGE(K23:K24) -> 46.5
A26: Długość dróg krajowych na terenie Gminy | B26: 26 | C26: =$B$26 -> 26 | D26: =$B$26 -> 26 | F26: DW 426 | G26: 16303 | H26: ZAWADZKIE-STRZELCE OPOLSKIE | I26: 512 | J26: 742 | K26: 40
A27: Liczba wozokilemtrów przyjęta do wyliczeń na terenie Gminy na drogach krajowych | B27: =B26*B25 -> 27846 | C27: =C26*C25 -> 7514 | D27: =D26*D25 -> 83356 | G27: 16322 | H27: STRZELCE OPOLSKIE-DK 94 | I27: 733 | J27: =305+662 -> 967 | K27: 51
A28: Liczba ciężarówek na terenie Gminy na drogach powiatowych | B28: =SUM(I25:K25,I28:K28,I31:K31) -> 3003.5 | C28: =$B$28 -> 3003.5 | D28: =$B$28 -> 3003.5 | F28: - | G28: - | H28: Średnia | I28: =AVERAGE(I26:I27) -> 622.5 | J28: =AVERAGE(J26:J27) -> 854.5 | K28: =AVERAGE(K26:K27) -> 45.5
A29: Liczba ciężarówek na terenie Gminy na drogach powiatowych w podziale na paliwa | B29: =B28*$B$23 -> 704.92145 | C29: =C28*$B$23 -> 704.92145 | D29: =D28*$B$23 -> 704.92145 | F29: DW 426 | G29: 16304 | H29: STRZELCE OPOLSKIE-DK 94 | I29: 322 | J29: =109+335 -> 444 | K29: 18
A30: Długość dróg powiatowych na terenie Gminy | B30: =11.49+5.3+2.22 -> 19.01 | C30: =$B$30 -> 19.01 | D30: =$B$30 -> 19.01 | G30: 16323 | H30: STRZELCE OPOLSKIE-OLSZOWA | I30: 334 | J30: =103+406 -> 509 | K30: 21
A31: Liczba wozokilemtrów przyjęta do wyliczeń na terenie Gminy na drogach powiatowych | B31: =B30*B29 -> 13400.557 | C31: =C30*C29 -> 13400.557 | D31: =D30*D29 -> 13400.557 | F31: - | G31: - | H31: Średnia | I31: =AVERAGE(I29:I30) -> 328 | J31: =AVERAGE(J29:J30) -> 476.5 | K31: =AVERAGE(K29:K30) -> 19.5
A32: Liczba wozokilometrów w ciągu roku | B32: =INT(SUM(B31,B25)*200) -> 2894311 | C32: =INT(SUM(C31,C25)*200) -> 2737911 | D32: =INT(SUM(D31,D25)*200) -> 3321311 | F32: DK94 | G32: 41303 | H32: IZBICKO-STRZELCE OP. | I32: 966 | J32: =355+910 -> 1265 | K32: 136 | L32: =SUM(I32:K32) -> 2367
A33: Średnie spalanie samochodu osobowego przyjęte dla danego paliwa | B33: 10 | C33: 12.6 | D33: 24.8 | G33: 41304 | H33: STRZELCE OP./PRZEJŚCIE/ | I33: 1148 | J33: =493+1348 -> 1841 | K33: 174
A34: Zużycie paliwa łączne dla samochodów osobowych dla danej kategorii paliwa | B34: =B32/100*B33 -> 289431.1 | C34: =C32/100*C33 -> 344976.79 | D34: =D32/100*D33 -> 823685.13 | G34: 41312 | H34: STRZELCE OP.-TOSZEK /DW 907/ | I34: 472 | J34: =213+319 -> 532 | K34: 24 | L34: 2381
A35: Wartość opałowa paliwa [MJ/kg] | B35: =B13 -> 44.3 | C35: =C13 -> 47.3 | D35: =D13 -> 43 | F35: - | G35: - | H35: Średnia | I35: =AVERAGE(I32:I34) -> 862 | J35: =AVERAGE(J32:J34) -> 1212.6667 | K35: =AVERAGE(K32:K34) -> 111.33333
A36: Gęstość paliwa [kg/l] | B36: =B14 -> 0.7475 | C36: =C14 -> 0.56 | D36: =D14 -> 0.85 | F36: DK88 | G36: 41305 | H36: STRZELCE OP.-NOGOWCZYCE | I36: =640 -> 640 | J36: =289+1350 -> 1639 | K36: 102
A37: Energia finalna w MWh | B37: =B34*B36*B35/3.6/1000 -> 2662.3038 | C37: =C34*C36*C35/3.6/1000 -> 2538.2625 | D37: =D34*D36*D35/3.6/1000 -> 8362.6921 | F37: - | G37: - | H37: Średnia | I37: =I36 -> 640 | J37: =J36 -> 1639 | K37: =K36 -> 102
A38: Wskaźnik emisji paliwa paliwa MJ/kg | B38: =69.3 -> 69.3 | C38: =63.1 -> 63.1 | D38: =74.1 -> 74.1
A39: Emisja CO2 | B39: =B37*3.6*B38/1000 -> 664.19156 | C39: =C37*3.6*C38/1000 -> 576.59172 | D39: =D37*3.6*D38/1000 -> 2230.8317

Sheet Ciepło
A1: Prognozowana wielkość sprzedaży | B1: 2016 | C1: 2017 | D1: 2018 | E1: 2019 | F1: 2020 | G1: 2021 | H1: 2022 | I1: 2023 | J1: 2024
B2: GJ | C2: GJ | D2: GJ | E2: GJ | F2: GJ | G2: GJ | H2: GJ | I2: GJ | J2: GJ
A3: Wspólnoty mieszkaniowe, budynki komunalne, spółdzielnie mieszkaniowe | B3: 88677 | C3: 88136 | D3: 80230 | E3: 76182 | F3: 76712 | G3: 77379 | H3: 77379 | I3: 77379 | J3: 77379
A4: Przemysł, usługi | B4: 10813 | C4: 13070 | D4: 9729 | E4: 8308 | F4: 8365 | G4: 8438 | H4: 8438 | I4: 8438 | J4: 8438
A5: Instytucje użyteczności publicznej | B5: 33999 | C5: 36573 | D5: 32153 | E5: 29165 | F5: 29368 | G5: 29623 | H5: 29623 | I5: 29623 | J5: 29623
A6: Odbiorcy indywidualni | B6: 597 | C6: 620 | D6: 571 | E6: 551 | F6: 555 | G6: 560 | H6: 560 | I6: 560 | J6: 560
A7: RAZEM | B7: 134086 | C7: 138400 | D7: 122683 | E7: 114205 | F7: 115000 | G7: 116000 | H7: 116000 | I7: 116000 | J7: 116000

Sheet Energia elektryczna
B1: Zapotrzebowanie na energię elektryczną
A2: Miasto Strzelce | B2: Umowy kompleksowe | K2: Powiat strzelecki | L2: Umowy kompleksowe
B3: 2016 | D3: 2017 | F3: 2018 | H3: 2019 | L3: 2016 | N3: 2017 | P3: 2018 | R3: 2019
B4: Ilość odbiorców | C4: Roczne zużycie energii elektrycznej | D4: Ilość odbiorców | E4: Roczne zużycie energii elektrycznej | F4: Ilość odbiorców | G4: Roczne zużycie energii elektrycznej | H4: Ilość odbiorców | I4: Roczne zużycie energii elektrycznej | L4: Ilość odbiorców | M4: Roczne zużycie energii elektrycznej | N4: Ilość odbiorców | O4: Roczne zużycie energii elektrycznej | P4: Ilość odbiorców | Q4: Roczne zużycie energii elektrycznej | R4: Ilość odbiorców | S4: Roczne zużycie energii elektrycznej
A5: Grupa taryfowa A (odbiorcy na wysokim napięciu) | B5: 0 | C5: 0 | D5: 0 | E5: 0 | F5: 0 | G5: 0 | H5: 0 | I5: 0 | K5: Grupa taryfowa A (odbiorcy na wysokim napięciu)
A6: Grupa taryfowa B (odbiorcy pobierający energię elektryczną na cele producyjne i usługowe na średnim napięciu) | B6: 6 | C6: 7496 | D6: 7 | E6: 11295 | F6: 6 | G6: 14449 | H6: 5 | I6: 15276 | K6: Grupa taryfowa B (odbiorcy pobierający energię elektryczną na cele producyjne i usługowe na średnim napięciu)
A7: Grupa taryfowa C (odbiorcy pobierający energię elektryczną na cele producyjne i usługowe na niskim napięciu) | B7: 579 | C7: 5483 | D7: 575 | E7: 5263 | F7: 594 | G7: 5474 | H7: 581 | I7: 5186 | K7: Grupa taryfowa C (odbiorcy pobierający energię elektryczną na cele producyjne i usługowe na niskim napięciu)
A8: Grupa taryfowa G (odbiorcy komunalno-bytowi na niskim napięciu) | B8: 8973 | C8: 13358 | D8: 8971 | E8: 13635 | F8: 8994 | G8: 13428 | H8: 9050 | I8: 13370 | K8: Grupa taryfowa G (odbiorcy komunalno-bytowi na niskim napięciu) | L8: 28120 | M8: 58726 | N8: 28190 | O8: 59503 | P8: 28264 | Q8: 60036 | R8: 28249 | S8: 59959
B9: =SUM(B5:B8) -> 9558 | C9: =SUM(C5:C8) -> 26337 | D9: =SUM(D5:D8) -> 9553 | E9: =SUM(E5:E8) -> 30193 | F9: =SUM(F5:F8) -> 9594 | G9: =SUM(G5:G8) -> 33351 | H9: =SUM(H5:H8) -> 9636 | I9: =SUM(I5:I8) -> 33832 | L9: =SUM(L5:L8) -> 28120 | M9: =SUM(M5:M8) -> 58726 | N9: =SUM(N5:N8) -> 28190 | O9: =SUM(O5:O8) -> 59503 | P9: =SUM(P5:P8) -> 28264 | Q9: =SUM(Q5:Q8) -> 60036 | R9: =SUM(R5:R8) -> 28249 | S9: =SUM(S5:S8) -> 59959
B11: Umowy dystrybucyjne | L11: Umowy dystrybucyjne
B12: 2016 | D12: 2017 | F12: 2018 | H12: 2019 | L12: 2016 | N12: 2017 | P12: 2018 | R12: 2019
B13: Ilość odbiorców | C13: Roczne zużycie energii elektrycznej | D13: Ilość odbiorców | E13: Roczne zużycie energii elektrycznej | F13: Ilość odbiorców | G13: Roczne zużycie energii elektrycznej | H13: Ilość odbiorców | I13: Roczne zużycie energii elektrycznej | L13: Ilość odbiorców | M13: Roczne zużycie energii elektrycznej | N13: Ilość odbiorców | O13: Roczne zużycie energii elektrycznej | P13: Ilość odbiorców | Q13: Roczne zużycie energii elektrycznej | R13: Ilość odbiorców | S13: Roczne zużycie energii elektrycznej
A14: Grupa taryfowa A (odbiorcy na wysokim napięciu) | B14: 0 | C14: 128263 | D14: 0 | E14: 136689 | F14: 0 | G14: 136493 | H14: 0 | I14: 129014 | K14: Grupa taryfowa A (odbiorcy na wysokim napięciu)
A15: Grupa taryfowa B (odbiorcy pobierający energię elektryczną na cele producyjne i usługowe na średnim napięciu) | B15: 14 | C15: 36776 | D15: 14 | E15: 33707 | F15: 16 | G15: 39956 | H15: 18 | I15: 43805 | K15: Grupa taryfowa B (odbiorcy pobierający energię elektryczną na cele producyjne i usługowe na średnim napięciu)
A16: Grupa taryfowa C (odbiorcy pobierający energię elektryczną na cele producyjne i usługowe na niskim napięciu) | B16: 536 | C16: 12137 | D16: 502 | E16: 11798 | F16: 457 | G16: 11380 | H16: 443 | I16: 10994 | K16: Grupa taryfowa C (odbiorcy pobierający energię elektryczną na cele producyjne i usługowe na niskim napięciu)
A17: Grupa taryfowa G (odbiorcy komunalno-bytowi na niskim napięciu) | K17: Grupa taryfowa G (odbiorcy komunalno-bytowi na niskim napięciu)
B18: =SUM(B14:B17) -> 550 | C18: =SUM(C14:C17) -> 177176 | D18: =SUM(D14:D17) -> 516 | E18: =SUM(E14:E17) -> 182194 | F18: =SUM(F14:F17) -> 473 | G18: =SUM(G14:G17) -> 187829 | H18: =SUM(H14:H17) -> 461 | I18: =SUM(I14:I17) -> 183813 | L18: =SUM(L14:L17) -> 0 | M18: =SUM(M14:M17) -> 0 | N18: =SUM(N14:N17) -> 0 | O18: =SUM(O14:O17) -> 0 | P18: =SUM(P14:P17) -> 0 | Q18: =SUM(Q14:Q17) -> 0 | R18: =SUM(R14:R17) -> 0 | S18: =SUM(S14:S17) -> 0
B20: 2016 | D20: 2017 | F20: 2018 | H20: 2019 | L20: 2016 | N20: 2017 | P20: 2018 | R20: 2019
B21: Ilość odbiorców | C21: Roczne zużycie energii elektrycznej | D21: Ilość odbiorców | E21: Roczne zużycie energii elektrycznej | F21: Ilość odbiorców | G21: Roczne zużycie energii elektrycznej | H21: Ilość odbiorców | I21: Roczne zużycie energii elektrycznej | L21: Ilość odbiorców | M21: Roczne zużycie energii elektrycznej | N21: Ilość odbiorców | O21: Roczne zużycie energii elektrycznej | P21: Ilość odbiorców | Q21: Roczne zużycie energii elektrycznej | R21: Ilość odbiorców | S21: Roczne zużycie energii elektrycznej
A22: Grupa taryfowa A (odbiorcy na wysokim napięciu) | B22: =B5+B14 -> 0 | C22: =C5+C14 -> 128263 | D22: =D5+D14 -> 0 | E22: =E5+E14 -> 136689 | F22: =F5+F14 -> 0 | G22: =G5+G14 -> 136493 | H22: =H5+H14 -> 0 | I22: =I5+I14 -> 129014 | K22: Grupa taryfowa A (odbiorcy na wysokim napięciu) | L22: =L5+L14 -> 0 | M22: =M5+M14 -> 0 | N22: =N5+N14 -> 0 | O22: =O5+O14 -> 0 | P22: =P5+P14 -> 0 | Q22: =Q5+Q14 -> 0 | R22: =R5+R14 -> 0 | S22: =S5+S14 -> 0
A23: Grupa taryfowa B (odbiorcy pobierający energię elektryczną na cele producyjne i usługowe na średnim napięciu) | B23: =B6+B15 -> 20 | C23: =C6+C15 -> 44272 | D23: =D6+D15 -> 21 | E23: =E6+E15 -> 45002 | F23: =F6+F15 -> 22 | G23: =G6+G15 -> 54405 | H23: =H6+H15 -> 23 | I23: =I6+I15 -> 59081 | K23: Grupa taryfowa B (odbiorcy pobierający energię elektryczną na cele producyjne i usługowe na średnim napięciu) | L23: =L6+L15 -> 0 | M23: =M6+M15 -> 0 | N23: =N6+N15 -> 0 | O23: =O6+O15 -> 0 | P23: =P6+P15 -> 0 | Q23: =Q6+Q15 -> 0 | R23: =R6+R15 -> 0 | S23: =S6+S15 -> 0
A24: Grupa taryfowa C (odbiorcy pobierający energię elektryczną na cele producyjne i usługowe na niskim napięciu) | B24: =B7+B16 -> 1115 | C24: =C7+C16 -> 17620 | D24: =D7+D16 -> 1077 | E24: =E7+E16 -> 17061 | F24: =F7+F16 -> 1051 | G24: =G7+G16 -> 16854 | H24: =H7+H16 -> 1024 | I24: =I7+I16 -> 16180 | K24: Grupa taryfowa C (odbiorcy pobierający energię elektryczną na cele producyjne i usługowe na niskim napięciu) | L24: =L7+L16 -> 0 | M24: =M7+M16 -> 0 | N24: =N7+N16 -> 0 | O24: =O7+O16 -> 0 | P24: =P7+P16 -> 0 | Q24: =Q7+Q16 -> 0 | R24: =R7+R16 -> 0 | S24: =S7+S16 -> 0
A25: Grupa taryfowa G (odbiorcy komunalno-bytowi na niskim napięciu) | B25: =L25*$B$30 -> 11548.88 | C25: =M25*$B$30 -> 24118.76 | D25: =N25*$B$30 -> 11577.629 | E25: =O25*$B$30 -> 24437.874 | F25: =P25*$B$30 -> 11608.021 | G25: =Q25*$B$30 -> 24656.777 | H25: =R25*$B$30 -> 11601.86 | I25: =S25*$B$30 -> 24625.153 | K25: Grupa taryfowa G (odbiorcy komunalno-bytowi na niskim napięciu) | L25: =L8+L17 -> 28120 | M25: =M8+M17 -> 58726 | N25: =N8+N17 -> 28190 | O25: =O8+O17 -> 59503 | P25: =P8+P17 -> 28264 | Q25: =Q8+Q17 -> 60036 | R25: =R8+R17 -> 28249 | S25: =S8+S17 -> 59959
B26: =SUM(B22:B25) -> 12683.88 | C26: =SUM(C22:C25) -> 214273.76 | D26: =SUM(D22:D25) -> 12675.629 | E26: =SUM(E22:E25) -> 223189.87 | F26: =SUM(F22:F25) -> 12681.021 | G26: =SUM(G22:G25) -> 232408.78 | H26: =SUM(H22:H25) -> 12648.86 | I26: =SUM(I22:I25) -> 228900.15 | L26: =L9+L18 -> 28120 | M26: =M9+M18 -> 58726 | N26: =N9+N18 -> 28190 | O26: =O9+O18 -> 59503 | P26: =P9+P18 -> 28264 | Q26: =Q9+Q18 -> 60036 | R26: =R9+R18 -> 28249 | S26: =S9+S18 -> 59959
B30: =30515/74300 -> 0.41069987
C32: 10-49 | D32: 50-249 | E32: 250-999 | F32: 1000-
B33: Powiat | C33: 207 | D33: 43 | E33: 4 | F33: 1
B34: Strzelce | C34: 94 | D34: 27 | E34: 4 | F34: 1
