Workbook

Sheet START
B3: Gmina Strzelce Opolskie
B4: Plac Myśliwca 1
B5: 47-100 Strzelce Opolskie
B7: Budżet 2022 :: rejestr zmian
B9: Uchwała Nr XLVI/381/2021 Rady Miejskiej w Strzelcach Opolskich z dnia 22 grudnia 2021 r.
B10: w sprawie uchwały budżetowej gminy Strzelce Opolskie na 2022 rok z późn. zm.
B13: Opracowanie: | D13: Piotr Szuba
D14: p.szuba@strzelceopolskie.eu
D15: Skarbnik Gminy
D17: Tel. +48 77 404 93 30 | Fax +48 77 461 44 22 | Tel. kom. +48 605 724 654
D19: FACEBOOK: https://www.facebook.com/szuba76 | TWITTER: https://twitter.com/piotr_szuba
D20: INSTAGRAM: https://www.instagram.com/szuba76
D22: #b22 #budzetso2022 #gminastrzelceopolskie #szuba76

Sheet Budżet 2022 - Dochody
A1: ZMIANY W DOCHODACH BUDŻETU GMINY STRZELCE OPOLSKIE W 2022 ROKU
A2: Dokument | B2: Data | C2: Kwota ogółem | D2: w tym:
D3: ZADANIA WŁASNE | E3: ZADANIA ZLECONE | F3: ZADANIA POWIERZONE
A4: 1 | B4: 2 | C4: 3 | D4: 4 | E4: 5 | F4: 6
A5: OGÓŁEM PO ZMIANACH | B5: x | C5: =SUM(C6:C100) -> 1.4579641e+08 | D5: =SUM(D6:D100) -> 1.2403672e+08 | E5: =SUM(E6:E100) -> 21682685 | F5: =SUM(F6:F100) -> 77000
A6: Uchwała RM XLVI/381/2021 | B6: 44552 | C6: =SUM(D6:F6) -> 144960000 | D6: 123407523 | E6: 21522477 | F6: 30000
A7: Zarządzenie Nr 19/2022 | B7: 44588 | C7: =SUM(D7:F7) -> 3343.15 | D7: 0 | E7: 3343.15 | F7: 0
A8: Zarządzenie Nr 34/2022 | B8: 44616 | C8: =SUM(D8:F8) -> 364075.59 | D8: 364075.59 | E8: 0 | F8: 0
A9: Zarządzenie Nr 52/2022 | B9: 44637 | C9: =SUM(D9:F9) -> 203864.71 | D9: 0 | E9: 156864.71 | F9: 47000
A10: Zarządzenie Nr 58/2022 | B10: 44651 | C10: =SUM(D10:F10) -> 258620 | D10: 258620 | E10: 0 | F10: 0
A11: Zarządzenie Nr 59/2022 | B11: 44651 | C11: =SUM(D11:F11) -> 6506 | D11: 6506 | E11: 0 | F11: 0

Sheet Budżet 2022 - Wydatki
A1: ZMIANY W WYDATKACH BUDŻETU GMINY STRZELCE OPOLSKIE W 2022 ROKU
A2: Dokument | B2: Data | C2: Kwota ogółem | D2: w tym:
D3: ZADANIA WŁASNE | E3: ZADANIA ZLECONE | F3: ZADANIA POWIERZONE
A4: 1 | B4: 2 | C4: 3 | D4: 4 | E4: 5 | F4: 6
A5: OGÓŁEM PO ZMIANACH | B5: x | C5: =SUM(C6:C100) -> 1.5972641e+08 | D5: =SUM(D6:D100) -> 1.3788372e+08 | E5: =SUM(E6:E100) -> 21682685 | F5: =SUM(F6:F100) -> 160000
A6: Uchwała RM XLVI/381/2021 | B6: 44552 | C6: =SUM(D6:F6) -> 158380000 | D6: 136744523 | E6: 21522477 | F6: 113000
A7: Zarządzenie Nr 8/2022 | B7: 44574 | C7: =SUM(D7:F7) -> 0 | D7: 0 | E7: 0 | F7: 0
A8: Zarządzenie Nr 19/2022 | B8: 44588 | C8: =SUM(D8:F8) -> 3343.15 | D8: 0 | E8: 3343.15 | F8: 0
A9: Zarządzenie Nr 32/2022 | B9: 44610 | C9: =SUM(D9:F9) -> 0 | D9: 0 | E9: 0 | F9: 0
A10: Zarządzenie Nr 34/2022 | B10: 44616 | C10: =SUM(D10:F10) -> 364075.59 | D10: 364075.59 | E10: 0 | F10: 0
A11: Zarządzenie Nr 43/2022 | B11: 44621 | C11: =SUM(D11:F11) -> 0 | D11: 0 | E11: 0 | F11: 0
A12: Zarządzenie Nr 52/2022 | B12: 44637 | C12: =SUM(D12:F12) -> 203864.71 | D12: 0 | E12: 156864.71 | F12: 47000
A13: Zarządzenie Nr 58/2022 | B13: 44651 | C13: =SUM(D13:F13) -> 768620 | D13: 768620 | E13: 0 | F13: 0
A14: Zarządzenie Nr 59/2022 | B14: 44651 | C14: =SUM(D14:F14) -> 6506 | D14: 6506 | E14: 0 | F14: 0
A15: Zarządzenie Nr 60/2022 | B15: 44651 | C15: =SUM(D15:F15) -> 0 | D15: 0 | E15: 0 | F15: 0

Sheet Budżet 2022 - po zmianach
BG1: w złotych
A2: Wyszczególnienie | B2: Budżet na 2022 rok wg URMSO Nr XLVI/381/2021 z dnia 22.12.2021 r. | C2: Zarządzenie Nr 8/2022 BSO z dnia 13.01.2022 r. [ZmNr01] [W] WYS:20220218 UPO:20220218 | D2: Zarządzenie Nr 19/2022 BSO z dnia 27.01.2022 r. [ZmNr02] [D] WYS:20220227 UPO:20220227 | E2: Zarządzenie Nr 32/2022 BSO z dnia 18.02.2022 r. [ZmNr03] [W] WYS:20220307 UPO:20220307 | F2: URMSO Nr XLIX/396/2022 z dnia 23.02.2021 r. [ZmNr04] | G2: Zarządzenie Nr 43/2022 BSO z dnia 1.03.2022 r. [ZmNr05] [R] WYS:20220316 UPO:20220316 | H2: Zarządzenie Nr 52/2022 BSO z dnia 17.03.2022 r. [ZmNr06] [D] WYS:20220405 UPO:20220405 | I2: URMSO Nr L/408/2022 z dnia 30.03.2021 r. [ZmNr07] | J2: Zarządzenie Nr 59/2022 BSO z dnia 31.03.2022 r. [ZmNr08] [D] WYS:20220411 UPO:20220411 | K2: Zarządzenie Nr 60/2022 BSO z dnia 31.03.2022 r. [ZmNr09] [W] WYS:202204?? UPO:202204?? | L2: -- | M2: -- | N2: -- | O2: -- | P2: -- | Q2: -- | R2: -- | S2: -- | T2: -- | U2: -- | V2: -- | W2: -- | X2: -- | Y2: -- | Z2: -- | AA2: -- | AB2: -- | AC2: -- | AD2: -- | AE2: -- | AF2: -- | AG2: -- | AH2: -- | AI2: -- | AJ2: -- | AK2: -- | AL2: -- | AM2: -- | AN2: -- | AO2: -- | AP2: -- | AQ2: -- | AR2: -- | AS2: -- | AT2: -- | AU2: -- | AV2: -- | AW2: -- | AX2: -- | AY2: -- | AZ2: -- | BA2: -- | BB2: -- | BC2: -- | BD2: -- | BE2: -- | BF2: -- | BG2: Budżet na 2022 r. stan na dzień 31.03.2022 r.
A3: DOCHODY | B3: =SUM(B5:B6) -> 144960000 | C3: =SUM(C5:C6) -> 0 | D3: =SUM(D5:D6) -> 3343.15 | E3: =SUM(E5:E6) -> 0 | F3: =SUM(F5:F6) -> 364075.59 | G3: =SUM(G5:G6) -> 0 | H3: =SUM(H5:H6) -> 203864.71 | I3: =SUM(I5:I6) -> 258620 | ... K3: =SUM(K5:K6) -> 0 | BG3: =SUM(BG5:BG6) -> 1.4579641e+08
A4: z tego:
A5: - dochody bieżące | B5: 132325000 | C5: 0 | D5: 3343.15 | E5: 0 | F5: 288766.38 | G5: 0 | H5: 203864.71 | I5: -312886 | J5: 6506 | K5: 0 | BG5: =SUM(B5:BF5) -> 1.3251459e+08
A6: - dochody majątkowe | B6: 12635000 | C6: 0 | D6: 0 | E6: 0 | F6: 75309.21 | G6: 0 | H6: 0 | I6: 571506 | J6: 0 | K6: 0 | BG6: =SUM(B6:BF6) -> 13281815
A7: PRZYCHODY | B7: 15883000 | C7: 0 | D7: 0 | E7: 0 | F7: 0 | G7: 0 | H7: 0 | I7: 510000 | J7: 0 | K7: 0 | BG7: =SUM(B7:BF7) -> 16393000
A8: RAZEM | B8: =SUM(B3,B7) -> 160843000 | C8: =SUM(C3,C7) -> 0 | D8: =SUM(D3,D7) -> 3343.15 | E8: =SUM(E3,E7) -> 0 | F8: =SUM(F3,F7) -> 364075.59 | G8: =SUM(G3,G7) -> 0 | H8: =SUM(H3,H7) -> 203864.71 | I8: =SUM(I3,I7) -> 768620 | ... K8: =SUM(K3,K7) -> 0 | BG8: =SUM(BG3,BG7) -> 1.6218941e+08
A9: WYDATKI | B9: =SUM(B11:B12) -> 158380000 | C9: =SUM(C11:C12) -> 0 | D9: =SUM(D11:D12) -> 3343.15 | E9: =SUM(E11:E12) -> 0 | F9: =SUM(F11:F12) -> 364075.59 | G9: =SUM(G11:G12) -> 0 | H9: =SUM(H11:H12) -> 203864.71 | I9: =SUM(I11:I12) -> 768620 | ... K9: =SUM(K11:K12) -> 0 | BG9: =SUM(BG11:BG12) -> 1.5972641e+08
A10: z tego:
A11: - wydatki bieżące | B11: 136630000 | C11: 0 | D11: 3343.15 | E11: 0 | F11: 288766.38 | G11: 0 | H11: 203864.71 | I11: -311120 | J11: 6506 | K11: -76000 | BG11: =SUM(B11:BF11) -> 1.3674536e+08
A12: - wydatki majątkowe | B12: 21750000 | C12: 0 | D12: 0 | E12: 0 | F12: 75309.21 | G12: 0 | H12: 0 | I12: 1079740 | J12: 0 | K12: 76000 | BG12: =SUM(B12:BF12) -> 22981049
A13: ROZCHODY | B13: 2463000 | C13: 0 | D13: 0 | E13: 0 | F13: 0 | G13: 0 | H13: 0 | I13: 0 | J13: 0 | K13: 0 | BG13: =SUM(B13:BF13) -> 2463000
A14: RAZEM | B14: =SUM(B9,B13) -> 160843000 | C14: =SUM(C9,C13) -> 0 | D14: =SUM(D9,D13) -> 3343.15 | E14: =SUM(E9,E13) -> 0 | F14: =SUM(F9,F13) -> 364075.59 | G14: =SUM(G9,G13) -> 0 | H14: =SUM(H9,H13) -> 203864.71 | I14: =SUM(I9,I13) -> 768620 | ... K14: =SUM(K9,K13) -> 0 | BG14: =SUM(BG9,BG13) -> 1.6218941e+08
A15: DEFICYT | B15: =+B3-B9 -> -13420000 | C15: =+C3-C9 -> 0 | D15: =+D3-D9 -> 0 | E15: =+E3-E9 -> 0 | F15: =+F3-F9 -> 0 | G15: =+G3-G9 -> 0 | H15: =+H3-H9 -> 0 | I15: =+I3-I9 -> -510000 | ... K15: =+K3-K9 -> 0 | BG15: =+BG3-BG9 -> -13930000
A16: REZERWY
A17: rezerwa ogólna | B17: =SUM(B19:B20) -> 1010000 | C17: =SUM(C19:C20) -> 0 | D17: =SUM(D19:D20) -> 0 | E17: =SUM(E19:E20) -> 0 | F17: =SUM(F19:F20) -> 0 | G17: =SUM(G19:G20) -> 0 | H17: =SUM(H19:H20) -> 0 | I17: =SUM(I19:I20) -> 0 | ... K17: =SUM(K19:K20) -> 0 | BG17: =SUM(BG19:BG20) -> 1010000
A18: z tego:
A19: - na wydatki bieżące [ROB - 758.75818.4810] | B19: 610000 | C19: 0 | D19: 0 | E19: 0 | F19: 0 | G19: 0 | H19: 0 | I19: 0 | J19: 0 | K19: 0 | BG19: =SUM(B19:BF19) -> 610000
A20: - na wydatki i zakupy inwestycyjne [ROM - 758.75818.6800] | B20: 400000 | C20: 0 | D20: 0 | E20: 0 | F20: 0 | G20: 0 | H20: 0 | I20: 0 | J20: 0 | K20: 0 | BG20: =SUM(B20:BF20) -> 400000
A21: rezerwy celowe | B21: =SUM(B23:B23) -> 400000 | C21: =SUM(C23:C23) -> 0 | D21: =SUM(D23:D23) -> 0 | E21: =SUM(E23:E23) -> 0 | F21: =SUM(F23:F23) -> 0 | G21: =SUM(G23:G23) -> -100000 | H21: =SUM(H23:H23) -> 0 | I21: =SUM(I23:I23) -> 0 | ... K21: =SUM(K23:K23) -> 0 | BG21: =SUM(BG23:BG23) -> 300000
A22: z tego:
A23: - na realizację zadań z zakresu zarządzania kryzysowego [RCB - 758.75818.4810] | B23: 400000 | C23: 0 | D23: 0 | E23: 0 | F23: 0 | G23: -100000 | H23: 0 | I23: 0 | J23: 0 | K23: 0 | BG23: =SUM(B23:BF23) -> 300000
A26: BSO - Burmistrz Strzelec Opolskich
A27: ROB - rezerwa ogólna bieżąca
A28: ROM - rezerwa ogólna majątkowa
A29: RCB - rezerwa celowa bieżąca
A30: RCM - rezerwa celowa majątkowa

Sheet CHECKLIST
A3: Kwota ogółem (D) - Tab. Nr 1 | B3: ='Budżet 2022 - Dochody'!$C$5 -> 1.4579641e+08
A4: Kwota ogółem (D) - Tab. Nr 3 | B4: ='Budżet 2022 - po zmianach'!$BG$3 -> 1.4579641e+08
A5: Warunek spełniony? | B5: =IF((B3-B4)=0,"OK","Błąd!") -> Błąd!
A7: Kwota ogółem (W) - Tab. Nr 2 | B7: ='Budżet 2022 - Wydatki'!$C$5 -> 1.5972641e+08
A8: Kwota ogółem (W) - Tab. Nr 3 | B8: ='Budżet 2022 - po zmianach'!$BG$9 -> 1.5972641e+08
A9: Warunek spełniony? | B9: =IF((B7-B8)=0,"OK","Błąd!") -> OK
A11: Kwota ogółem (D) [ZZ] - Tab. Nr 1 | B11: ='Budżet 2022 - Dochody'!$E$5 -> 21682685
A12: Kwota ogółem (W) [ZZ] - Tab. Nr 2 | B12: ='Budżet 2022 - Wydatki'!$E$5 -> 21682685
A13: Warunek spełniony? | B13: =IF((B11-B12)=0,"OK","Błąd!") -> OK
