Workbook

Sheet START
B3: Gmina Strzelce Opolskie
B4: Plac Myśliwca 1
B5: 47-100 Strzelce Opolskie
B7: Budżet 2022 :: rejestr zmian
B9: Uchwała Nr XLVI/381/2021 Rady Miejskiej w Strzelcach Opolskich z dnia 22 grudnia 2021 r.
B10: w sprawie uchwały budżetowej gminy Strzelce Opolskie na 2022 rok z późn. zm.
B13: Opracowanie: | D13: Piotr Szuba
D14: p.szuba@strzelceopolskie.eu
D15: Skarbnik Gminy
D17: Tel. +48 77 404 93 30 | Fax +48 77 461 44 22 | Tel. kom. +48 605 724 654
D19: FACEBOOK: https://www.facebook.com/szuba76 | TWITTER: https://twitter.com/piotr_szuba
D20: INSTAGRAM: https://www.instagram.com/szuba76
D22: #b22 #budzetso2022 #gminastrzelceopolskie #szuba76

Sheet Budżet 2022 - Dochody
A1: ZMIANY W DOCHODACH BUDŻETU GMINY STRZELCE OPOLSKIE W 2022 ROKU
A2: Dokument | B2: Data | C2: Kwota ogółem | D2: w tym:
D3: ZADANIA WŁASNE | E3: ZADANIA ZLECONE | F3: ZADANIA POWIERZONE
A4: 1 | B4: 2 | C4: 3 | D4: 4 | E4: 5 | F4: 6
A5: OGÓŁEM PO ZMIANACH | B5: x | C5: =SUM(C6:C100) -> 1.5597102e+08 | D5: =SUM(D6:D100) -> 1.3247489e+08 | E5: =SUM(E6:E100) -> 23419138 | F5: =SUM(F6:F100) -> 77000
A6: Uchwała RM XLVI/381/2021 | B6: 44552 | C6: =SUM(D6:F6) -> 144960000 | D6: 123407523 | E6: 21522477 | F6: 30000
A7: Zarządzenie Nr 19/2022 | B7: 44588 | C7: =SUM(D7:F7) -> 3343.15 | D7: 0 | E7: 3343.15 | F7: 0
A8: Zarządzenie Nr 34/2022 | B8: 44616 | C8: =SUM(D8:F8) -> 364075.59 | D8: 364075.59 | E8: 0 | F8: 0
A9: Zarządzenie Nr 52/2022 | B9: 44637 | C9: =SUM(D9:F9) -> 203864.71 | D9: 0 | E9: 156864.71 | F9: 47000
A10: Zarządzenie Nr 58/2022 | B10: 44651 | C10: =SUM(D10:F10) -> 258620 | D10: 258620 | E10: 0 | F10: 0
A11: Zarządzenie Nr 59/2022 | B11: 44651 | C11: =SUM(D11:F11) -> 6506 | D11: 6506 | E11: 0 | F11: 0
A12: Zarządzenie Nr 63/2022 | B12: 44656 | C12: =SUM(D12:F12) -> 103000 | D12: 103000 | E12: 0 | F12: 0
A13: Zarządzenie Nr 70/2022 | B13: 44670 | C13: =SUM(D13:F13) -> 561000 | D13: 0 | E13: 561000 | F13: 0
A14: Zarządzenie Nr 76/2022 | B14: 44672 | C14: =SUM(D14:F14) -> 141800 | D14: 141800 | E14: 0 | F14: 0
A15: Zarządzenie Nr 78/2022 | B15: 44677 | C15: =SUM(D15:F15) -> 633401.6 | D15: 0 | E15: 633401.6 | F15: 0
A16: Zarządzenie Nr 79/2022 | B16: 44677 | C16: =SUM(D16:F16) -> 71134.15 | D16: 71134.15 | E16: 0 | F16: 0
A17: Zarządzenie Nr 86/2022 | B17: 44687 | C17: =SUM(D17:F17) -> 376768 | D17: 376768 | E17: 0 | F17: 0
... A36: Zarządzenie Nr 159/2022 | B36: 44770 | C36: =SUM(D36:F36) -> 3890000 | D36: 3890000 | E36: 0 | F36: 0

Sheet Budżet 2022 - Wydatki
A1: ZMIANY W WYDATKACH BUDŻETU GMINY STRZELCE OPOLSKIE W 2022 ROKU
A2: Dokument | B2: Data | C2: Kwota ogółem | D2: w tym:
D3: ZADANIA WŁASNE | E3: ZADANIA ZLECONE | F3: ZADANIA POWIERZONE
A4: 1 | B4: 2 | C4: 3 | D4: 4 | E4: 5 | F4: 6
A5: OGÓŁEM PO ZMIANACH | B5: x | C5: =SUM(C6:C100) -> 1.7316102e+08 | D5: =SUM(D6:D100) -> 1.4958189e+08 | E5: =SUM(E6:E100) -> 23419138 | F5: =SUM(F6:F100) -> 160000
A6: Uchwała RM XLVI/381/2021 | B6: 44552 | C6: =SUM(D6:F6) -> 158380000 | D6: 136744523 | E6: 21522477 | F6: 113000
A7: Zarządzenie Nr 8/2022 | B7: 44574 | C7: =SUM(D7:F7) -> 0 | D7: 0 | E7: 0 | F7: 0
A8: Zarządzenie Nr 19/2022 | B8: 44588 | C8: =SUM(D8:F8) -> 3343.15 | D8: 0 | E8: 3343.15 | F8: 0
A9: Zarządzenie Nr 32/2022 | B9: 44610 | C9: =SUM(D9:F9) -> 0 | D9: 0 | E9: 0 | F9: 0
A10: Zarządzenie Nr 34/2022 | B10: 44616 | C10: =SUM(D10:F10) -> 364075.59 | D10: 364075.59 | E10: 0 | F10: 0
A11: Zarządzenie Nr 43/2022 | B11: 44621 | C11: =SUM(D11:F11) -> 0 | D11: 0 | E11: 0 | F11: 0
A12: Zarządzenie Nr 52/2022 | B12: 44637 | C12: =SUM(D12:F12) -> 203864.71 | D12: 0 | E12: 156864.71 | F12: 47000
A13: Zarządzenie Nr 58/2022 | B13: 44651 | C13: =SUM(D13:F13) -> 768620 | D13: 768620 | E13: 0 | F13: 0
A14: Zarządzenie Nr 59/2022 | B14: 44651 | C14: =SUM(D14:F14) -> 6506 | D14: 6506 | E14: 0 | F14: 0
A15: Zarządzenie Nr 60/2022 | B15: 44651 | C15: =SUM(D15:F15) -> 0 | D15: 0 | E15: 0 | F15: 0
A16: Zarządzenie Nr 63/2022 | B16: 44656 | C16: =SUM(D16:F16) -> 103000 | D16: 103000 | E16: 0 | F16: 0
A17: Zarządzenie Nr 69/2022 | B17: 44665 | C17: =SUM(D17:F17) -> 0 | D17: 0 | E17: 0 | F17: 0
... A46: Zarządzenie Nr 159/2022 | B46: 44770 | C46: =SUM(D46:F46) -> 5125000 | D46: 5125000 | E46: 0 | F46: 0

Sheet Budżet 2022 - po zmianach
BG1: w złotych
A2: Wyszczególnienie | B2: Budżet na 2022 rok wg URMSO Nr XLVI/381/2021 z dnia 22.12.2021 r. | C2: Zarządzenie Nr 8/2022 BSO z dnia 13.01.2022 r. [ZmNr01] [W] WYS:20220218 UPO:20220218 | D2: Zarządzenie Nr 19/2022 BSO z dnia 27.01.2022 r. [ZmNr02] [D] WYS:20220227 UPO:20220227 | E2: Zarządzenie Nr 32/2022 BSO z dnia 18.02.2022 r. [ZmNr03] [W] WYS:20220307 UPO:20220307 | F2: URMSO Nr XLIX/396/2022 z dnia 23.02.2021 r. [ZmNr04] | G2: Zarządzenie Nr 43/2022 BSO z dnia 1.03.2022 r. [ZmNr05] [R] WYS:20220316 UPO:20220316 | H2: Zarządzenie Nr 52/2022 BSO z dnia 17.03.2022 r. [ZmNr06] [D] WYS:20220405 UPO:20220405 | I2: URMSO Nr L/408/2022 z dnia 30.03.2021 r. [ZmNr07] | J2: Zarządzenie Nr 59/2022 BSO z dnia 31.03.2022 r. [ZmNr08] [D] WYS:20220411 UPO:20220411 | K2: Zarządzenie Nr 60/2022 BSO z dnia 31.03.2022 r. [ZmNr09] [W] WYS:20220419 UPO:20220419 | L2: Zarządzenie Nr 63/2022 BSO z dnia 5.04.2022 r. [ZmNr10] [B] WYS:20220420 UPO:20220420 | M2: Zarządzenie Nr 69/2022 BSO z dnia 14.04.2022 r. [ZmNr11] [W] WYS:20220511 UPO:20220511 | N2: Zarządzenie Nr 70/2022 BSO z dnia 19.04.2022 r. [ZmNr12] [D] WYS:20220516 UPO:20220516 | O2: Zarządzenie Nr 76/2022 BSO z dnia 21.04.2022 r. [ZmNr13] [B] WYS:20220516 UPO:20220516 | P2: Zarządzenie Nr 78/2022 BSO z dnia 26.04.2022 r. [ZmNr14] [D] WYS:20220525 UPO:20220525 | Q2: Zarządzenie Nr 79/2022 BSO z dnia 26.04.2022 r. [ZmNr15] [B] WYS:20220603 UPO:20220603 | R2: Zarządzenie Nr 86/2022 BSO z dnia 6.05.2022 r. [ZmNr16] [B] WYS:20220615 UPO:20220615 | S2: Zarządzenie Nr 87/2022 BSO z dnia 9.05.2022 r. [ZmNr17] [R] WYS:20220623 UPO:20220623 | T2: Zarządzenie Nr 89/2022 BSO z dnia 10.05.2022 r. [ZmNr18] [B] WYS:20220627 UPO:20220627 | U2: Zarządzenie Nr 90/2022 BSO z dnia 11.05.2022 r. [ZmNr19] [W] WYS:20220723 UPO:20220723 | V2: Zarządzenie Nr 106/2022 BSO z dnia 20.05.2022 r. [ZmNr20] [D] WYS:20220729 UPO:20220729 | W2: Zarządzenie Nr 107/2022 BSO z dnia 20.05.2022 r. [ZmNr21] [B] WYS:20220804 UPO:20220804 | X2: URMSO Nr LII/423/2022 z dnia 25.05.2021 r. [ZmNr22] | Y2: Zarządzenie Nr 110/2022 BSO z dnia 26.05.2022 r. [ZmNr23] [D] WYS:202205?? UPO:202205?? | Z2: Zarządzenie Nr 116/2022 BSO z dnia 27.05.2022 r. [ZmNr24] [B] WYS:202205?? UPO:202205?? | AA2: Zarządzenie Nr 117/2022 BSO z dnia 1.06.2022 r. [ZmNr25] [B] WYS:202206?? UPO:202206?? | AB2: Zarządzenie Nr 118/2022 BSO z dnia 6.06.2022 r. [ZmNr26] [B] WYS:202206?? UPO:202206?? | AC2: Zarządzenie Nr 127/2022 BSO z dnia 14.06.2022 r. [ZmNr27] [B] WYS:202206?? UPO:202206?? | AD2: Zarządzenie Nr 128/2022 BSO z dnia 17.06.2022 r. [ZmNr28] [D] WYS:202206?? UPO:202206?? | AE2: Zarządzenie Nr 129/2022 BSO z dnia 20.06.2022 r. [ZmNr29] [W] WYS:202206?? UPO:202206?? | AF2: Zarządzenie Nr 130/2022 BSO z dnia 23.06.2022 r. [ZmNr30] [B] WYS:202206?? UPO:202206?? | AG2: URMSO Nr LIII/428/2022 z dnia 29.06.2021 r. [ZmNr31] | AH2: Zarządzenie Nr 139/2022 BSO z dnia 30.06.2022 r. [ZmNr32] [B] WYS:202206?? UPO:202206?? | AI2: Zarządzenie Nr 140/2022 BSO z dnia 30.06.2022 r. [ZmNr33] [D] WYS:202206?? UPO:202206?? | AJ2: Zarządzenie Nr 141/2022 BSO z dnia 6.07.2022 r. [ZmNr34] [B] WYS:202207?? UPO:202207?? | AK2: Zarządzenie Nr 145/2022 BSO z dnia 8.07.2022 r. [ZmNr35] [W] WYS:202207?? UPO:202207?? | AL2: Zarządzenie Nr 150/2022 BSO z dnia 18.07.2022 r. [ZmNr36] [B] WYS:202207?? UPO:202207?? | AM2: Zarządzenie Nr 151/2022 BSO z dnia 18.07.2022 r. [ZmNr37] [D] WYS:202207?? UPO:202207?? | AN2: Zarządzenie Nr 152/2022 BSO z dnia 20.07.2022 r. [ZmNr38] [B] WYS:202207?? UPO:202207?? | AO2: Zarządzenie Nr 153/2022 BSO z dnia 22.07.2022 r. [ZmNr39] [W] WYS:202207?? UPO:202207?? | AP2: URMSO Nr LIV/445/2022 z dnia 27.07.2021 r. [ZmNr40] | AQ2: -- | AR2: -- | AS2: -- | AT2: -- | AU2: -- | AV2: -- | AW2: -- | AX2: -- | AY2: -- | AZ2: -- | BA2: -- | BB2: -- | BC2: -- | BD2: -- | BE2: -- | BF2: -- | BG2: Budżet na 2022 r. stan na dzień 28.07.2022 r.
A3: DOCHODY | B3: =SUM(B5:B6) -> 144960000 | C3: =SUM(C5:C6) -> 0 | D3: =SUM(D5:D6) -> 3343.15 | E3: =SUM(E5:E6) -> 0 | F3: =SUM(F5:F6) -> 364075.59 | G3: =SUM(G5:G6) -> 0 | H3: =SUM(H5:H6) -> 203864.71 | I3: =SUM(I5:I6) -> 258620 | ... AP3: =SUM(AP5:AP6) -> 3890000 | BG3: =SUM(BG5:BG6) -> 155971023
A4: z tego:
A5: - dochody bieżące | B5: 132325000 | C5: 0 | D5: 3343.15 | E5: 0 | F5: 288766.38 | G5: 0 | H5: 203864.71 | I5: -312886 | J5: 6506 | K5: 0 | L5: 103000 | M5: 0 | N5: 561000 | O5: 141800 | P5: 633401.6 | Q5: 71134.15 | R5: 376768 | S5: 0 | T5: 141620 | U5: 0 | V5: 331731 | W5: 255663.65 | X5: 478500 | Y5: 45000 | Z5: 173740 | AA5: 308440 | AB5: 181713 | AC5: 350600 | AD5: 201271.15 | AE5: 0 | AF5: 152227.84 | AG5: 992947.26 | AH5: 141040 | AI5: 16080 | AJ5: 154000 | AK5: 0 | AL5: 354310 | AM5: 90000 | AN5: 1573.16 | AO5: 0 | AP5: 630000 | BG5: =SUM(B5:BF5) -> 1.3940216e+08
A6: - dochody majątkowe | B6: 12635000 | C6: 0 | D6: 0 | E6: 0 | F6: 75309.21 | G6: 0 | H6: 0 | I6: 571506 | J6: 0 | K6: 0 | L6: 0 | M6: 0 | N6: 0 | O6: 0 | P6: 0 | Q6: 0 | R6: 0 | S6: 0 | T6: 0 | U6: 0 | V6: 0 | W6: 0 | X6: 0 | Y6: 0 | Z6: 0 | AA6: 0 | AB6: 0 | AC6: 0 | AD6: 0 | AE6: 0 | AF6: 0 | AG6: 27052.74 | AH6: 0 | AI6: 0 | AJ6: 0 | AK6: 0 | AL6: 0 | AM6: 0 | AN6: 0 | AO6: 0 | AP6: 3260000 | BG6: =SUM(B6:BF6) -> 16568868
A7: PRZYCHODY | B7: 15883000 | C7: 0 | D7: 0 | E7: 0 | F7: 0 | G7: 0 | H7: 0 | I7: 510000 | J7: 0 | K7: 0 | L7: 0 | M7: 0 | N7: 0 | O7: 0 | P7: 0 | Q7: 0 | R7: 0 | S7: 0 | T7: 0 | U7: 0 | V7: 0 | W7: 0 | X7: 600000 | Y7: 0 | Z7: 0 | AA7: 0 | AB7: 0 | AC7: 0 | AD7: 0 | AE7: 0 | AF7: 0 | AG7: 1125000 | AH7: 0 | AI7: 0 | AJ7: 0 | AK7: 0 | AL7: 0 | AM7: 0 | AN7: 0 | AO7: 0 | AP7: 1235000 | BG7: =SUM(B7:BF7) -> 19353000
A8: RAZEM | B8: =SUM(B3,B7) -> 160843000 | C8: =SUM(C3,C7) -> 0 | D8: =SUM(D3,D7) -> 3343.15 | E8: =SUM(E3,E7) -> 0 | F8: =SUM(F3,F7) -> 364075.59 | G8: =SUM(G3,G7) -> 0 | H8: =SUM(H3,H7) -> 203864.71 | I8: =SUM(I3,I7) -> 768620 | ... AP8: =SUM(AP3,AP7) -> 5125000 | BG8: =SUM(BG3,BG7) -> 175324023
A9: WYDATKI | B9: =SUM(B11:B12) -> 158380000 | C9: =SUM(C11:C12) -> 0 | D9: =SUM(D11:D12) -> 3343.15 | E9: =SUM(E11:E12) -> 0 | F9: =SUM(F11:F12) -> 364075.59 | G9: =SUM(G11:G12) -> 0 | H9: =SUM(H11:H12) -> 203864.71 | I9: =SUM(I11:I12) -> 768620 | ... AP9: =SUM(AP11:AP12) -> 5125000 | BG9: =SUM(BG11:BG12) -> 1.7316102e+08
A10: z tego:
A11: - wydatki bieżące | B11: 136630000 | C11: 0 | D11: 3343.15 | E11: 0 | F11: 288766.38 | G11: 0 | H11: 203864.71 | I11: -311120 | J11: 6506 | K11: -76000 | L11: 103000 | M11: -169000 | N11: 561000 | O11: 141800 | P11: 633401.6 | Q11: 71134.15 | R11: 376768 | S11: 0 | T11: 141620 | U11: 0 | V11: 331731 | W11: 255663.65 | X11: 1318500 | Y11: 45000 | Z11: 173740 | AA11: 308440 | AB11: 181713 | AC11: 350600 | AD11: 201271.15 | AE11: 0 | AF11: 152227.84 | AG11: 1840000 | AH11: 141040 | AI11: 16080 | AJ11: 154000 | AK11: 0 | AL11: 354310 | AM11: 90000 | AN11: 1573.16 | AO11: 0 | AP11: 1698980 | BG11: =SUM(B11:BF11) -> 1.4621995e+08
A12: - wydatki majątkowe | B12: 21750000 | C12: 0 | D12: 0 | E12: 0 | F12: 75309.21 | G12: 0 | H12: 0 | I12: 1079740 | J12: 0 | K12: 76000 | L12: 0 | M12: 169000 | N12: 0 | O12: 0 | P12: 0 | Q12: 0 | R12: 0 | S12: 0 | T12: 0 | U12: 0 | V12: 0 | W12: 0 | X12: 60000 | Y12: 0 | Z12: 0 | AA12: 0 | AB12: 0 | AC12: 0 | AD12: 0 | AE12: 0 | AF12: 0 | AG12: 305000 | AH12: 0 | AI12: 0 | AJ12: 0 | AK12: 0 | AL12: 0 | AM12: 0 | AN12: 0 | AO12: 0 | AP12: 3426020 | BG12: =SUM(B12:BF12) -> 26941069
A13: ROZCHODY | B13: 2463000 | C13: 0 | D13: 0 | E13: 0 | F13: 0 | G13: 0 | H13: 0 | I13: 0 | J13: 0 | K13: 0 | L13: 0 | M13: 0 | N13: 0 | O13: 0 | P13: 0 | Q13: 0 | R13: 0 | S13: 0 | T13: 0 | U13: 0 | V13: 0 | W13: 0 | X13: -300000 | Y13: 0 | Z13: 0 | AA13: 0 | AB13: 0 | AC13: 0 | AD13: 0 | AE13: 0 | AF13: 0 | AG13: 0 | AH13: 0 | AI13: 0 | AJ13: 0 | AK13: 0 | AL13: 0 | AM13: 0 | AN13: 0 | AO13: 0 | AP13: 0 | BG13: =SUM(B13:BF13) -> 2163000
A14: RAZEM | B14: =SUM(B9,B13) -> 160843000 | C14: =SUM(C9,C13) -> 0 | D14: =SUM(D9,D13) -> 3343.15 | E14: =SUM(E9,E13) -> 0 | F14: =SUM(F9,F13) -> 364075.59 | G14: =SUM(G9,G13) -> 0 | H14: =SUM(H9,H13) -> 203864.71 | I14: =SUM(I9,I13) -> 768620 | ... AP14: =SUM(AP9,AP13) -> 5125000 | BG14: =SUM(BG9,BG13) -> 1.7532402e+08
A15: DEFICYT | B15: =+B3-B9 -> -13420000 | C15: =+C3-C9 -> 0 | D15: =+D3-D9 -> 0 | E15: =+E3-E9 -> 0 | F15: =+F3-F9 -> 0 | G15: =+G3-G9 -> 0 | H15: =+H3-H9 -> 0 | I15: =+I3-I9 -> -510000 | ... AP15: =+AP3-AP9 -> -1235000 | BG15: =+BG3-BG9 -> -17190000
A16: REZERWY
A17: rezerwa ogólna | B17: =SUM(B19:B20) -> 1010000 | C17: =SUM(C19:C20) -> 0 | D17: =SUM(D19:D20) -> 0 | E17: =SUM(E19:E20) -> 0 | F17: =SUM(F19:F20) -> 0 | G17: =SUM(G19:G20) -> 0 | H17: =SUM(H19:H20) -> 0 | I17: =SUM(I19:I20) -> 0 | ... AP17: =SUM(AP19:AP20) -> 0 | BG17: =SUM(BG19:BG20) -> 910000
A18: z tego:
A19: - na wydatki bieżące [ROB - 758.75818.4810] | B19: 610000 | C19: 0 | D19: 0 | E19: 0 | F19: 0 | G19: 0 | H19: 0 | I19: 0 | J19: 0 | K19: 0 | L19: 0 | M19: 0 | N19: 0 | O19: 0 | P19: 0 | Q19: 0 | R19: 0 | S19: -90000 | T19: 0 | U19: 0 | V19: 0 | W19: 0 | X19: 0 | Y19: 0 | Z19: 0 | AA19: 0 | AB19: 0 | AC19: 0 | AD19: 0 | AE19: 0 | AF19: 0 | AG19: 0 | AH19: 0 | AI19: 0 | AJ19: 0 | AK19: 0 | AL19: 0 | AM19: 0 | AN19: 0 | AO19: 0 | AP19: 0 | BG19: =SUM(B19:BF19) -> 520000
A20: - na wydatki i zakupy inwestycyjne [ROM - 758.75818.6800] | B20: 400000 | C20: 0 | D20: 0 | E20: 0 | F20: 0 | G20: 0 | H20: 0 | I20: 0 | J20: 0 | K20: 0 | L20: 0 | M20: 0 | N20: 0 | O20: 0 | P20: 0 | Q20: 0 | R20: 0 | S20: -10000 | T20: 0 | U20: 0 | V20: 0 | W20: 0 | X20: 0 | Y20: 0 | Z20: 0 | AA20: 0 | AB20: 0 | AC20: 0 | AD20: 0 | AE20: 0 | AF20: 0 | AG20: 0 | AH20: 0 | AI20: 0 | AJ20: 0 | AK20: 0 | AL20: 0 | AM20: 0 | AN20: 0 | AO20: 0 | AP20: 0 | BG20: =SUM(B20:BF20) -> 390000
A21: rezerwy celowe | B21: =SUM(B23:B23) -> 400000 | C21: =SUM(C23:C23) -> 0 | D21: =SUM(D23:D23) -> 0 | E21: =SUM(E23:E23) -> 0 | F21: =SUM(F23:F23) -> 0 | G21: =SUM(G23:G23) -> -100000 | H21: =SUM(H23:H23) -> 0 | I21: =SUM(I23:I23) -> 0 | ... AP21: =SUM(AP23:AP23) -> 0 | BG21: =SUM(BG23:BG23) -> 300000
A22: z tego:
A23: - na realizację zadań z zakresu zarządzania kryzysowego [RCB - 758.75818.4810] | B23: 400000 | C23: 0 | D23: 0 | E23: 0 | F23: 0 | G23: -100000 | H23: 0 | I23: 0 | J23: 0 | K23: 0 | L23: 0 | M23: 0 | N23: 0 | O23: 0 | P23: 0 | Q23: 0 | R23: 0 | S23: 0 | T23: 0 | U23: 0 | V23: 0 | W23: 0 | X23: 0 | Y23: 0 | Z23: 0 | AA23: 0 | AB23: 0 | AC23: 0 | AD23: 0 | AE23: 0 | AF23: 0 | AG23: 0 | AH23: 0 | AI23: 0 | AJ23: 0 | AK23: 0 | AL23: 0 | AM23: 0 | AN23: 0 | AO23: 0 | AP23: 0 | BG23: =SUM(B23:BF23) -> 300000
A26: BSO - Burmistrz Strzelec Opolskich
A27: ROB - rezerwa ogólna bieżąca
A28: ROM - rezerwa ogólna majątkowa
A29: RCB - rezerwa celowa bieżąca
A30: RCM - rezerwa celowa majątkowa

Sheet CHECKLIST
A3: Kwota ogółem (D) - Tab. Nr 1 | B3: =ROUND('Budżet 2022 - Dochody'!$C$5,2) -> 155971023
A4: Kwota ogółem (D) - Tab. Nr 3 | B4: =ROUND('Budżet 2022 - po zmianach'!$BG$3,2) -> 155971023
A5: Warunek spełniony? | B5: =IF((B3-B4)=0,"OK","Błąd!") -> OK
A7: Kwota ogółem (W) - Tab. Nr 2 | B7: ='Budżet 2022 - Wydatki'!$C$5 -> 1.7316102e+08
A8: Kwota ogółem (W) - Tab. Nr 3 | B8: ='Budżet 2022 - po zmianach'!$BG$9 -> 1.7316102e+08
A9: Warunek spełniony? | B9: =IF((B7-B8)=0,"OK","Błąd!") -> OK
A11: Kwota ogółem (D) [ZZ] - Tab. Nr 1 | B11: ='Budżet 2022 - Dochody'!$E$5 -> 23419138
A12: Kwota ogółem (W) [ZZ] - Tab. Nr 2 | B12: ='Budżet 2022 - Wydatki'!$E$5 -> 23419138
A13: Warunek spełniony? | B13: =IF((B11-B12)=0,"OK","Błąd!") -> OK
